BEGIN:VCALENDAR
VERSION:2.0
PRODID:-//YANA Club of Hilton Head Island - ECPv6.11.2//NONSGML v1.0//EN
CALSCALE:GREGORIAN
METHOD:PUBLISH
X-WR-CALNAME:YANA Club of Hilton Head Island
X-ORIGINAL-URL:https://yanaclub.com
X-WR-CALDESC:Events for YANA Club of Hilton Head Island
REFRESH-INTERVAL;VALUE=DURATION:PT1H
X-Robots-Tag:noindex
X-PUBLISHED-TTL:PT1H
BEGIN:VTIMEZONE
TZID:America/New_York
BEGIN:DAYLIGHT
TZOFFSETFROM:-0500
TZOFFSETTO:-0400
TZNAME:EDT
DTSTART:20290311T070000
END:DAYLIGHT
BEGIN:STANDARD
TZOFFSETFROM:-0400
TZOFFSETTO:-0500
TZNAME:EST
DTSTART:20291104T060000
END:STANDARD
END:VTIMEZONE
BEGIN:VEVENT
DTSTART;TZID=America/New_York:20290305T090000
DTEND;TZID=America/New_York:20290305T100000
DTSTAMP:20260425T235542
CREATED:20250507T155840Z
LAST-MODIFIED:20250507T155840Z
UID:10008322-1867395600-1867399200@yanaclub.com
SUMMARY:SANS (Sober Now Sane)
DESCRIPTION:Open / Discussion
URL:https://yanaclub.com/event/sans-sober-now-sane/2029-03-05/
CATEGORIES:AA
END:VEVENT
BEGIN:VEVENT
DTSTART;TZID=America/New_York:20290305T121500
DTEND;TZID=America/New_York:20290305T131500
DTSTAMP:20260425T235542
CREATED:20250507T154857Z
LAST-MODIFIED:20250507T155521Z
UID:10002449-1867407300-1867410900@yanaclub.com
SUMMARY:No Name
DESCRIPTION:Open / Topic Discussion
URL:https://yanaclub.com/event/no-name/2029-03-05/
CATEGORIES:AA
END:VEVENT
BEGIN:VEVENT
DTSTART;TZID=America/New_York:20290305T173000
DTEND;TZID=America/New_York:20290305T183000
DTSTAMP:20260425T235542
CREATED:20250507T155118Z
LAST-MODIFIED:20250507T155118Z
UID:10003940-1867426200-1867429800@yanaclub.com
SUMMARY:Serenity
DESCRIPTION:Open Discussion
URL:https://yanaclub.com/event/serenity/2029-03-05/
CATEGORIES:AA
END:VEVENT
BEGIN:VEVENT
DTSTART;TZID=America/New_York:20290306T090000
DTEND;TZID=America/New_York:20290306T100000
DTSTAMP:20260425T235542
CREATED:20250507T155840Z
LAST-MODIFIED:20250507T155840Z
UID:10008323-1867482000-1867485600@yanaclub.com
SUMMARY:SANS (Sober Now Sane)
DESCRIPTION:Open / Discussion
URL:https://yanaclub.com/event/sans-sober-now-sane/2029-03-06/
CATEGORIES:AA
END:VEVENT
BEGIN:VEVENT
DTSTART;TZID=America/New_York:20290306T121500
DTEND;TZID=America/New_York:20290306T131500
DTSTAMP:20260425T235542
CREATED:20250507T154857Z
LAST-MODIFIED:20250507T155521Z
UID:10002450-1867493700-1867497300@yanaclub.com
SUMMARY:No Name
DESCRIPTION:Open / Topic Discussion
URL:https://yanaclub.com/event/no-name/2029-03-06/
CATEGORIES:AA
END:VEVENT
BEGIN:VEVENT
DTSTART;TZID=America/New_York:20290306T173000
DTEND;TZID=America/New_York:20290306T183000
DTSTAMP:20260425T235542
CREATED:20250507T155118Z
LAST-MODIFIED:20250507T155118Z
UID:10003941-1867512600-1867516200@yanaclub.com
SUMMARY:Serenity
DESCRIPTION:Open Discussion
URL:https://yanaclub.com/event/serenity/2029-03-06/
CATEGORIES:AA
END:VEVENT
BEGIN:VEVENT
DTSTART;TZID=America/New_York:20290306T190000
DTEND;TZID=America/New_York:20290306T200000
DTSTAMP:20260425T235542
CREATED:20250507T160104Z
LAST-MODIFIED:20250507T160104Z
UID:10008830-1867518000-1867521600@yanaclub.com
SUMMARY:Mens Back to Basics
DESCRIPTION:Closed / Discussion / Mens
URL:https://yanaclub.com/event/mens-back-to-basics/2029-03-06/
CATEGORIES:AA
END:VEVENT
BEGIN:VEVENT
DTSTART;TZID=America/New_York:20290306T200000
DTEND;TZID=America/New_York:20290306T210000
DTSTAMP:20260425T235542
CREATED:20250507T160652Z
LAST-MODIFIED:20250507T160652Z
UID:10010215-1867521600-1867525200@yanaclub.com
SUMMARY:Grupo Latino
DESCRIPTION:Open / Discussion / Spanish Language
URL:https://yanaclub.com/event/grupo-latino/2029-03-06/
CATEGORIES:AA
END:VEVENT
BEGIN:VEVENT
DTSTART;TZID=America/New_York:20290307T070000
DTEND;TZID=America/New_York:20290307T080000
DTSTAMP:20260425T235542
CREATED:20250507T160920Z
LAST-MODIFIED:20250507T160920Z
UID:10010921-1867561200-1867564800@yanaclub.com
SUMMARY:Design for Living
DESCRIPTION:Closed / Discussion
URL:https://yanaclub.com/event/design-for-living/2029-03-07/
CATEGORIES:AA
END:VEVENT
BEGIN:VEVENT
DTSTART;TZID=America/New_York:20290307T090000
DTEND;TZID=America/New_York:20290307T100000
DTSTAMP:20260425T235542
CREATED:20250507T155840Z
LAST-MODIFIED:20250507T155840Z
UID:10008324-1867568400-1867572000@yanaclub.com
SUMMARY:SANS (Sober Now Sane)
DESCRIPTION:Open / Discussion
URL:https://yanaclub.com/event/sans-sober-now-sane/2029-03-07/
CATEGORIES:AA
END:VEVENT
BEGIN:VEVENT
DTSTART;TZID=America/New_York:20290307T121500
DTEND;TZID=America/New_York:20290307T131500
DTSTAMP:20260425T235542
CREATED:20250507T154857Z
LAST-MODIFIED:20250507T155521Z
UID:10002451-1867580100-1867583700@yanaclub.com
SUMMARY:No Name
DESCRIPTION:Open / Topic Discussion
URL:https://yanaclub.com/event/no-name/2029-03-07/
CATEGORIES:AA
END:VEVENT
BEGIN:VEVENT
DTSTART;TZID=America/New_York:20290307T173000
DTEND;TZID=America/New_York:20290307T183000
DTSTAMP:20260425T235542
CREATED:20250507T155118Z
LAST-MODIFIED:20250507T155118Z
UID:10003942-1867599000-1867602600@yanaclub.com
SUMMARY:Serenity
DESCRIPTION:Open Discussion
URL:https://yanaclub.com/event/serenity/2029-03-07/
CATEGORIES:AA
END:VEVENT
BEGIN:VEVENT
DTSTART;TZID=America/New_York:20290307T173000
DTEND;TZID=America/New_York:20290307T183000
DTSTAMP:20260425T235542
CREATED:20251027T215053Z
LAST-MODIFIED:20251027T215053Z
UID:10019416-1867599000-1867602600@yanaclub.com
SUMMARY:Keeping an Open Mind
DESCRIPTION:Midweek Al-Anon Open Discussion
URL:https://yanaclub.com/event/keeping-an-open-mind/2029-03-07/
CATEGORIES:AL-ANON,Recurring YANA Events
END:VEVENT
BEGIN:VEVENT
DTSTART;TZID=America/New_York:20290307T190000
DTEND;TZID=America/New_York:20290307T200000
DTSTAMP:20260425T235542
CREATED:20250507T163407Z
LAST-MODIFIED:20250507T163407Z
UID:10016581-1867604400-1867608000@yanaclub.com
SUMMARY:YANA Board of Directors
DESCRIPTION:
URL:https://yanaclub.com/event/yana-board-of-directors/2029-03-07/
CATEGORIES:Recurring YANA Events
END:VEVENT
BEGIN:VEVENT
DTSTART;TZID=America/New_York:20290307T200000
DTEND;TZID=America/New_York:20290307T210000
DTSTAMP:20260425T235542
CREATED:20250507T160652Z
LAST-MODIFIED:20250507T160652Z
UID:10010216-1867608000-1867611600@yanaclub.com
SUMMARY:Grupo Latino
DESCRIPTION:Open / Discussion / Spanish Language
URL:https://yanaclub.com/event/grupo-latino/2029-03-07/
CATEGORIES:AA
END:VEVENT
BEGIN:VEVENT
DTSTART;TZID=America/New_York:20290308T090000
DTEND;TZID=America/New_York:20290308T100000
DTSTAMP:20260425T235542
CREATED:20250507T155840Z
LAST-MODIFIED:20250507T155840Z
UID:10008325-1867654800-1867658400@yanaclub.com
SUMMARY:SANS (Sober Now Sane)
DESCRIPTION:Open / Discussion
URL:https://yanaclub.com/event/sans-sober-now-sane/2029-03-08/
CATEGORIES:AA
END:VEVENT
BEGIN:VEVENT
DTSTART;TZID=America/New_York:20290308T121500
DTEND;TZID=America/New_York:20290308T131500
DTSTAMP:20260425T235542
CREATED:20250507T154857Z
LAST-MODIFIED:20250507T155521Z
UID:10002452-1867666500-1867670100@yanaclub.com
SUMMARY:No Name
DESCRIPTION:Open / Topic Discussion
URL:https://yanaclub.com/event/no-name/2029-03-08/
CATEGORIES:AA
END:VEVENT
BEGIN:VEVENT
DTSTART;TZID=America/New_York:20290308T173000
DTEND;TZID=America/New_York:20290308T183000
DTSTAMP:20260425T235542
CREATED:20250507T155118Z
LAST-MODIFIED:20250507T155118Z
UID:10003943-1867685400-1867689000@yanaclub.com
SUMMARY:Serenity
DESCRIPTION:Open Discussion
URL:https://yanaclub.com/event/serenity/2029-03-08/
CATEGORIES:AA
END:VEVENT
BEGIN:VEVENT
DTSTART;TZID=America/New_York:20290308T184500
DTEND;TZID=America/New_York:20290308T194500
DTSTAMP:20260425T235542
CREATED:20250507T161123Z
LAST-MODIFIED:20250507T161123Z
UID:10011443-1867689900-1867693500@yanaclub.com
SUMMARY:645 YANA Womens
DESCRIPTION:Closed / Topic Discussion / Womens
URL:https://yanaclub.com/event/645-yana-womens/2029-03-08/
CATEGORIES:AA
END:VEVENT
BEGIN:VEVENT
DTSTART;TZID=America/New_York:20290308T200000
DTEND;TZID=America/New_York:20290308T210000
DTSTAMP:20260425T235542
CREATED:20250507T162741Z
LAST-MODIFIED:20250507T162741Z
UID:10015366-1867694400-1867698000@yanaclub.com
SUMMARY:Open Arms
DESCRIPTION:Open / Discussion / How It Works
URL:https://yanaclub.com/event/open-arms/2029-03-08/
CATEGORIES:NA
END:VEVENT
BEGIN:VEVENT
DTSTART;TZID=America/New_York:20290309T090000
DTEND;TZID=America/New_York:20290309T100000
DTSTAMP:20260425T235542
CREATED:20250507T155840Z
LAST-MODIFIED:20250507T155840Z
UID:10008326-1867741200-1867744800@yanaclub.com
SUMMARY:SANS (Sober Now Sane)
DESCRIPTION:Open / Discussion
URL:https://yanaclub.com/event/sans-sober-now-sane/2029-03-09/
CATEGORIES:AA
END:VEVENT
BEGIN:VEVENT
DTSTART;TZID=America/New_York:20290309T121500
DTEND;TZID=America/New_York:20290309T131500
DTSTAMP:20260425T235542
CREATED:20250507T154857Z
LAST-MODIFIED:20250507T155521Z
UID:10002453-1867752900-1867756500@yanaclub.com
SUMMARY:No Name
DESCRIPTION:Open / Topic Discussion
URL:https://yanaclub.com/event/no-name/2029-03-09/
CATEGORIES:AA
END:VEVENT
BEGIN:VEVENT
DTSTART;TZID=America/New_York:20290309T121500
DTEND;TZID=America/New_York:20290309T131500
DTSTAMP:20260425T235542
CREATED:20250507T162126Z
LAST-MODIFIED:20250507T162126Z
UID:10014320-1867752900-1867756500@yanaclub.com
SUMMARY:Friday Luncheon AFG
DESCRIPTION:Closed / Discussion
URL:https://yanaclub.com/event/friday-luncheon-afg-2/2029-03-09/
CATEGORIES:AL-ANON
END:VEVENT
BEGIN:VEVENT
DTSTART;TZID=America/New_York:20290309T180000
DTEND;TZID=America/New_York:20290309T190000
DTSTAMP:20260425T235542
CREATED:20250507T161244Z
LAST-MODIFIED:20250507T161244Z
UID:10011965-1867773600-1867777200@yanaclub.com
SUMMARY:Young Peoples
DESCRIPTION:Open / Discussion
URL:https://yanaclub.com/event/young-peoples/2029-03-09/
CATEGORIES:AA
END:VEVENT
BEGIN:VEVENT
DTSTART;TZID=America/New_York:20290309T180000
DTEND;TZID=America/New_York:20290309T190000
DTSTAMP:20260425T235542
CREATED:20250507T161346Z
LAST-MODIFIED:20250507T161346Z
UID:10012226-1867773600-1867777200@yanaclub.com
SUMMARY:Together We Can
DESCRIPTION:Open / Discussion
URL:https://yanaclub.com/event/together-we-can/2029-03-09/
CATEGORIES:AA
END:VEVENT
BEGIN:VEVENT
DTSTART;TZID=America/New_York:20290309T200000
DTEND;TZID=America/New_York:20290309T210000
DTSTAMP:20260425T235542
CREATED:20250507T160652Z
LAST-MODIFIED:20250507T160652Z
UID:10010217-1867780800-1867784400@yanaclub.com
SUMMARY:Grupo Latino
DESCRIPTION:Open / Discussion / Spanish Language
URL:https://yanaclub.com/event/grupo-latino/2029-03-09/
CATEGORIES:AA
END:VEVENT
BEGIN:VEVENT
DTSTART;TZID=America/New_York:20290310T090000
DTEND;TZID=America/New_York:20290310T100000
DTSTAMP:20260425T235542
CREATED:20250502T104804Z
LAST-MODIFIED:20250502T104804Z
UID:10000203-1867827600-1867831200@yanaclub.com
SUMMARY:Saturday Big Book Study
DESCRIPTION:Type: O/BB
URL:https://yanaclub.com/event/saturday-big-book-study/2029-03-10/
CATEGORIES:AA
END:VEVENT
BEGIN:VEVENT
DTSTART;TZID=America/New_York:20290310T121500
DTEND;TZID=America/New_York:20290310T131500
DTSTAMP:20260425T235542
CREATED:20250507T154857Z
LAST-MODIFIED:20250507T155521Z
UID:10002454-1867839300-1867842900@yanaclub.com
SUMMARY:No Name
DESCRIPTION:Open / Topic Discussion
URL:https://yanaclub.com/event/no-name/2029-03-10/
CATEGORIES:AA
END:VEVENT
BEGIN:VEVENT
DTSTART;TZID=America/New_York:20290310T173000
DTEND;TZID=America/New_York:20290310T183000
DTSTAMP:20260425T235542
CREATED:20250507T155250Z
LAST-MODIFIED:20250507T155250Z
UID:10005432-1867858200-1867861800@yanaclub.com
SUMMARY:Serenity 1st Step
DESCRIPTION:Open / Discussion / Beginners
URL:https://yanaclub.com/event/serenity-1st-step/2029-03-10/
CATEGORIES:AA
END:VEVENT
BEGIN:VEVENT
DTSTART;TZID=America/New_York:20290310T200000
DTEND;TZID=America/New_York:20290310T210000
DTSTAMP:20260425T235542
CREATED:20250507T160652Z
LAST-MODIFIED:20250507T160652Z
UID:10010218-1867867200-1867870800@yanaclub.com
SUMMARY:Grupo Latino
DESCRIPTION:Open / Discussion / Spanish Language
URL:https://yanaclub.com/event/grupo-latino/2029-03-10/
CATEGORIES:AA
END:VEVENT
END:VCALENDAR