BEGIN:VCALENDAR
VERSION:2.0
PRODID:-//YANA Club of Hilton Head Island - ECPv6.11.2//NONSGML v1.0//EN
CALSCALE:GREGORIAN
METHOD:PUBLISH
X-ORIGINAL-URL:https://yanaclub.com
X-WR-CALDESC:Events for YANA Club of Hilton Head Island
REFRESH-INTERVAL;VALUE=DURATION:PT1H
X-Robots-Tag:noindex
X-PUBLISHED-TTL:PT1H
BEGIN:VTIMEZONE
TZID:America/New_York
BEGIN:DAYLIGHT
TZOFFSETFROM:-0500
TZOFFSETTO:-0400
TZNAME:EDT
DTSTART:20290311T070000
END:DAYLIGHT
BEGIN:STANDARD
TZOFFSETFROM:-0400
TZOFFSETTO:-0500
TZNAME:EST
DTSTART:20291104T060000
END:STANDARD
END:VTIMEZONE
BEGIN:VEVENT
DTSTART;TZID=America/New_York:20290205T090000
DTEND;TZID=America/New_York:20290205T100000
DTSTAMP:20260425T205338
CREATED:20250507T155840Z
LAST-MODIFIED:20250507T155840Z
UID:10008302-1864976400-1864980000@yanaclub.com
SUMMARY:SANS (Sober Now Sane)
DESCRIPTION:Open / Discussion
URL:https://yanaclub.com/event/sans-sober-now-sane/2029-02-05/
CATEGORIES:AA
END:VEVENT
BEGIN:VEVENT
DTSTART;TZID=America/New_York:20290205T121500
DTEND;TZID=America/New_York:20290205T131500
DTSTAMP:20260425T205338
CREATED:20250507T154857Z
LAST-MODIFIED:20250507T155521Z
UID:10002421-1864988100-1864991700@yanaclub.com
SUMMARY:No Name
DESCRIPTION:Open / Topic Discussion
URL:https://yanaclub.com/event/no-name/2029-02-05/
CATEGORIES:AA
END:VEVENT
BEGIN:VEVENT
DTSTART;TZID=America/New_York:20290205T173000
DTEND;TZID=America/New_York:20290205T183000
DTSTAMP:20260425T205338
CREATED:20250507T155118Z
LAST-MODIFIED:20250507T155118Z
UID:10003924-1865007000-1865010600@yanaclub.com
SUMMARY:Serenity
DESCRIPTION:Open Discussion
URL:https://yanaclub.com/event/serenity/2029-02-05/
CATEGORIES:AA
END:VEVENT
BEGIN:VEVENT
DTSTART;TZID=America/New_York:20290206T090000
DTEND;TZID=America/New_York:20290206T100000
DTSTAMP:20260425T205338
CREATED:20250507T155840Z
LAST-MODIFIED:20250507T155840Z
UID:10008303-1865062800-1865066400@yanaclub.com
SUMMARY:SANS (Sober Now Sane)
DESCRIPTION:Open / Discussion
URL:https://yanaclub.com/event/sans-sober-now-sane/2029-02-06/
CATEGORIES:AA
END:VEVENT
BEGIN:VEVENT
DTSTART;TZID=America/New_York:20290206T121500
DTEND;TZID=America/New_York:20290206T131500
DTSTAMP:20260425T205338
CREATED:20250507T154857Z
LAST-MODIFIED:20250507T155521Z
UID:10002422-1865074500-1865078100@yanaclub.com
SUMMARY:No Name
DESCRIPTION:Open / Topic Discussion
URL:https://yanaclub.com/event/no-name/2029-02-06/
CATEGORIES:AA
END:VEVENT
BEGIN:VEVENT
DTSTART;TZID=America/New_York:20290206T173000
DTEND;TZID=America/New_York:20290206T183000
DTSTAMP:20260425T205338
CREATED:20250507T155118Z
LAST-MODIFIED:20250507T155118Z
UID:10003925-1865093400-1865097000@yanaclub.com
SUMMARY:Serenity
DESCRIPTION:Open Discussion
URL:https://yanaclub.com/event/serenity/2029-02-06/
CATEGORIES:AA
END:VEVENT
BEGIN:VEVENT
DTSTART;TZID=America/New_York:20290206T190000
DTEND;TZID=America/New_York:20290206T200000
DTSTAMP:20260425T205338
CREATED:20250507T160104Z
LAST-MODIFIED:20250507T160104Z
UID:10008826-1865098800-1865102400@yanaclub.com
SUMMARY:Mens Back to Basics
DESCRIPTION:Closed / Discussion / Mens
URL:https://yanaclub.com/event/mens-back-to-basics/2029-02-06/
CATEGORIES:AA
END:VEVENT
BEGIN:VEVENT
DTSTART;TZID=America/New_York:20290206T200000
DTEND;TZID=America/New_York:20290206T210000
DTSTAMP:20260425T205338
CREATED:20250507T160652Z
LAST-MODIFIED:20250507T160652Z
UID:10010199-1865102400-1865106000@yanaclub.com
SUMMARY:Grupo Latino
DESCRIPTION:Open / Discussion / Spanish Language
URL:https://yanaclub.com/event/grupo-latino/2029-02-06/
CATEGORIES:AA
END:VEVENT
BEGIN:VEVENT
DTSTART;TZID=America/New_York:20290207T070000
DTEND;TZID=America/New_York:20290207T080000
DTSTAMP:20260425T205338
CREATED:20250507T160920Z
LAST-MODIFIED:20250507T160920Z
UID:10010917-1865142000-1865145600@yanaclub.com
SUMMARY:Design for Living
DESCRIPTION:Closed / Discussion
URL:https://yanaclub.com/event/design-for-living/2029-02-07/
CATEGORIES:AA
END:VEVENT
BEGIN:VEVENT
DTSTART;TZID=America/New_York:20290207T090000
DTEND;TZID=America/New_York:20290207T100000
DTSTAMP:20260425T205338
CREATED:20250507T155840Z
LAST-MODIFIED:20250507T155840Z
UID:10008304-1865149200-1865152800@yanaclub.com
SUMMARY:SANS (Sober Now Sane)
DESCRIPTION:Open / Discussion
URL:https://yanaclub.com/event/sans-sober-now-sane/2029-02-07/
CATEGORIES:AA
END:VEVENT
BEGIN:VEVENT
DTSTART;TZID=America/New_York:20290207T121500
DTEND;TZID=America/New_York:20290207T131500
DTSTAMP:20260425T205338
CREATED:20250507T154857Z
LAST-MODIFIED:20250507T155521Z
UID:10002423-1865160900-1865164500@yanaclub.com
SUMMARY:No Name
DESCRIPTION:Open / Topic Discussion
URL:https://yanaclub.com/event/no-name/2029-02-07/
CATEGORIES:AA
END:VEVENT
BEGIN:VEVENT
DTSTART;TZID=America/New_York:20290207T173000
DTEND;TZID=America/New_York:20290207T183000
DTSTAMP:20260425T205338
CREATED:20250507T155118Z
LAST-MODIFIED:20250507T155118Z
UID:10003926-1865179800-1865183400@yanaclub.com
SUMMARY:Serenity
DESCRIPTION:Open Discussion
URL:https://yanaclub.com/event/serenity/2029-02-07/
CATEGORIES:AA
END:VEVENT
BEGIN:VEVENT
DTSTART;TZID=America/New_York:20290207T173000
DTEND;TZID=America/New_York:20290207T183000
DTSTAMP:20260425T205338
CREATED:20251027T215053Z
LAST-MODIFIED:20251027T215053Z
UID:10019412-1865179800-1865183400@yanaclub.com
SUMMARY:Keeping an Open Mind
DESCRIPTION:Midweek Al-Anon Open Discussion
URL:https://yanaclub.com/event/keeping-an-open-mind/2029-02-07/
CATEGORIES:AL-ANON,Recurring YANA Events
END:VEVENT
BEGIN:VEVENT
DTSTART;TZID=America/New_York:20290207T190000
DTEND;TZID=America/New_York:20290207T200000
DTSTAMP:20260425T205338
CREATED:20250507T163407Z
LAST-MODIFIED:20250507T163407Z
UID:10016580-1865185200-1865188800@yanaclub.com
SUMMARY:YANA Board of Directors
DESCRIPTION:
URL:https://yanaclub.com/event/yana-board-of-directors/2029-02-07/
CATEGORIES:Recurring YANA Events
END:VEVENT
BEGIN:VEVENT
DTSTART;TZID=America/New_York:20290207T200000
DTEND;TZID=America/New_York:20290207T210000
DTSTAMP:20260425T205338
CREATED:20250507T160652Z
LAST-MODIFIED:20250507T160652Z
UID:10010200-1865188800-1865192400@yanaclub.com
SUMMARY:Grupo Latino
DESCRIPTION:Open / Discussion / Spanish Language
URL:https://yanaclub.com/event/grupo-latino/2029-02-07/
CATEGORIES:AA
END:VEVENT
BEGIN:VEVENT
DTSTART;TZID=America/New_York:20290208T090000
DTEND;TZID=America/New_York:20290208T100000
DTSTAMP:20260425T205338
CREATED:20250507T155840Z
LAST-MODIFIED:20250507T155840Z
UID:10008305-1865235600-1865239200@yanaclub.com
SUMMARY:SANS (Sober Now Sane)
DESCRIPTION:Open / Discussion
URL:https://yanaclub.com/event/sans-sober-now-sane/2029-02-08/
CATEGORIES:AA
END:VEVENT
BEGIN:VEVENT
DTSTART;TZID=America/New_York:20290208T121500
DTEND;TZID=America/New_York:20290208T131500
DTSTAMP:20260425T205338
CREATED:20250507T154857Z
LAST-MODIFIED:20250507T155521Z
UID:10002424-1865247300-1865250900@yanaclub.com
SUMMARY:No Name
DESCRIPTION:Open / Topic Discussion
URL:https://yanaclub.com/event/no-name/2029-02-08/
CATEGORIES:AA
END:VEVENT
BEGIN:VEVENT
DTSTART;TZID=America/New_York:20290208T173000
DTEND;TZID=America/New_York:20290208T183000
DTSTAMP:20260425T205338
CREATED:20250507T155118Z
LAST-MODIFIED:20250507T155118Z
UID:10003927-1865266200-1865269800@yanaclub.com
SUMMARY:Serenity
DESCRIPTION:Open Discussion
URL:https://yanaclub.com/event/serenity/2029-02-08/
CATEGORIES:AA
END:VEVENT
BEGIN:VEVENT
DTSTART;TZID=America/New_York:20290208T184500
DTEND;TZID=America/New_York:20290208T194500
DTSTAMP:20260425T205338
CREATED:20250507T161123Z
LAST-MODIFIED:20250507T161123Z
UID:10011439-1865270700-1865274300@yanaclub.com
SUMMARY:645 YANA Womens
DESCRIPTION:Closed / Topic Discussion / Womens
URL:https://yanaclub.com/event/645-yana-womens/2029-02-08/
CATEGORIES:AA
END:VEVENT
BEGIN:VEVENT
DTSTART;TZID=America/New_York:20290208T200000
DTEND;TZID=America/New_York:20290208T210000
DTSTAMP:20260425T205338
CREATED:20250507T162741Z
LAST-MODIFIED:20250507T162741Z
UID:10015362-1865275200-1865278800@yanaclub.com
SUMMARY:Open Arms
DESCRIPTION:Open / Discussion / How It Works
URL:https://yanaclub.com/event/open-arms/2029-02-08/
CATEGORIES:NA
END:VEVENT
BEGIN:VEVENT
DTSTART;TZID=America/New_York:20290209T090000
DTEND;TZID=America/New_York:20290209T100000
DTSTAMP:20260425T205338
CREATED:20250507T155840Z
LAST-MODIFIED:20250507T155840Z
UID:10008306-1865322000-1865325600@yanaclub.com
SUMMARY:SANS (Sober Now Sane)
DESCRIPTION:Open / Discussion
URL:https://yanaclub.com/event/sans-sober-now-sane/2029-02-09/
CATEGORIES:AA
END:VEVENT
BEGIN:VEVENT
DTSTART;TZID=America/New_York:20290209T121500
DTEND;TZID=America/New_York:20290209T131500
DTSTAMP:20260425T205338
CREATED:20250507T154857Z
LAST-MODIFIED:20250507T155521Z
UID:10002425-1865333700-1865337300@yanaclub.com
SUMMARY:No Name
DESCRIPTION:Open / Topic Discussion
URL:https://yanaclub.com/event/no-name/2029-02-09/
CATEGORIES:AA
END:VEVENT
BEGIN:VEVENT
DTSTART;TZID=America/New_York:20290209T121500
DTEND;TZID=America/New_York:20290209T131500
DTSTAMP:20260425T205338
CREATED:20250507T162126Z
LAST-MODIFIED:20250507T162126Z
UID:10014316-1865333700-1865337300@yanaclub.com
SUMMARY:Friday Luncheon AFG
DESCRIPTION:Closed / Discussion
URL:https://yanaclub.com/event/friday-luncheon-afg-2/2029-02-09/
CATEGORIES:AL-ANON
END:VEVENT
BEGIN:VEVENT
DTSTART;TZID=America/New_York:20290209T180000
DTEND;TZID=America/New_York:20290209T190000
DTSTAMP:20260425T205338
CREATED:20250507T161244Z
LAST-MODIFIED:20250507T161244Z
UID:10011961-1865354400-1865358000@yanaclub.com
SUMMARY:Young Peoples
DESCRIPTION:Open / Discussion
URL:https://yanaclub.com/event/young-peoples/2029-02-09/
CATEGORIES:AA
END:VEVENT
BEGIN:VEVENT
DTSTART;TZID=America/New_York:20290209T180000
DTEND;TZID=America/New_York:20290209T190000
DTSTAMP:20260425T205338
CREATED:20250507T161346Z
LAST-MODIFIED:20250507T161346Z
UID:10012222-1865354400-1865358000@yanaclub.com
SUMMARY:Together We Can
DESCRIPTION:Open / Discussion
URL:https://yanaclub.com/event/together-we-can/2029-02-09/
CATEGORIES:AA
END:VEVENT
BEGIN:VEVENT
DTSTART;TZID=America/New_York:20290209T200000
DTEND;TZID=America/New_York:20290209T210000
DTSTAMP:20260425T205338
CREATED:20250507T160652Z
LAST-MODIFIED:20250507T160652Z
UID:10010201-1865361600-1865365200@yanaclub.com
SUMMARY:Grupo Latino
DESCRIPTION:Open / Discussion / Spanish Language
URL:https://yanaclub.com/event/grupo-latino/2029-02-09/
CATEGORIES:AA
END:VEVENT
BEGIN:VEVENT
DTSTART;TZID=America/New_York:20290210T090000
DTEND;TZID=America/New_York:20290210T100000
DTSTAMP:20260425T205338
CREATED:20250502T104804Z
LAST-MODIFIED:20250502T104804Z
UID:10000199-1865408400-1865412000@yanaclub.com
SUMMARY:Saturday Big Book Study
DESCRIPTION:Type: O/BB
URL:https://yanaclub.com/event/saturday-big-book-study/2029-02-10/
CATEGORIES:AA
END:VEVENT
BEGIN:VEVENT
DTSTART;TZID=America/New_York:20290210T121500
DTEND;TZID=America/New_York:20290210T131500
DTSTAMP:20260425T205338
CREATED:20250507T154857Z
LAST-MODIFIED:20250507T155521Z
UID:10002426-1865420100-1865423700@yanaclub.com
SUMMARY:No Name
DESCRIPTION:Open / Topic Discussion
URL:https://yanaclub.com/event/no-name/2029-02-10/
CATEGORIES:AA
END:VEVENT
BEGIN:VEVENT
DTSTART;TZID=America/New_York:20290210T173000
DTEND;TZID=America/New_York:20290210T183000
DTSTAMP:20260425T205338
CREATED:20250507T155250Z
LAST-MODIFIED:20250507T155250Z
UID:10005428-1865439000-1865442600@yanaclub.com
SUMMARY:Serenity 1st Step
DESCRIPTION:Open / Discussion / Beginners
URL:https://yanaclub.com/event/serenity-1st-step/2029-02-10/
CATEGORIES:AA
END:VEVENT
BEGIN:VEVENT
DTSTART;TZID=America/New_York:20290210T200000
DTEND;TZID=America/New_York:20290210T210000
DTSTAMP:20260425T205338
CREATED:20250507T160652Z
LAST-MODIFIED:20250507T160652Z
UID:10010202-1865448000-1865451600@yanaclub.com
SUMMARY:Grupo Latino
DESCRIPTION:Open / Discussion / Spanish Language
URL:https://yanaclub.com/event/grupo-latino/2029-02-10/
CATEGORIES:AA
END:VEVENT
END:VCALENDAR