BEGIN:VCALENDAR
VERSION:2.0
PRODID:-//YANA Club of Hilton Head Island - ECPv6.11.2//NONSGML v1.0//EN
CALSCALE:GREGORIAN
METHOD:PUBLISH
X-ORIGINAL-URL:https://yanaclub.com
X-WR-CALDESC:Events for YANA Club of Hilton Head Island
REFRESH-INTERVAL;VALUE=DURATION:PT1H
X-Robots-Tag:noindex
X-PUBLISHED-TTL:PT1H
BEGIN:VTIMEZONE
TZID:America/New_York
BEGIN:DAYLIGHT
TZOFFSETFROM:-0500
TZOFFSETTO:-0400
TZNAME:EDT
DTSTART:20290311T070000
END:DAYLIGHT
BEGIN:STANDARD
TZOFFSETFROM:-0400
TZOFFSETTO:-0500
TZNAME:EST
DTSTART:20291104T060000
END:STANDARD
END:VTIMEZONE
BEGIN:VEVENT
DTSTART;TZID=America/New_York:20290122T090000
DTEND;TZID=America/New_York:20290122T100000
DTSTAMP:20260425T174842
CREATED:20250507T155840Z
LAST-MODIFIED:20250507T155840Z
UID:10008292-1863766800-1863770400@yanaclub.com
SUMMARY:SANS (Sober Now Sane)
DESCRIPTION:Open / Discussion
URL:https://yanaclub.com/event/sans-sober-now-sane/2029-01-22/
CATEGORIES:AA
END:VEVENT
BEGIN:VEVENT
DTSTART;TZID=America/New_York:20290122T121500
DTEND;TZID=America/New_York:20290122T131500
DTSTAMP:20260425T174842
CREATED:20250507T154857Z
LAST-MODIFIED:20250507T155521Z
UID:10002407-1863778500-1863782100@yanaclub.com
SUMMARY:No Name
DESCRIPTION:Open / Topic Discussion
URL:https://yanaclub.com/event/no-name/2029-01-22/
CATEGORIES:AA
END:VEVENT
BEGIN:VEVENT
DTSTART;TZID=America/New_York:20290122T173000
DTEND;TZID=America/New_York:20290122T183000
DTSTAMP:20260425T174842
CREATED:20250507T155118Z
LAST-MODIFIED:20250507T155118Z
UID:10003916-1863797400-1863801000@yanaclub.com
SUMMARY:Serenity
DESCRIPTION:Open Discussion
URL:https://yanaclub.com/event/serenity/2029-01-22/
CATEGORIES:AA
END:VEVENT
BEGIN:VEVENT
DTSTART;TZID=America/New_York:20290123T090000
DTEND;TZID=America/New_York:20290123T100000
DTSTAMP:20260425T174842
CREATED:20250507T155840Z
LAST-MODIFIED:20250507T155840Z
UID:10008293-1863853200-1863856800@yanaclub.com
SUMMARY:SANS (Sober Now Sane)
DESCRIPTION:Open / Discussion
URL:https://yanaclub.com/event/sans-sober-now-sane/2029-01-23/
CATEGORIES:AA
END:VEVENT
BEGIN:VEVENT
DTSTART;TZID=America/New_York:20290123T121500
DTEND;TZID=America/New_York:20290123T131500
DTSTAMP:20260425T174842
CREATED:20250507T154857Z
LAST-MODIFIED:20250507T155521Z
UID:10002408-1863864900-1863868500@yanaclub.com
SUMMARY:No Name
DESCRIPTION:Open / Topic Discussion
URL:https://yanaclub.com/event/no-name/2029-01-23/
CATEGORIES:AA
END:VEVENT
BEGIN:VEVENT
DTSTART;TZID=America/New_York:20290123T173000
DTEND;TZID=America/New_York:20290123T183000
DTSTAMP:20260425T174842
CREATED:20250507T155118Z
LAST-MODIFIED:20250507T155118Z
UID:10003917-1863883800-1863887400@yanaclub.com
SUMMARY:Serenity
DESCRIPTION:Open Discussion
URL:https://yanaclub.com/event/serenity/2029-01-23/
CATEGORIES:AA
END:VEVENT
BEGIN:VEVENT
DTSTART;TZID=America/New_York:20290123T190000
DTEND;TZID=America/New_York:20290123T200000
DTSTAMP:20260425T174842
CREATED:20250507T160104Z
LAST-MODIFIED:20250507T160104Z
UID:10008824-1863889200-1863892800@yanaclub.com
SUMMARY:Mens Back to Basics
DESCRIPTION:Closed / Discussion / Mens
URL:https://yanaclub.com/event/mens-back-to-basics/2029-01-23/
CATEGORIES:AA
END:VEVENT
BEGIN:VEVENT
DTSTART;TZID=America/New_York:20290123T200000
DTEND;TZID=America/New_York:20290123T210000
DTSTAMP:20260425T174842
CREATED:20250507T160652Z
LAST-MODIFIED:20250507T160652Z
UID:10010191-1863892800-1863896400@yanaclub.com
SUMMARY:Grupo Latino
DESCRIPTION:Open / Discussion / Spanish Language
URL:https://yanaclub.com/event/grupo-latino/2029-01-23/
CATEGORIES:AA
END:VEVENT
BEGIN:VEVENT
DTSTART;TZID=America/New_York:20290124T070000
DTEND;TZID=America/New_York:20290124T080000
DTSTAMP:20260425T174842
CREATED:20250507T160920Z
LAST-MODIFIED:20250507T160920Z
UID:10010915-1863932400-1863936000@yanaclub.com
SUMMARY:Design for Living
DESCRIPTION:Closed / Discussion
URL:https://yanaclub.com/event/design-for-living/2029-01-24/
CATEGORIES:AA
END:VEVENT
BEGIN:VEVENT
DTSTART;TZID=America/New_York:20290124T090000
DTEND;TZID=America/New_York:20290124T100000
DTSTAMP:20260425T174842
CREATED:20250507T155840Z
LAST-MODIFIED:20250507T155840Z
UID:10008294-1863939600-1863943200@yanaclub.com
SUMMARY:SANS (Sober Now Sane)
DESCRIPTION:Open / Discussion
URL:https://yanaclub.com/event/sans-sober-now-sane/2029-01-24/
CATEGORIES:AA
END:VEVENT
BEGIN:VEVENT
DTSTART;TZID=America/New_York:20290124T121500
DTEND;TZID=America/New_York:20290124T131500
DTSTAMP:20260425T174842
CREATED:20250507T154857Z
LAST-MODIFIED:20250507T155521Z
UID:10002409-1863951300-1863954900@yanaclub.com
SUMMARY:No Name
DESCRIPTION:Open / Topic Discussion
URL:https://yanaclub.com/event/no-name/2029-01-24/
CATEGORIES:AA
END:VEVENT
BEGIN:VEVENT
DTSTART;TZID=America/New_York:20290124T173000
DTEND;TZID=America/New_York:20290124T183000
DTSTAMP:20260425T174842
CREATED:20250507T155118Z
LAST-MODIFIED:20250507T155118Z
UID:10003918-1863970200-1863973800@yanaclub.com
SUMMARY:Serenity
DESCRIPTION:Open Discussion
URL:https://yanaclub.com/event/serenity/2029-01-24/
CATEGORIES:AA
END:VEVENT
BEGIN:VEVENT
DTSTART;TZID=America/New_York:20290124T173000
DTEND;TZID=America/New_York:20290124T183000
DTSTAMP:20260425T174842
CREATED:20251027T215053Z
LAST-MODIFIED:20251027T215053Z
UID:10019410-1863970200-1863973800@yanaclub.com
SUMMARY:Keeping an Open Mind
DESCRIPTION:Midweek Al-Anon Open Discussion
URL:https://yanaclub.com/event/keeping-an-open-mind/2029-01-24/
CATEGORIES:AL-ANON,Recurring YANA Events
END:VEVENT
BEGIN:VEVENT
DTSTART;TZID=America/New_York:20290124T200000
DTEND;TZID=America/New_York:20290124T210000
DTSTAMP:20260425T174842
CREATED:20250507T160652Z
LAST-MODIFIED:20250507T160652Z
UID:10010192-1863979200-1863982800@yanaclub.com
SUMMARY:Grupo Latino
DESCRIPTION:Open / Discussion / Spanish Language
URL:https://yanaclub.com/event/grupo-latino/2029-01-24/
CATEGORIES:AA
END:VEVENT
BEGIN:VEVENT
DTSTART;TZID=America/New_York:20290125T090000
DTEND;TZID=America/New_York:20290125T100000
DTSTAMP:20260425T174842
CREATED:20250507T155840Z
LAST-MODIFIED:20250507T155840Z
UID:10008295-1864026000-1864029600@yanaclub.com
SUMMARY:SANS (Sober Now Sane)
DESCRIPTION:Open / Discussion
URL:https://yanaclub.com/event/sans-sober-now-sane/2029-01-25/
CATEGORIES:AA
END:VEVENT
BEGIN:VEVENT
DTSTART;TZID=America/New_York:20290125T121500
DTEND;TZID=America/New_York:20290125T131500
DTSTAMP:20260425T174842
CREATED:20250507T154857Z
LAST-MODIFIED:20250507T155521Z
UID:10002410-1864037700-1864041300@yanaclub.com
SUMMARY:No Name
DESCRIPTION:Open / Topic Discussion
URL:https://yanaclub.com/event/no-name/2029-01-25/
CATEGORIES:AA
END:VEVENT
BEGIN:VEVENT
DTSTART;TZID=America/New_York:20290125T173000
DTEND;TZID=America/New_York:20290125T183000
DTSTAMP:20260425T174842
CREATED:20250507T155118Z
LAST-MODIFIED:20250507T155118Z
UID:10003919-1864056600-1864060200@yanaclub.com
SUMMARY:Serenity
DESCRIPTION:Open Discussion
URL:https://yanaclub.com/event/serenity/2029-01-25/
CATEGORIES:AA
END:VEVENT
BEGIN:VEVENT
DTSTART;TZID=America/New_York:20290125T184500
DTEND;TZID=America/New_York:20290125T194500
DTSTAMP:20260425T174842
CREATED:20250507T161123Z
LAST-MODIFIED:20250507T161123Z
UID:10011437-1864061100-1864064700@yanaclub.com
SUMMARY:645 YANA Womens
DESCRIPTION:Closed / Topic Discussion / Womens
URL:https://yanaclub.com/event/645-yana-womens/2029-01-25/
CATEGORIES:AA
END:VEVENT
BEGIN:VEVENT
DTSTART;TZID=America/New_York:20290125T200000
DTEND;TZID=America/New_York:20290125T210000
DTSTAMP:20260425T174842
CREATED:20250507T162741Z
LAST-MODIFIED:20250507T162741Z
UID:10015360-1864065600-1864069200@yanaclub.com
SUMMARY:Open Arms
DESCRIPTION:Open / Discussion / How It Works
URL:https://yanaclub.com/event/open-arms/2029-01-25/
CATEGORIES:NA
END:VEVENT
BEGIN:VEVENT
DTSTART;TZID=America/New_York:20290126T090000
DTEND;TZID=America/New_York:20290126T100000
DTSTAMP:20260425T174842
CREATED:20250507T155840Z
LAST-MODIFIED:20250507T155840Z
UID:10008296-1864112400-1864116000@yanaclub.com
SUMMARY:SANS (Sober Now Sane)
DESCRIPTION:Open / Discussion
URL:https://yanaclub.com/event/sans-sober-now-sane/2029-01-26/
CATEGORIES:AA
END:VEVENT
BEGIN:VEVENT
DTSTART;TZID=America/New_York:20290126T121500
DTEND;TZID=America/New_York:20290126T131500
DTSTAMP:20260425T174842
CREATED:20250507T154857Z
LAST-MODIFIED:20250507T155521Z
UID:10002411-1864124100-1864127700@yanaclub.com
SUMMARY:No Name
DESCRIPTION:Open / Topic Discussion
URL:https://yanaclub.com/event/no-name/2029-01-26/
CATEGORIES:AA
END:VEVENT
BEGIN:VEVENT
DTSTART;TZID=America/New_York:20290126T121500
DTEND;TZID=America/New_York:20290126T131500
DTSTAMP:20260425T174842
CREATED:20250507T162126Z
LAST-MODIFIED:20250507T162126Z
UID:10014314-1864124100-1864127700@yanaclub.com
SUMMARY:Friday Luncheon AFG
DESCRIPTION:Closed / Discussion
URL:https://yanaclub.com/event/friday-luncheon-afg-2/2029-01-26/
CATEGORIES:AL-ANON
END:VEVENT
BEGIN:VEVENT
DTSTART;TZID=America/New_York:20290126T180000
DTEND;TZID=America/New_York:20290126T190000
DTSTAMP:20260425T174842
CREATED:20250507T161244Z
LAST-MODIFIED:20250507T161244Z
UID:10011959-1864144800-1864148400@yanaclub.com
SUMMARY:Young Peoples
DESCRIPTION:Open / Discussion
URL:https://yanaclub.com/event/young-peoples/2029-01-26/
CATEGORIES:AA
END:VEVENT
BEGIN:VEVENT
DTSTART;TZID=America/New_York:20290126T180000
DTEND;TZID=America/New_York:20290126T190000
DTSTAMP:20260425T174843
CREATED:20250507T161346Z
LAST-MODIFIED:20250507T161346Z
UID:10012220-1864144800-1864148400@yanaclub.com
SUMMARY:Together We Can
DESCRIPTION:Open / Discussion
URL:https://yanaclub.com/event/together-we-can/2029-01-26/
CATEGORIES:AA
END:VEVENT
BEGIN:VEVENT
DTSTART;TZID=America/New_York:20290126T200000
DTEND;TZID=America/New_York:20290126T210000
DTSTAMP:20260425T174843
CREATED:20250507T160652Z
LAST-MODIFIED:20250507T160652Z
UID:10010193-1864152000-1864155600@yanaclub.com
SUMMARY:Grupo Latino
DESCRIPTION:Open / Discussion / Spanish Language
URL:https://yanaclub.com/event/grupo-latino/2029-01-26/
CATEGORIES:AA
END:VEVENT
BEGIN:VEVENT
DTSTART;TZID=America/New_York:20290127T090000
DTEND;TZID=America/New_York:20290127T100000
DTSTAMP:20260425T174843
CREATED:20250502T104804Z
LAST-MODIFIED:20250502T104804Z
UID:10000197-1864198800-1864202400@yanaclub.com
SUMMARY:Saturday Big Book Study
DESCRIPTION:Type: O/BB
URL:https://yanaclub.com/event/saturday-big-book-study/2029-01-27/
CATEGORIES:AA
END:VEVENT
BEGIN:VEVENT
DTSTART;TZID=America/New_York:20290127T121500
DTEND;TZID=America/New_York:20290127T131500
DTSTAMP:20260425T174843
CREATED:20250507T154857Z
LAST-MODIFIED:20250507T155521Z
UID:10002412-1864210500-1864214100@yanaclub.com
SUMMARY:No Name
DESCRIPTION:Open / Topic Discussion
URL:https://yanaclub.com/event/no-name/2029-01-27/
CATEGORIES:AA
END:VEVENT
BEGIN:VEVENT
DTSTART;TZID=America/New_York:20290127T173000
DTEND;TZID=America/New_York:20290127T183000
DTSTAMP:20260425T174843
CREATED:20250507T155250Z
LAST-MODIFIED:20250507T155250Z
UID:10005426-1864229400-1864233000@yanaclub.com
SUMMARY:Serenity 1st Step
DESCRIPTION:Open / Discussion / Beginners
URL:https://yanaclub.com/event/serenity-1st-step/2029-01-27/
CATEGORIES:AA
END:VEVENT
BEGIN:VEVENT
DTSTART;TZID=America/New_York:20290127T200000
DTEND;TZID=America/New_York:20290127T210000
DTSTAMP:20260425T174843
CREATED:20250507T160652Z
LAST-MODIFIED:20250507T160652Z
UID:10010194-1864238400-1864242000@yanaclub.com
SUMMARY:Grupo Latino
DESCRIPTION:Open / Discussion / Spanish Language
URL:https://yanaclub.com/event/grupo-latino/2029-01-27/
CATEGORIES:AA
END:VEVENT
BEGIN:VEVENT
DTSTART;TZID=America/New_York:20290128T080000
DTEND;TZID=America/New_York:20290128T090000
DTSTAMP:20260425T174843
CREATED:20250507T163100Z
LAST-MODIFIED:20250507T163100Z
UID:10015884-1864281600-1864285200@yanaclub.com
SUMMARY:YANA Sunday Breakfast
DESCRIPTION:
URL:https://yanaclub.com/event/yana-sunday-breakfast/2029-01-28/
CATEGORIES:Recurring YANA Events
END:VEVENT
END:VCALENDAR