BEGIN:VCALENDAR
VERSION:2.0
PRODID:-//YANA Club of Hilton Head Island - ECPv6.11.2//NONSGML v1.0//EN
CALSCALE:GREGORIAN
METHOD:PUBLISH
X-WR-CALNAME:YANA Club of Hilton Head Island
X-ORIGINAL-URL:https://yanaclub.com
X-WR-CALDESC:Events for YANA Club of Hilton Head Island
REFRESH-INTERVAL;VALUE=DURATION:PT1H
X-Robots-Tag:noindex
X-PUBLISHED-TTL:PT1H
BEGIN:VTIMEZONE
TZID:America/New_York
BEGIN:DAYLIGHT
TZOFFSETFROM:-0500
TZOFFSETTO:-0400
TZNAME:EDT
DTSTART:20290311T070000
END:DAYLIGHT
BEGIN:STANDARD
TZOFFSETFROM:-0400
TZOFFSETTO:-0500
TZNAME:EST
DTSTART:20291104T060000
END:STANDARD
END:VTIMEZONE
BEGIN:VEVENT
DTSTART;TZID=America/New_York:20290115T090000
DTEND;TZID=America/New_York:20290115T100000
DTSTAMP:20260425T181225
CREATED:20250507T155840Z
LAST-MODIFIED:20250507T155840Z
UID:10008287-1863162000-1863165600@yanaclub.com
SUMMARY:SANS (Sober Now Sane)
DESCRIPTION:Open / Discussion
URL:https://yanaclub.com/event/sans-sober-now-sane/2029-01-15/
CATEGORIES:AA
END:VEVENT
BEGIN:VEVENT
DTSTART;TZID=America/New_York:20290115T121500
DTEND;TZID=America/New_York:20290115T131500
DTSTAMP:20260425T181225
CREATED:20250507T154857Z
LAST-MODIFIED:20250507T155521Z
UID:10002400-1863173700-1863177300@yanaclub.com
SUMMARY:No Name
DESCRIPTION:Open / Topic Discussion
URL:https://yanaclub.com/event/no-name/2029-01-15/
CATEGORIES:AA
END:VEVENT
BEGIN:VEVENT
DTSTART;TZID=America/New_York:20290115T173000
DTEND;TZID=America/New_York:20290115T183000
DTSTAMP:20260425T181225
CREATED:20250507T155118Z
LAST-MODIFIED:20250507T155118Z
UID:10003912-1863192600-1863196200@yanaclub.com
SUMMARY:Serenity
DESCRIPTION:Open Discussion
URL:https://yanaclub.com/event/serenity/2029-01-15/
CATEGORIES:AA
END:VEVENT
BEGIN:VEVENT
DTSTART;TZID=America/New_York:20290116T090000
DTEND;TZID=America/New_York:20290116T100000
DTSTAMP:20260425T181225
CREATED:20250507T155840Z
LAST-MODIFIED:20250507T155840Z
UID:10008288-1863248400-1863252000@yanaclub.com
SUMMARY:SANS (Sober Now Sane)
DESCRIPTION:Open / Discussion
URL:https://yanaclub.com/event/sans-sober-now-sane/2029-01-16/
CATEGORIES:AA
END:VEVENT
BEGIN:VEVENT
DTSTART;TZID=America/New_York:20290116T121500
DTEND;TZID=America/New_York:20290116T131500
DTSTAMP:20260425T181225
CREATED:20250507T154857Z
LAST-MODIFIED:20250507T155521Z
UID:10002401-1863260100-1863263700@yanaclub.com
SUMMARY:No Name
DESCRIPTION:Open / Topic Discussion
URL:https://yanaclub.com/event/no-name/2029-01-16/
CATEGORIES:AA
END:VEVENT
BEGIN:VEVENT
DTSTART;TZID=America/New_York:20290116T173000
DTEND;TZID=America/New_York:20290116T183000
DTSTAMP:20260425T181225
CREATED:20250507T155118Z
LAST-MODIFIED:20250507T155118Z
UID:10003913-1863279000-1863282600@yanaclub.com
SUMMARY:Serenity
DESCRIPTION:Open Discussion
URL:https://yanaclub.com/event/serenity/2029-01-16/
CATEGORIES:AA
END:VEVENT
BEGIN:VEVENT
DTSTART;TZID=America/New_York:20290116T190000
DTEND;TZID=America/New_York:20290116T200000
DTSTAMP:20260425T181225
CREATED:20250507T160104Z
LAST-MODIFIED:20250507T160104Z
UID:10008823-1863284400-1863288000@yanaclub.com
SUMMARY:Mens Back to Basics
DESCRIPTION:Closed / Discussion / Mens
URL:https://yanaclub.com/event/mens-back-to-basics/2029-01-16/
CATEGORIES:AA
END:VEVENT
BEGIN:VEVENT
DTSTART;TZID=America/New_York:20290116T200000
DTEND;TZID=America/New_York:20290116T210000
DTSTAMP:20260425T181225
CREATED:20250507T160652Z
LAST-MODIFIED:20250507T160652Z
UID:10010187-1863288000-1863291600@yanaclub.com
SUMMARY:Grupo Latino
DESCRIPTION:Open / Discussion / Spanish Language
URL:https://yanaclub.com/event/grupo-latino/2029-01-16/
CATEGORIES:AA
END:VEVENT
BEGIN:VEVENT
DTSTART;TZID=America/New_York:20290117T070000
DTEND;TZID=America/New_York:20290117T080000
DTSTAMP:20260425T181225
CREATED:20250507T160920Z
LAST-MODIFIED:20250507T160920Z
UID:10010914-1863327600-1863331200@yanaclub.com
SUMMARY:Design for Living
DESCRIPTION:Closed / Discussion
URL:https://yanaclub.com/event/design-for-living/2029-01-17/
CATEGORIES:AA
END:VEVENT
BEGIN:VEVENT
DTSTART;TZID=America/New_York:20290117T090000
DTEND;TZID=America/New_York:20290117T100000
DTSTAMP:20260425T181225
CREATED:20250507T155840Z
LAST-MODIFIED:20250507T155840Z
UID:10008289-1863334800-1863338400@yanaclub.com
SUMMARY:SANS (Sober Now Sane)
DESCRIPTION:Open / Discussion
URL:https://yanaclub.com/event/sans-sober-now-sane/2029-01-17/
CATEGORIES:AA
END:VEVENT
BEGIN:VEVENT
DTSTART;TZID=America/New_York:20290117T121500
DTEND;TZID=America/New_York:20290117T131500
DTSTAMP:20260425T181225
CREATED:20250507T154857Z
LAST-MODIFIED:20250507T155521Z
UID:10002402-1863346500-1863350100@yanaclub.com
SUMMARY:No Name
DESCRIPTION:Open / Topic Discussion
URL:https://yanaclub.com/event/no-name/2029-01-17/
CATEGORIES:AA
END:VEVENT
BEGIN:VEVENT
DTSTART;TZID=America/New_York:20290117T173000
DTEND;TZID=America/New_York:20290117T183000
DTSTAMP:20260425T181225
CREATED:20250507T155118Z
LAST-MODIFIED:20250507T155118Z
UID:10003914-1863365400-1863369000@yanaclub.com
SUMMARY:Serenity
DESCRIPTION:Open Discussion
URL:https://yanaclub.com/event/serenity/2029-01-17/
CATEGORIES:AA
END:VEVENT
BEGIN:VEVENT
DTSTART;TZID=America/New_York:20290117T173000
DTEND;TZID=America/New_York:20290117T183000
DTSTAMP:20260425T181225
CREATED:20251027T215053Z
LAST-MODIFIED:20251027T215053Z
UID:10019409-1863365400-1863369000@yanaclub.com
SUMMARY:Keeping an Open Mind
DESCRIPTION:Midweek Al-Anon Open Discussion
URL:https://yanaclub.com/event/keeping-an-open-mind/2029-01-17/
CATEGORIES:AL-ANON,Recurring YANA Events
END:VEVENT
BEGIN:VEVENT
DTSTART;TZID=America/New_York:20290117T200000
DTEND;TZID=America/New_York:20290117T210000
DTSTAMP:20260425T181225
CREATED:20250507T160652Z
LAST-MODIFIED:20250507T160652Z
UID:10010188-1863374400-1863378000@yanaclub.com
SUMMARY:Grupo Latino
DESCRIPTION:Open / Discussion / Spanish Language
URL:https://yanaclub.com/event/grupo-latino/2029-01-17/
CATEGORIES:AA
END:VEVENT
BEGIN:VEVENT
DTSTART;TZID=America/New_York:20290118T090000
DTEND;TZID=America/New_York:20290118T100000
DTSTAMP:20260425T181225
CREATED:20250507T155840Z
LAST-MODIFIED:20250507T155840Z
UID:10008290-1863421200-1863424800@yanaclub.com
SUMMARY:SANS (Sober Now Sane)
DESCRIPTION:Open / Discussion
URL:https://yanaclub.com/event/sans-sober-now-sane/2029-01-18/
CATEGORIES:AA
END:VEVENT
BEGIN:VEVENT
DTSTART;TZID=America/New_York:20290118T121500
DTEND;TZID=America/New_York:20290118T131500
DTSTAMP:20260425T181225
CREATED:20250507T154857Z
LAST-MODIFIED:20250507T155521Z
UID:10002403-1863432900-1863436500@yanaclub.com
SUMMARY:No Name
DESCRIPTION:Open / Topic Discussion
URL:https://yanaclub.com/event/no-name/2029-01-18/
CATEGORIES:AA
END:VEVENT
BEGIN:VEVENT
DTSTART;TZID=America/New_York:20290118T173000
DTEND;TZID=America/New_York:20290118T183000
DTSTAMP:20260425T181225
CREATED:20250507T155118Z
LAST-MODIFIED:20250507T155118Z
UID:10003915-1863451800-1863455400@yanaclub.com
SUMMARY:Serenity
DESCRIPTION:Open Discussion
URL:https://yanaclub.com/event/serenity/2029-01-18/
CATEGORIES:AA
END:VEVENT
BEGIN:VEVENT
DTSTART;TZID=America/New_York:20290118T184500
DTEND;TZID=America/New_York:20290118T194500
DTSTAMP:20260425T181225
CREATED:20250507T161123Z
LAST-MODIFIED:20250507T161123Z
UID:10011436-1863456300-1863459900@yanaclub.com
SUMMARY:645 YANA Womens
DESCRIPTION:Closed / Topic Discussion / Womens
URL:https://yanaclub.com/event/645-yana-womens/2029-01-18/
CATEGORIES:AA
END:VEVENT
BEGIN:VEVENT
DTSTART;TZID=America/New_York:20290118T200000
DTEND;TZID=America/New_York:20290118T210000
DTSTAMP:20260425T181225
CREATED:20250507T162741Z
LAST-MODIFIED:20250507T162741Z
UID:10015359-1863460800-1863464400@yanaclub.com
SUMMARY:Open Arms
DESCRIPTION:Open / Discussion / How It Works
URL:https://yanaclub.com/event/open-arms/2029-01-18/
CATEGORIES:NA
END:VEVENT
BEGIN:VEVENT
DTSTART;TZID=America/New_York:20290119T090000
DTEND;TZID=America/New_York:20290119T100000
DTSTAMP:20260425T181225
CREATED:20250507T155840Z
LAST-MODIFIED:20250507T155840Z
UID:10008291-1863507600-1863511200@yanaclub.com
SUMMARY:SANS (Sober Now Sane)
DESCRIPTION:Open / Discussion
URL:https://yanaclub.com/event/sans-sober-now-sane/2029-01-19/
CATEGORIES:AA
END:VEVENT
BEGIN:VEVENT
DTSTART;TZID=America/New_York:20290119T121500
DTEND;TZID=America/New_York:20290119T131500
DTSTAMP:20260425T181225
CREATED:20250507T154857Z
LAST-MODIFIED:20250507T155521Z
UID:10002404-1863519300-1863522900@yanaclub.com
SUMMARY:No Name
DESCRIPTION:Open / Topic Discussion
URL:https://yanaclub.com/event/no-name/2029-01-19/
CATEGORIES:AA
END:VEVENT
BEGIN:VEVENT
DTSTART;TZID=America/New_York:20290119T121500
DTEND;TZID=America/New_York:20290119T131500
DTSTAMP:20260425T181225
CREATED:20250507T162126Z
LAST-MODIFIED:20250507T162126Z
UID:10014313-1863519300-1863522900@yanaclub.com
SUMMARY:Friday Luncheon AFG
DESCRIPTION:Closed / Discussion
URL:https://yanaclub.com/event/friday-luncheon-afg-2/2029-01-19/
CATEGORIES:AL-ANON
END:VEVENT
BEGIN:VEVENT
DTSTART;TZID=America/New_York:20290119T180000
DTEND;TZID=America/New_York:20290119T190000
DTSTAMP:20260425T181225
CREATED:20250507T161244Z
LAST-MODIFIED:20250507T161244Z
UID:10011958-1863540000-1863543600@yanaclub.com
SUMMARY:Young Peoples
DESCRIPTION:Open / Discussion
URL:https://yanaclub.com/event/young-peoples/2029-01-19/
CATEGORIES:AA
END:VEVENT
BEGIN:VEVENT
DTSTART;TZID=America/New_York:20290119T180000
DTEND;TZID=America/New_York:20290119T190000
DTSTAMP:20260425T181225
CREATED:20250507T161346Z
LAST-MODIFIED:20250507T161346Z
UID:10012219-1863540000-1863543600@yanaclub.com
SUMMARY:Together We Can
DESCRIPTION:Open / Discussion
URL:https://yanaclub.com/event/together-we-can/2029-01-19/
CATEGORIES:AA
END:VEVENT
BEGIN:VEVENT
DTSTART;TZID=America/New_York:20290119T200000
DTEND;TZID=America/New_York:20290119T210000
DTSTAMP:20260425T181225
CREATED:20250507T160652Z
LAST-MODIFIED:20250507T160652Z
UID:10010189-1863547200-1863550800@yanaclub.com
SUMMARY:Grupo Latino
DESCRIPTION:Open / Discussion / Spanish Language
URL:https://yanaclub.com/event/grupo-latino/2029-01-19/
CATEGORIES:AA
END:VEVENT
BEGIN:VEVENT
DTSTART;TZID=America/New_York:20290120T090000
DTEND;TZID=America/New_York:20290120T100000
DTSTAMP:20260425T181225
CREATED:20250502T104804Z
LAST-MODIFIED:20250502T104804Z
UID:10000196-1863594000-1863597600@yanaclub.com
SUMMARY:Saturday Big Book Study
DESCRIPTION:Type: O/BB
URL:https://yanaclub.com/event/saturday-big-book-study/2029-01-20/
CATEGORIES:AA
END:VEVENT
BEGIN:VEVENT
DTSTART;TZID=America/New_York:20290120T121500
DTEND;TZID=America/New_York:20290120T131500
DTSTAMP:20260425T181225
CREATED:20250507T154857Z
LAST-MODIFIED:20250507T155521Z
UID:10002405-1863605700-1863609300@yanaclub.com
SUMMARY:No Name
DESCRIPTION:Open / Topic Discussion
URL:https://yanaclub.com/event/no-name/2029-01-20/
CATEGORIES:AA
END:VEVENT
BEGIN:VEVENT
DTSTART;TZID=America/New_York:20290120T173000
DTEND;TZID=America/New_York:20290120T183000
DTSTAMP:20260425T181225
CREATED:20250507T155250Z
LAST-MODIFIED:20250507T155250Z
UID:10005425-1863624600-1863628200@yanaclub.com
SUMMARY:Serenity 1st Step
DESCRIPTION:Open / Discussion / Beginners
URL:https://yanaclub.com/event/serenity-1st-step/2029-01-20/
CATEGORIES:AA
END:VEVENT
BEGIN:VEVENT
DTSTART;TZID=America/New_York:20290120T200000
DTEND;TZID=America/New_York:20290120T210000
DTSTAMP:20260425T181225
CREATED:20250507T160652Z
LAST-MODIFIED:20250507T160652Z
UID:10010190-1863633600-1863637200@yanaclub.com
SUMMARY:Grupo Latino
DESCRIPTION:Open / Discussion / Spanish Language
URL:https://yanaclub.com/event/grupo-latino/2029-01-20/
CATEGORIES:AA
END:VEVENT
BEGIN:VEVENT
DTSTART;TZID=America/New_York:20290121T080000
DTEND;TZID=America/New_York:20290121T090000
DTSTAMP:20260425T181225
CREATED:20250507T163100Z
LAST-MODIFIED:20250507T163100Z
UID:10015883-1863676800-1863680400@yanaclub.com
SUMMARY:YANA Sunday Breakfast
DESCRIPTION:
URL:https://yanaclub.com/event/yana-sunday-breakfast/2029-01-21/
CATEGORIES:Recurring YANA Events
END:VEVENT
END:VCALENDAR