BEGIN:VCALENDAR
VERSION:2.0
PRODID:-//YANA Club of Hilton Head Island - ECPv6.11.2//NONSGML v1.0//EN
CALSCALE:GREGORIAN
METHOD:PUBLISH
X-ORIGINAL-URL:https://yanaclub.com
X-WR-CALDESC:Events for YANA Club of Hilton Head Island
REFRESH-INTERVAL;VALUE=DURATION:PT1H
X-Robots-Tag:noindex
X-PUBLISHED-TTL:PT1H
BEGIN:VTIMEZONE
TZID:America/New_York
BEGIN:DAYLIGHT
TZOFFSETFROM:-0500
TZOFFSETTO:-0400
TZNAME:EDT
DTSTART:20290311T070000
END:DAYLIGHT
BEGIN:STANDARD
TZOFFSETFROM:-0400
TZOFFSETTO:-0500
TZNAME:EST
DTSTART:20291104T060000
END:STANDARD
END:VTIMEZONE
BEGIN:VEVENT
DTSTART;TZID=America/New_York:20290108T090000
DTEND;TZID=America/New_York:20290108T100000
DTSTAMP:20260425T162438
CREATED:20250507T155840Z
LAST-MODIFIED:20250507T155840Z
UID:10008282-1862557200-1862560800@yanaclub.com
SUMMARY:SANS (Sober Now Sane)
DESCRIPTION:Open / Discussion
URL:https://yanaclub.com/event/sans-sober-now-sane/2029-01-08/
CATEGORIES:AA
END:VEVENT
BEGIN:VEVENT
DTSTART;TZID=America/New_York:20290108T121500
DTEND;TZID=America/New_York:20290108T131500
DTSTAMP:20260425T162438
CREATED:20250507T154857Z
LAST-MODIFIED:20250507T155521Z
UID:10002393-1862568900-1862572500@yanaclub.com
SUMMARY:No Name
DESCRIPTION:Open / Topic Discussion
URL:https://yanaclub.com/event/no-name/2029-01-08/
CATEGORIES:AA
END:VEVENT
BEGIN:VEVENT
DTSTART;TZID=America/New_York:20290108T173000
DTEND;TZID=America/New_York:20290108T183000
DTSTAMP:20260425T162438
CREATED:20250507T155118Z
LAST-MODIFIED:20250507T155118Z
UID:10003908-1862587800-1862591400@yanaclub.com
SUMMARY:Serenity
DESCRIPTION:Open Discussion
URL:https://yanaclub.com/event/serenity/2029-01-08/
CATEGORIES:AA
END:VEVENT
BEGIN:VEVENT
DTSTART;TZID=America/New_York:20290109T090000
DTEND;TZID=America/New_York:20290109T100000
DTSTAMP:20260425T162438
CREATED:20250507T155840Z
LAST-MODIFIED:20250507T155840Z
UID:10008283-1862643600-1862647200@yanaclub.com
SUMMARY:SANS (Sober Now Sane)
DESCRIPTION:Open / Discussion
URL:https://yanaclub.com/event/sans-sober-now-sane/2029-01-09/
CATEGORIES:AA
END:VEVENT
BEGIN:VEVENT
DTSTART;TZID=America/New_York:20290109T121500
DTEND;TZID=America/New_York:20290109T131500
DTSTAMP:20260425T162438
CREATED:20250507T154857Z
LAST-MODIFIED:20250507T155521Z
UID:10002394-1862655300-1862658900@yanaclub.com
SUMMARY:No Name
DESCRIPTION:Open / Topic Discussion
URL:https://yanaclub.com/event/no-name/2029-01-09/
CATEGORIES:AA
END:VEVENT
BEGIN:VEVENT
DTSTART;TZID=America/New_York:20290109T173000
DTEND;TZID=America/New_York:20290109T183000
DTSTAMP:20260425T162438
CREATED:20250507T155118Z
LAST-MODIFIED:20250507T155118Z
UID:10003909-1862674200-1862677800@yanaclub.com
SUMMARY:Serenity
DESCRIPTION:Open Discussion
URL:https://yanaclub.com/event/serenity/2029-01-09/
CATEGORIES:AA
END:VEVENT
BEGIN:VEVENT
DTSTART;TZID=America/New_York:20290109T184500
DTEND;TZID=America/New_York:20290109T194500
DTSTAMP:20260425T162438
CREATED:20250507T163304Z
LAST-MODIFIED:20250507T163304Z
UID:10016257-1862678700-1862682300@yanaclub.com
SUMMARY:Midwinter Conference Planning
DESCRIPTION:
URL:https://yanaclub.com/event/midwinter-conference-planning/2029-01-09/
CATEGORIES:Recurring YANA Events
END:VEVENT
BEGIN:VEVENT
DTSTART;TZID=America/New_York:20290109T190000
DTEND;TZID=America/New_York:20290109T200000
DTSTAMP:20260425T162438
CREATED:20250507T160104Z
LAST-MODIFIED:20250507T160104Z
UID:10008822-1862679600-1862683200@yanaclub.com
SUMMARY:Mens Back to Basics
DESCRIPTION:Closed / Discussion / Mens
URL:https://yanaclub.com/event/mens-back-to-basics/2029-01-09/
CATEGORIES:AA
END:VEVENT
BEGIN:VEVENT
DTSTART;TZID=America/New_York:20290109T200000
DTEND;TZID=America/New_York:20290109T210000
DTSTAMP:20260425T162438
CREATED:20250507T160652Z
LAST-MODIFIED:20250507T160652Z
UID:10010183-1862683200-1862686800@yanaclub.com
SUMMARY:Grupo Latino
DESCRIPTION:Open / Discussion / Spanish Language
URL:https://yanaclub.com/event/grupo-latino/2029-01-09/
CATEGORIES:AA
END:VEVENT
BEGIN:VEVENT
DTSTART;TZID=America/New_York:20290110T070000
DTEND;TZID=America/New_York:20290110T080000
DTSTAMP:20260425T162438
CREATED:20250507T160920Z
LAST-MODIFIED:20250507T160920Z
UID:10010913-1862722800-1862726400@yanaclub.com
SUMMARY:Design for Living
DESCRIPTION:Closed / Discussion
URL:https://yanaclub.com/event/design-for-living/2029-01-10/
CATEGORIES:AA
END:VEVENT
BEGIN:VEVENT
DTSTART;TZID=America/New_York:20290110T090000
DTEND;TZID=America/New_York:20290110T100000
DTSTAMP:20260425T162438
CREATED:20250507T155840Z
LAST-MODIFIED:20250507T155840Z
UID:10008284-1862730000-1862733600@yanaclub.com
SUMMARY:SANS (Sober Now Sane)
DESCRIPTION:Open / Discussion
URL:https://yanaclub.com/event/sans-sober-now-sane/2029-01-10/
CATEGORIES:AA
END:VEVENT
BEGIN:VEVENT
DTSTART;TZID=America/New_York:20290110T121500
DTEND;TZID=America/New_York:20290110T131500
DTSTAMP:20260425T162438
CREATED:20250507T154857Z
LAST-MODIFIED:20250507T155521Z
UID:10002395-1862741700-1862745300@yanaclub.com
SUMMARY:No Name
DESCRIPTION:Open / Topic Discussion
URL:https://yanaclub.com/event/no-name/2029-01-10/
CATEGORIES:AA
END:VEVENT
BEGIN:VEVENT
DTSTART;TZID=America/New_York:20290110T173000
DTEND;TZID=America/New_York:20290110T183000
DTSTAMP:20260425T162438
CREATED:20250507T155118Z
LAST-MODIFIED:20250507T155118Z
UID:10003910-1862760600-1862764200@yanaclub.com
SUMMARY:Serenity
DESCRIPTION:Open Discussion
URL:https://yanaclub.com/event/serenity/2029-01-10/
CATEGORIES:AA
END:VEVENT
BEGIN:VEVENT
DTSTART;TZID=America/New_York:20290110T173000
DTEND;TZID=America/New_York:20290110T183000
DTSTAMP:20260425T162438
CREATED:20251027T215053Z
LAST-MODIFIED:20251027T215053Z
UID:10019408-1862760600-1862764200@yanaclub.com
SUMMARY:Keeping an Open Mind
DESCRIPTION:Midweek Al-Anon Open Discussion
URL:https://yanaclub.com/event/keeping-an-open-mind/2029-01-10/
CATEGORIES:AL-ANON,Recurring YANA Events
END:VEVENT
BEGIN:VEVENT
DTSTART;TZID=America/New_York:20290110T200000
DTEND;TZID=America/New_York:20290110T210000
DTSTAMP:20260425T162438
CREATED:20250507T160652Z
LAST-MODIFIED:20250507T160652Z
UID:10010184-1862769600-1862773200@yanaclub.com
SUMMARY:Grupo Latino
DESCRIPTION:Open / Discussion / Spanish Language
URL:https://yanaclub.com/event/grupo-latino/2029-01-10/
CATEGORIES:AA
END:VEVENT
BEGIN:VEVENT
DTSTART;TZID=America/New_York:20290111T090000
DTEND;TZID=America/New_York:20290111T100000
DTSTAMP:20260425T162438
CREATED:20250507T155840Z
LAST-MODIFIED:20250507T155840Z
UID:10008285-1862816400-1862820000@yanaclub.com
SUMMARY:SANS (Sober Now Sane)
DESCRIPTION:Open / Discussion
URL:https://yanaclub.com/event/sans-sober-now-sane/2029-01-11/
CATEGORIES:AA
END:VEVENT
BEGIN:VEVENT
DTSTART;TZID=America/New_York:20290111T121500
DTEND;TZID=America/New_York:20290111T131500
DTSTAMP:20260425T162438
CREATED:20250507T154857Z
LAST-MODIFIED:20250507T155521Z
UID:10002396-1862828100-1862831700@yanaclub.com
SUMMARY:No Name
DESCRIPTION:Open / Topic Discussion
URL:https://yanaclub.com/event/no-name/2029-01-11/
CATEGORIES:AA
END:VEVENT
BEGIN:VEVENT
DTSTART;TZID=America/New_York:20290111T173000
DTEND;TZID=America/New_York:20290111T183000
DTSTAMP:20260425T162438
CREATED:20250507T155118Z
LAST-MODIFIED:20250507T155118Z
UID:10003911-1862847000-1862850600@yanaclub.com
SUMMARY:Serenity
DESCRIPTION:Open Discussion
URL:https://yanaclub.com/event/serenity/2029-01-11/
CATEGORIES:AA
END:VEVENT
BEGIN:VEVENT
DTSTART;TZID=America/New_York:20290111T184500
DTEND;TZID=America/New_York:20290111T194500
DTSTAMP:20260425T162438
CREATED:20250507T161123Z
LAST-MODIFIED:20250507T161123Z
UID:10011435-1862851500-1862855100@yanaclub.com
SUMMARY:645 YANA Womens
DESCRIPTION:Closed / Topic Discussion / Womens
URL:https://yanaclub.com/event/645-yana-womens/2029-01-11/
CATEGORIES:AA
END:VEVENT
BEGIN:VEVENT
DTSTART;TZID=America/New_York:20290111T200000
DTEND;TZID=America/New_York:20290111T210000
DTSTAMP:20260425T162438
CREATED:20250507T162741Z
LAST-MODIFIED:20250507T162741Z
UID:10015358-1862856000-1862859600@yanaclub.com
SUMMARY:Open Arms
DESCRIPTION:Open / Discussion / How It Works
URL:https://yanaclub.com/event/open-arms/2029-01-11/
CATEGORIES:NA
END:VEVENT
BEGIN:VEVENT
DTSTART;TZID=America/New_York:20290112T090000
DTEND;TZID=America/New_York:20290112T100000
DTSTAMP:20260425T162438
CREATED:20250507T155840Z
LAST-MODIFIED:20250507T155840Z
UID:10008286-1862902800-1862906400@yanaclub.com
SUMMARY:SANS (Sober Now Sane)
DESCRIPTION:Open / Discussion
URL:https://yanaclub.com/event/sans-sober-now-sane/2029-01-12/
CATEGORIES:AA
END:VEVENT
BEGIN:VEVENT
DTSTART;TZID=America/New_York:20290112T121500
DTEND;TZID=America/New_York:20290112T131500
DTSTAMP:20260425T162438
CREATED:20250507T154857Z
LAST-MODIFIED:20250507T155521Z
UID:10002397-1862914500-1862918100@yanaclub.com
SUMMARY:No Name
DESCRIPTION:Open / Topic Discussion
URL:https://yanaclub.com/event/no-name/2029-01-12/
CATEGORIES:AA
END:VEVENT
BEGIN:VEVENT
DTSTART;TZID=America/New_York:20290112T121500
DTEND;TZID=America/New_York:20290112T131500
DTSTAMP:20260425T162438
CREATED:20250507T162126Z
LAST-MODIFIED:20250507T162126Z
UID:10014312-1862914500-1862918100@yanaclub.com
SUMMARY:Friday Luncheon AFG
DESCRIPTION:Closed / Discussion
URL:https://yanaclub.com/event/friday-luncheon-afg-2/2029-01-12/
CATEGORIES:AL-ANON
END:VEVENT
BEGIN:VEVENT
DTSTART;TZID=America/New_York:20290112T180000
DTEND;TZID=America/New_York:20290112T190000
DTSTAMP:20260425T162438
CREATED:20250507T161244Z
LAST-MODIFIED:20250507T161244Z
UID:10011957-1862935200-1862938800@yanaclub.com
SUMMARY:Young Peoples
DESCRIPTION:Open / Discussion
URL:https://yanaclub.com/event/young-peoples/2029-01-12/
CATEGORIES:AA
END:VEVENT
BEGIN:VEVENT
DTSTART;TZID=America/New_York:20290112T180000
DTEND;TZID=America/New_York:20290112T190000
DTSTAMP:20260425T162438
CREATED:20250507T161346Z
LAST-MODIFIED:20250507T161346Z
UID:10012218-1862935200-1862938800@yanaclub.com
SUMMARY:Together We Can
DESCRIPTION:Open / Discussion
URL:https://yanaclub.com/event/together-we-can/2029-01-12/
CATEGORIES:AA
END:VEVENT
BEGIN:VEVENT
DTSTART;TZID=America/New_York:20290112T200000
DTEND;TZID=America/New_York:20290112T210000
DTSTAMP:20260425T162438
CREATED:20250507T160652Z
LAST-MODIFIED:20250507T160652Z
UID:10010185-1862942400-1862946000@yanaclub.com
SUMMARY:Grupo Latino
DESCRIPTION:Open / Discussion / Spanish Language
URL:https://yanaclub.com/event/grupo-latino/2029-01-12/
CATEGORIES:AA
END:VEVENT
BEGIN:VEVENT
DTSTART;TZID=America/New_York:20290113T090000
DTEND;TZID=America/New_York:20290113T100000
DTSTAMP:20260425T162438
CREATED:20250502T104804Z
LAST-MODIFIED:20250502T104804Z
UID:10000195-1862989200-1862992800@yanaclub.com
SUMMARY:Saturday Big Book Study
DESCRIPTION:Type: O/BB
URL:https://yanaclub.com/event/saturday-big-book-study/2029-01-13/
CATEGORIES:AA
END:VEVENT
BEGIN:VEVENT
DTSTART;TZID=America/New_York:20290113T121500
DTEND;TZID=America/New_York:20290113T131500
DTSTAMP:20260425T162438
CREATED:20250507T154857Z
LAST-MODIFIED:20250507T155521Z
UID:10002398-1863000900-1863004500@yanaclub.com
SUMMARY:No Name
DESCRIPTION:Open / Topic Discussion
URL:https://yanaclub.com/event/no-name/2029-01-13/
CATEGORIES:AA
END:VEVENT
BEGIN:VEVENT
DTSTART;TZID=America/New_York:20290113T173000
DTEND;TZID=America/New_York:20290113T183000
DTSTAMP:20260425T162438
CREATED:20250507T155250Z
LAST-MODIFIED:20250507T155250Z
UID:10005424-1863019800-1863023400@yanaclub.com
SUMMARY:Serenity 1st Step
DESCRIPTION:Open / Discussion / Beginners
URL:https://yanaclub.com/event/serenity-1st-step/2029-01-13/
CATEGORIES:AA
END:VEVENT
BEGIN:VEVENT
DTSTART;TZID=America/New_York:20290113T200000
DTEND;TZID=America/New_York:20290113T210000
DTSTAMP:20260425T162438
CREATED:20250507T160652Z
LAST-MODIFIED:20250507T160652Z
UID:10010186-1863028800-1863032400@yanaclub.com
SUMMARY:Grupo Latino
DESCRIPTION:Open / Discussion / Spanish Language
URL:https://yanaclub.com/event/grupo-latino/2029-01-13/
CATEGORIES:AA
END:VEVENT
END:VCALENDAR