BEGIN:VCALENDAR
VERSION:2.0
PRODID:-//YANA Club of Hilton Head Island - ECPv6.11.2//NONSGML v1.0//EN
CALSCALE:GREGORIAN
METHOD:PUBLISH
X-ORIGINAL-URL:https://yanaclub.com
X-WR-CALDESC:Events for YANA Club of Hilton Head Island
REFRESH-INTERVAL;VALUE=DURATION:PT1H
X-Robots-Tag:noindex
X-PUBLISHED-TTL:PT1H
BEGIN:VTIMEZONE
TZID:America/New_York
BEGIN:DAYLIGHT
TZOFFSETFROM:-0500
TZOFFSETTO:-0400
TZNAME:EDT
DTSTART:20290311T070000
END:DAYLIGHT
BEGIN:STANDARD
TZOFFSETFROM:-0400
TZOFFSETTO:-0500
TZNAME:EST
DTSTART:20291104T060000
END:STANDARD
END:VTIMEZONE
BEGIN:VEVENT
DTSTART;TZID=America/New_York:20290101T090000
DTEND;TZID=America/New_York:20290101T100000
DTSTAMP:20260425T163025
CREATED:20250507T155840Z
LAST-MODIFIED:20250507T155840Z
UID:10008277-1861952400-1861956000@yanaclub.com
SUMMARY:SANS (Sober Now Sane)
DESCRIPTION:Open / Discussion
URL:https://yanaclub.com/event/sans-sober-now-sane/2029-01-01/
CATEGORIES:AA
END:VEVENT
BEGIN:VEVENT
DTSTART;TZID=America/New_York:20290101T121500
DTEND;TZID=America/New_York:20290101T131500
DTSTAMP:20260425T163025
CREATED:20250507T154857Z
LAST-MODIFIED:20250507T155521Z
UID:10002386-1861964100-1861967700@yanaclub.com
SUMMARY:No Name
DESCRIPTION:Open / Topic Discussion
URL:https://yanaclub.com/event/no-name/2029-01-01/
CATEGORIES:AA
END:VEVENT
BEGIN:VEVENT
DTSTART;TZID=America/New_York:20290101T173000
DTEND;TZID=America/New_York:20290101T183000
DTSTAMP:20260425T163025
CREATED:20250507T155118Z
LAST-MODIFIED:20250507T155118Z
UID:10003904-1861983000-1861986600@yanaclub.com
SUMMARY:Serenity
DESCRIPTION:Open Discussion
URL:https://yanaclub.com/event/serenity/2029-01-01/
CATEGORIES:AA
END:VEVENT
BEGIN:VEVENT
DTSTART;TZID=America/New_York:20290102T090000
DTEND;TZID=America/New_York:20290102T100000
DTSTAMP:20260425T163025
CREATED:20250507T155840Z
LAST-MODIFIED:20250507T155840Z
UID:10008278-1862038800-1862042400@yanaclub.com
SUMMARY:SANS (Sober Now Sane)
DESCRIPTION:Open / Discussion
URL:https://yanaclub.com/event/sans-sober-now-sane/2029-01-02/
CATEGORIES:AA
END:VEVENT
BEGIN:VEVENT
DTSTART;TZID=America/New_York:20290102T121500
DTEND;TZID=America/New_York:20290102T131500
DTSTAMP:20260425T163025
CREATED:20250507T154857Z
LAST-MODIFIED:20250507T155521Z
UID:10002387-1862050500-1862054100@yanaclub.com
SUMMARY:No Name
DESCRIPTION:Open / Topic Discussion
URL:https://yanaclub.com/event/no-name/2029-01-02/
CATEGORIES:AA
END:VEVENT
BEGIN:VEVENT
DTSTART;TZID=America/New_York:20290102T173000
DTEND;TZID=America/New_York:20290102T183000
DTSTAMP:20260425T163025
CREATED:20250507T155118Z
LAST-MODIFIED:20250507T155118Z
UID:10003905-1862069400-1862073000@yanaclub.com
SUMMARY:Serenity
DESCRIPTION:Open Discussion
URL:https://yanaclub.com/event/serenity/2029-01-02/
CATEGORIES:AA
END:VEVENT
BEGIN:VEVENT
DTSTART;TZID=America/New_York:20290102T190000
DTEND;TZID=America/New_York:20290102T200000
DTSTAMP:20260425T163025
CREATED:20250507T160104Z
LAST-MODIFIED:20250507T160104Z
UID:10008821-1862074800-1862078400@yanaclub.com
SUMMARY:Mens Back to Basics
DESCRIPTION:Closed / Discussion / Mens
URL:https://yanaclub.com/event/mens-back-to-basics/2029-01-02/
CATEGORIES:AA
END:VEVENT
BEGIN:VEVENT
DTSTART;TZID=America/New_York:20290102T200000
DTEND;TZID=America/New_York:20290102T210000
DTSTAMP:20260425T163025
CREATED:20250507T160652Z
LAST-MODIFIED:20250507T160652Z
UID:10010179-1862078400-1862082000@yanaclub.com
SUMMARY:Grupo Latino
DESCRIPTION:Open / Discussion / Spanish Language
URL:https://yanaclub.com/event/grupo-latino/2029-01-02/
CATEGORIES:AA
END:VEVENT
BEGIN:VEVENT
DTSTART;TZID=America/New_York:20290103T070000
DTEND;TZID=America/New_York:20290103T080000
DTSTAMP:20260425T163025
CREATED:20250507T160920Z
LAST-MODIFIED:20250507T160920Z
UID:10010912-1862118000-1862121600@yanaclub.com
SUMMARY:Design for Living
DESCRIPTION:Closed / Discussion
URL:https://yanaclub.com/event/design-for-living/2029-01-03/
CATEGORIES:AA
END:VEVENT
BEGIN:VEVENT
DTSTART;TZID=America/New_York:20290103T090000
DTEND;TZID=America/New_York:20290103T100000
DTSTAMP:20260425T163025
CREATED:20250507T155840Z
LAST-MODIFIED:20250507T155840Z
UID:10008279-1862125200-1862128800@yanaclub.com
SUMMARY:SANS (Sober Now Sane)
DESCRIPTION:Open / Discussion
URL:https://yanaclub.com/event/sans-sober-now-sane/2029-01-03/
CATEGORIES:AA
END:VEVENT
BEGIN:VEVENT
DTSTART;TZID=America/New_York:20290103T121500
DTEND;TZID=America/New_York:20290103T131500
DTSTAMP:20260425T163025
CREATED:20250507T154857Z
LAST-MODIFIED:20250507T155521Z
UID:10002388-1862136900-1862140500@yanaclub.com
SUMMARY:No Name
DESCRIPTION:Open / Topic Discussion
URL:https://yanaclub.com/event/no-name/2029-01-03/
CATEGORIES:AA
END:VEVENT
BEGIN:VEVENT
DTSTART;TZID=America/New_York:20290103T173000
DTEND;TZID=America/New_York:20290103T183000
DTSTAMP:20260425T163025
CREATED:20250507T155118Z
LAST-MODIFIED:20250507T155118Z
UID:10003906-1862155800-1862159400@yanaclub.com
SUMMARY:Serenity
DESCRIPTION:Open Discussion
URL:https://yanaclub.com/event/serenity/2029-01-03/
CATEGORIES:AA
END:VEVENT
BEGIN:VEVENT
DTSTART;TZID=America/New_York:20290103T173000
DTEND;TZID=America/New_York:20290103T183000
DTSTAMP:20260425T163025
CREATED:20251027T215053Z
LAST-MODIFIED:20251027T215053Z
UID:10019407-1862155800-1862159400@yanaclub.com
SUMMARY:Keeping an Open Mind
DESCRIPTION:Midweek Al-Anon Open Discussion
URL:https://yanaclub.com/event/keeping-an-open-mind/2029-01-03/
CATEGORIES:AL-ANON,Recurring YANA Events
END:VEVENT
BEGIN:VEVENT
DTSTART;TZID=America/New_York:20290103T190000
DTEND;TZID=America/New_York:20290103T200000
DTSTAMP:20260425T163025
CREATED:20250507T163407Z
LAST-MODIFIED:20250507T163407Z
UID:10016579-1862161200-1862164800@yanaclub.com
SUMMARY:YANA Board of Directors
DESCRIPTION:
URL:https://yanaclub.com/event/yana-board-of-directors/2029-01-03/
CATEGORIES:Recurring YANA Events
END:VEVENT
BEGIN:VEVENT
DTSTART;TZID=America/New_York:20290103T200000
DTEND;TZID=America/New_York:20290103T210000
DTSTAMP:20260425T163025
CREATED:20250507T160652Z
LAST-MODIFIED:20250507T160652Z
UID:10010180-1862164800-1862168400@yanaclub.com
SUMMARY:Grupo Latino
DESCRIPTION:Open / Discussion / Spanish Language
URL:https://yanaclub.com/event/grupo-latino/2029-01-03/
CATEGORIES:AA
END:VEVENT
BEGIN:VEVENT
DTSTART;TZID=America/New_York:20290104T090000
DTEND;TZID=America/New_York:20290104T100000
DTSTAMP:20260425T163025
CREATED:20250507T155840Z
LAST-MODIFIED:20250507T155840Z
UID:10008280-1862211600-1862215200@yanaclub.com
SUMMARY:SANS (Sober Now Sane)
DESCRIPTION:Open / Discussion
URL:https://yanaclub.com/event/sans-sober-now-sane/2029-01-04/
CATEGORIES:AA
END:VEVENT
BEGIN:VEVENT
DTSTART;TZID=America/New_York:20290104T121500
DTEND;TZID=America/New_York:20290104T131500
DTSTAMP:20260425T163025
CREATED:20250507T154857Z
LAST-MODIFIED:20250507T155521Z
UID:10002389-1862223300-1862226900@yanaclub.com
SUMMARY:No Name
DESCRIPTION:Open / Topic Discussion
URL:https://yanaclub.com/event/no-name/2029-01-04/
CATEGORIES:AA
END:VEVENT
BEGIN:VEVENT
DTSTART;TZID=America/New_York:20290104T173000
DTEND;TZID=America/New_York:20290104T183000
DTSTAMP:20260425T163025
CREATED:20250507T155118Z
LAST-MODIFIED:20250507T155118Z
UID:10003907-1862242200-1862245800@yanaclub.com
SUMMARY:Serenity
DESCRIPTION:Open Discussion
URL:https://yanaclub.com/event/serenity/2029-01-04/
CATEGORIES:AA
END:VEVENT
BEGIN:VEVENT
DTSTART;TZID=America/New_York:20290104T184500
DTEND;TZID=America/New_York:20290104T194500
DTSTAMP:20260425T163025
CREATED:20250507T161123Z
LAST-MODIFIED:20250507T161123Z
UID:10011434-1862246700-1862250300@yanaclub.com
SUMMARY:645 YANA Womens
DESCRIPTION:Closed / Topic Discussion / Womens
URL:https://yanaclub.com/event/645-yana-womens/2029-01-04/
CATEGORIES:AA
END:VEVENT
BEGIN:VEVENT
DTSTART;TZID=America/New_York:20290104T200000
DTEND;TZID=America/New_York:20290104T210000
DTSTAMP:20260425T163025
CREATED:20250507T162741Z
LAST-MODIFIED:20250507T162741Z
UID:10015357-1862251200-1862254800@yanaclub.com
SUMMARY:Open Arms
DESCRIPTION:Open / Discussion / How It Works
URL:https://yanaclub.com/event/open-arms/2029-01-04/
CATEGORIES:NA
END:VEVENT
BEGIN:VEVENT
DTSTART;TZID=America/New_York:20290105T090000
DTEND;TZID=America/New_York:20290105T100000
DTSTAMP:20260425T163025
CREATED:20250507T155840Z
LAST-MODIFIED:20250507T155840Z
UID:10008281-1862298000-1862301600@yanaclub.com
SUMMARY:SANS (Sober Now Sane)
DESCRIPTION:Open / Discussion
URL:https://yanaclub.com/event/sans-sober-now-sane/2029-01-05/
CATEGORIES:AA
END:VEVENT
BEGIN:VEVENT
DTSTART;TZID=America/New_York:20290105T121500
DTEND;TZID=America/New_York:20290105T131500
DTSTAMP:20260425T163025
CREATED:20250507T154857Z
LAST-MODIFIED:20250507T155521Z
UID:10002390-1862309700-1862313300@yanaclub.com
SUMMARY:No Name
DESCRIPTION:Open / Topic Discussion
URL:https://yanaclub.com/event/no-name/2029-01-05/
CATEGORIES:AA
END:VEVENT
BEGIN:VEVENT
DTSTART;TZID=America/New_York:20290105T121500
DTEND;TZID=America/New_York:20290105T131500
DTSTAMP:20260425T163025
CREATED:20250507T162126Z
LAST-MODIFIED:20250507T162126Z
UID:10014311-1862309700-1862313300@yanaclub.com
SUMMARY:Friday Luncheon AFG
DESCRIPTION:Closed / Discussion
URL:https://yanaclub.com/event/friday-luncheon-afg-2/2029-01-05/
CATEGORIES:AL-ANON
END:VEVENT
BEGIN:VEVENT
DTSTART;TZID=America/New_York:20290105T180000
DTEND;TZID=America/New_York:20290105T190000
DTSTAMP:20260425T163025
CREATED:20250507T161244Z
LAST-MODIFIED:20250507T161244Z
UID:10011956-1862330400-1862334000@yanaclub.com
SUMMARY:Young Peoples
DESCRIPTION:Open / Discussion
URL:https://yanaclub.com/event/young-peoples/2029-01-05/
CATEGORIES:AA
END:VEVENT
BEGIN:VEVENT
DTSTART;TZID=America/New_York:20290105T180000
DTEND;TZID=America/New_York:20290105T190000
DTSTAMP:20260425T163025
CREATED:20250507T161346Z
LAST-MODIFIED:20250507T161346Z
UID:10012217-1862330400-1862334000@yanaclub.com
SUMMARY:Together We Can
DESCRIPTION:Open / Discussion
URL:https://yanaclub.com/event/together-we-can/2029-01-05/
CATEGORIES:AA
END:VEVENT
BEGIN:VEVENT
DTSTART;TZID=America/New_York:20290105T200000
DTEND;TZID=America/New_York:20290105T210000
DTSTAMP:20260425T163025
CREATED:20250507T160652Z
LAST-MODIFIED:20250507T160652Z
UID:10010181-1862337600-1862341200@yanaclub.com
SUMMARY:Grupo Latino
DESCRIPTION:Open / Discussion / Spanish Language
URL:https://yanaclub.com/event/grupo-latino/2029-01-05/
CATEGORIES:AA
END:VEVENT
BEGIN:VEVENT
DTSTART;TZID=America/New_York:20290106T090000
DTEND;TZID=America/New_York:20290106T100000
DTSTAMP:20260425T163025
CREATED:20250502T104804Z
LAST-MODIFIED:20250502T104804Z
UID:10000194-1862384400-1862388000@yanaclub.com
SUMMARY:Saturday Big Book Study
DESCRIPTION:Type: O/BB
URL:https://yanaclub.com/event/saturday-big-book-study/2029-01-06/
CATEGORIES:AA
END:VEVENT
BEGIN:VEVENT
DTSTART;TZID=America/New_York:20290106T121500
DTEND;TZID=America/New_York:20290106T131500
DTSTAMP:20260425T163025
CREATED:20250507T154857Z
LAST-MODIFIED:20250507T155521Z
UID:10002391-1862396100-1862399700@yanaclub.com
SUMMARY:No Name
DESCRIPTION:Open / Topic Discussion
URL:https://yanaclub.com/event/no-name/2029-01-06/
CATEGORIES:AA
END:VEVENT
BEGIN:VEVENT
DTSTART;TZID=America/New_York:20290106T173000
DTEND;TZID=America/New_York:20290106T183000
DTSTAMP:20260425T163025
CREATED:20250507T155250Z
LAST-MODIFIED:20250507T155250Z
UID:10005423-1862415000-1862418600@yanaclub.com
SUMMARY:Serenity 1st Step
DESCRIPTION:Open / Discussion / Beginners
URL:https://yanaclub.com/event/serenity-1st-step/2029-01-06/
CATEGORIES:AA
END:VEVENT
BEGIN:VEVENT
DTSTART;TZID=America/New_York:20290106T200000
DTEND;TZID=America/New_York:20290106T210000
DTSTAMP:20260425T163025
CREATED:20250507T160652Z
LAST-MODIFIED:20250507T160652Z
UID:10010182-1862424000-1862427600@yanaclub.com
SUMMARY:Grupo Latino
DESCRIPTION:Open / Discussion / Spanish Language
URL:https://yanaclub.com/event/grupo-latino/2029-01-06/
CATEGORIES:AA
END:VEVENT
END:VCALENDAR