BEGIN:VCALENDAR
VERSION:2.0
PRODID:-//YANA Club of Hilton Head Island - ECPv6.11.2//NONSGML v1.0//EN
CALSCALE:GREGORIAN
METHOD:PUBLISH
X-ORIGINAL-URL:https://yanaclub.com
X-WR-CALDESC:Events for YANA Club of Hilton Head Island
REFRESH-INTERVAL;VALUE=DURATION:PT1H
X-Robots-Tag:noindex
X-PUBLISHED-TTL:PT1H
BEGIN:VTIMEZONE
TZID:America/New_York
BEGIN:DAYLIGHT
TZOFFSETFROM:-0500
TZOFFSETTO:-0400
TZNAME:EDT
DTSTART:20280312T070000
END:DAYLIGHT
BEGIN:STANDARD
TZOFFSETFROM:-0400
TZOFFSETTO:-0500
TZNAME:EST
DTSTART:20281105T060000
END:STANDARD
END:VTIMEZONE
BEGIN:VEVENT
DTSTART;TZID=America/New_York:20281127T090000
DTEND;TZID=America/New_York:20281127T100000
DTSTAMP:20260425T113405
CREATED:20250507T155840Z
LAST-MODIFIED:20250507T155840Z
UID:10008252-1858928400-1858932000@yanaclub.com
SUMMARY:SANS (Sober Now Sane)
DESCRIPTION:Open / Discussion
URL:https://yanaclub.com/event/sans-sober-now-sane/2028-11-27/
CATEGORIES:AA
END:VEVENT
BEGIN:VEVENT
DTSTART;TZID=America/New_York:20281127T121500
DTEND;TZID=America/New_York:20281127T131500
DTSTAMP:20260425T113405
CREATED:20250507T154857Z
LAST-MODIFIED:20250507T155521Z
UID:10002351-1858940100-1858943700@yanaclub.com
SUMMARY:No Name
DESCRIPTION:Open / Topic Discussion
URL:https://yanaclub.com/event/no-name/2028-11-27/
CATEGORIES:AA
END:VEVENT
BEGIN:VEVENT
DTSTART;TZID=America/New_York:20281127T173000
DTEND;TZID=America/New_York:20281127T183000
DTSTAMP:20260425T113405
CREATED:20250507T155118Z
LAST-MODIFIED:20250507T155118Z
UID:10003884-1858959000-1858962600@yanaclub.com
SUMMARY:Serenity
DESCRIPTION:Open Discussion
URL:https://yanaclub.com/event/serenity/2028-11-27/
CATEGORIES:AA
END:VEVENT
BEGIN:VEVENT
DTSTART;TZID=America/New_York:20281128T090000
DTEND;TZID=America/New_York:20281128T100000
DTSTAMP:20260425T113405
CREATED:20250507T155840Z
LAST-MODIFIED:20250507T155840Z
UID:10008253-1859014800-1859018400@yanaclub.com
SUMMARY:SANS (Sober Now Sane)
DESCRIPTION:Open / Discussion
URL:https://yanaclub.com/event/sans-sober-now-sane/2028-11-28/
CATEGORIES:AA
END:VEVENT
BEGIN:VEVENT
DTSTART;TZID=America/New_York:20281128T121500
DTEND;TZID=America/New_York:20281128T131500
DTSTAMP:20260425T113405
CREATED:20250507T154857Z
LAST-MODIFIED:20250507T155521Z
UID:10002352-1859026500-1859030100@yanaclub.com
SUMMARY:No Name
DESCRIPTION:Open / Topic Discussion
URL:https://yanaclub.com/event/no-name/2028-11-28/
CATEGORIES:AA
END:VEVENT
BEGIN:VEVENT
DTSTART;TZID=America/New_York:20281128T173000
DTEND;TZID=America/New_York:20281128T183000
DTSTAMP:20260425T113405
CREATED:20250507T155118Z
LAST-MODIFIED:20250507T155118Z
UID:10003885-1859045400-1859049000@yanaclub.com
SUMMARY:Serenity
DESCRIPTION:Open Discussion
URL:https://yanaclub.com/event/serenity/2028-11-28/
CATEGORIES:AA
END:VEVENT
BEGIN:VEVENT
DTSTART;TZID=America/New_York:20281128T190000
DTEND;TZID=America/New_York:20281128T200000
DTSTAMP:20260425T113405
CREATED:20250507T160104Z
LAST-MODIFIED:20250507T160104Z
UID:10008816-1859050800-1859054400@yanaclub.com
SUMMARY:Mens Back to Basics
DESCRIPTION:Closed / Discussion / Mens
URL:https://yanaclub.com/event/mens-back-to-basics/2028-11-28/
CATEGORIES:AA
END:VEVENT
BEGIN:VEVENT
DTSTART;TZID=America/New_York:20281128T200000
DTEND;TZID=America/New_York:20281128T210000
DTSTAMP:20260425T113405
CREATED:20250507T160652Z
LAST-MODIFIED:20250507T160652Z
UID:10010159-1859054400-1859058000@yanaclub.com
SUMMARY:Grupo Latino
DESCRIPTION:Open / Discussion / Spanish Language
URL:https://yanaclub.com/event/grupo-latino/2028-11-28/
CATEGORIES:AA
END:VEVENT
BEGIN:VEVENT
DTSTART;TZID=America/New_York:20281129T070000
DTEND;TZID=America/New_York:20281129T080000
DTSTAMP:20260425T113405
CREATED:20250507T160920Z
LAST-MODIFIED:20250507T160920Z
UID:10010907-1859094000-1859097600@yanaclub.com
SUMMARY:Design for Living
DESCRIPTION:Closed / Discussion
URL:https://yanaclub.com/event/design-for-living/2028-11-29/
CATEGORIES:AA
END:VEVENT
BEGIN:VEVENT
DTSTART;TZID=America/New_York:20281129T090000
DTEND;TZID=America/New_York:20281129T100000
DTSTAMP:20260425T113405
CREATED:20250507T155840Z
LAST-MODIFIED:20250507T155840Z
UID:10008254-1859101200-1859104800@yanaclub.com
SUMMARY:SANS (Sober Now Sane)
DESCRIPTION:Open / Discussion
URL:https://yanaclub.com/event/sans-sober-now-sane/2028-11-29/
CATEGORIES:AA
END:VEVENT
BEGIN:VEVENT
DTSTART;TZID=America/New_York:20281129T121500
DTEND;TZID=America/New_York:20281129T131500
DTSTAMP:20260425T113405
CREATED:20250507T154857Z
LAST-MODIFIED:20250507T155521Z
UID:10002353-1859112900-1859116500@yanaclub.com
SUMMARY:No Name
DESCRIPTION:Open / Topic Discussion
URL:https://yanaclub.com/event/no-name/2028-11-29/
CATEGORIES:AA
END:VEVENT
BEGIN:VEVENT
DTSTART;TZID=America/New_York:20281129T173000
DTEND;TZID=America/New_York:20281129T183000
DTSTAMP:20260425T113405
CREATED:20250507T155118Z
LAST-MODIFIED:20250507T155118Z
UID:10003886-1859131800-1859135400@yanaclub.com
SUMMARY:Serenity
DESCRIPTION:Open Discussion
URL:https://yanaclub.com/event/serenity/2028-11-29/
CATEGORIES:AA
END:VEVENT
BEGIN:VEVENT
DTSTART;TZID=America/New_York:20281129T173000
DTEND;TZID=America/New_York:20281129T183000
DTSTAMP:20260425T113405
CREATED:20251027T215053Z
LAST-MODIFIED:20251027T215053Z
UID:10019402-1859131800-1859135400@yanaclub.com
SUMMARY:Keeping an Open Mind
DESCRIPTION:Midweek Al-Anon Open Discussion
URL:https://yanaclub.com/event/keeping-an-open-mind/2028-11-29/
CATEGORIES:AL-ANON,Recurring YANA Events
END:VEVENT
BEGIN:VEVENT
DTSTART;TZID=America/New_York:20281129T200000
DTEND;TZID=America/New_York:20281129T210000
DTSTAMP:20260425T113405
CREATED:20250507T160652Z
LAST-MODIFIED:20250507T160652Z
UID:10010160-1859140800-1859144400@yanaclub.com
SUMMARY:Grupo Latino
DESCRIPTION:Open / Discussion / Spanish Language
URL:https://yanaclub.com/event/grupo-latino/2028-11-29/
CATEGORIES:AA
END:VEVENT
BEGIN:VEVENT
DTSTART;TZID=America/New_York:20281130T090000
DTEND;TZID=America/New_York:20281130T100000
DTSTAMP:20260425T113405
CREATED:20250507T155840Z
LAST-MODIFIED:20250507T155840Z
UID:10008255-1859187600-1859191200@yanaclub.com
SUMMARY:SANS (Sober Now Sane)
DESCRIPTION:Open / Discussion
URL:https://yanaclub.com/event/sans-sober-now-sane/2028-11-30/
CATEGORIES:AA
END:VEVENT
BEGIN:VEVENT
DTSTART;TZID=America/New_York:20281130T121500
DTEND;TZID=America/New_York:20281130T131500
DTSTAMP:20260425T113405
CREATED:20250507T154857Z
LAST-MODIFIED:20250507T155521Z
UID:10002354-1859199300-1859202900@yanaclub.com
SUMMARY:No Name
DESCRIPTION:Open / Topic Discussion
URL:https://yanaclub.com/event/no-name/2028-11-30/
CATEGORIES:AA
END:VEVENT
BEGIN:VEVENT
DTSTART;TZID=America/New_York:20281130T173000
DTEND;TZID=America/New_York:20281130T183000
DTSTAMP:20260425T113405
CREATED:20250507T155118Z
LAST-MODIFIED:20250507T155118Z
UID:10003887-1859218200-1859221800@yanaclub.com
SUMMARY:Serenity
DESCRIPTION:Open Discussion
URL:https://yanaclub.com/event/serenity/2028-11-30/
CATEGORIES:AA
END:VEVENT
BEGIN:VEVENT
DTSTART;TZID=America/New_York:20281130T184500
DTEND;TZID=America/New_York:20281130T194500
DTSTAMP:20260425T113405
CREATED:20250507T161123Z
LAST-MODIFIED:20250507T161123Z
UID:10011429-1859222700-1859226300@yanaclub.com
SUMMARY:645 YANA Womens
DESCRIPTION:Closed / Topic Discussion / Womens
URL:https://yanaclub.com/event/645-yana-womens/2028-11-30/
CATEGORIES:AA
END:VEVENT
BEGIN:VEVENT
DTSTART;TZID=America/New_York:20281130T200000
DTEND;TZID=America/New_York:20281130T210000
DTSTAMP:20260425T113405
CREATED:20250507T162741Z
LAST-MODIFIED:20250507T162741Z
UID:10015352-1859227200-1859230800@yanaclub.com
SUMMARY:Open Arms
DESCRIPTION:Open / Discussion / How It Works
URL:https://yanaclub.com/event/open-arms/2028-11-30/
CATEGORIES:NA
END:VEVENT
BEGIN:VEVENT
DTSTART;TZID=America/New_York:20281201T090000
DTEND;TZID=America/New_York:20281201T100000
DTSTAMP:20260425T113405
CREATED:20250507T155840Z
LAST-MODIFIED:20250507T155840Z
UID:10008256-1859274000-1859277600@yanaclub.com
SUMMARY:SANS (Sober Now Sane)
DESCRIPTION:Open / Discussion
URL:https://yanaclub.com/event/sans-sober-now-sane/2028-12-01/
CATEGORIES:AA
END:VEVENT
BEGIN:VEVENT
DTSTART;TZID=America/New_York:20281201T121500
DTEND;TZID=America/New_York:20281201T131500
DTSTAMP:20260425T113405
CREATED:20250507T154857Z
LAST-MODIFIED:20250507T155521Z
UID:10002355-1859285700-1859289300@yanaclub.com
SUMMARY:No Name
DESCRIPTION:Open / Topic Discussion
URL:https://yanaclub.com/event/no-name/2028-12-01/
CATEGORIES:AA
END:VEVENT
BEGIN:VEVENT
DTSTART;TZID=America/New_York:20281201T121500
DTEND;TZID=America/New_York:20281201T131500
DTSTAMP:20260425T113405
CREATED:20250507T162126Z
LAST-MODIFIED:20250507T162126Z
UID:10014306-1859285700-1859289300@yanaclub.com
SUMMARY:Friday Luncheon AFG
DESCRIPTION:Closed / Discussion
URL:https://yanaclub.com/event/friday-luncheon-afg-2/2028-12-01/
CATEGORIES:AL-ANON
END:VEVENT
BEGIN:VEVENT
DTSTART;TZID=America/New_York:20281201T180000
DTEND;TZID=America/New_York:20281201T190000
DTSTAMP:20260425T113405
CREATED:20250507T161244Z
LAST-MODIFIED:20250507T161244Z
UID:10011951-1859306400-1859310000@yanaclub.com
SUMMARY:Young Peoples
DESCRIPTION:Open / Discussion
URL:https://yanaclub.com/event/young-peoples/2028-12-01/
CATEGORIES:AA
END:VEVENT
BEGIN:VEVENT
DTSTART;TZID=America/New_York:20281201T180000
DTEND;TZID=America/New_York:20281201T190000
DTSTAMP:20260425T113405
CREATED:20250507T161346Z
LAST-MODIFIED:20250507T161346Z
UID:10012212-1859306400-1859310000@yanaclub.com
SUMMARY:Together We Can
DESCRIPTION:Open / Discussion
URL:https://yanaclub.com/event/together-we-can/2028-12-01/
CATEGORIES:AA
END:VEVENT
BEGIN:VEVENT
DTSTART;TZID=America/New_York:20281201T200000
DTEND;TZID=America/New_York:20281201T210000
DTSTAMP:20260425T113405
CREATED:20250507T160652Z
LAST-MODIFIED:20250507T160652Z
UID:10010161-1859313600-1859317200@yanaclub.com
SUMMARY:Grupo Latino
DESCRIPTION:Open / Discussion / Spanish Language
URL:https://yanaclub.com/event/grupo-latino/2028-12-01/
CATEGORIES:AA
END:VEVENT
BEGIN:VEVENT
DTSTART;TZID=America/New_York:20281202T090000
DTEND;TZID=America/New_York:20281202T100000
DTSTAMP:20260425T113405
CREATED:20250502T104804Z
LAST-MODIFIED:20250502T104804Z
UID:10000189-1859360400-1859364000@yanaclub.com
SUMMARY:Saturday Big Book Study
DESCRIPTION:Type: O/BB
URL:https://yanaclub.com/event/saturday-big-book-study/2028-12-02/
CATEGORIES:AA
END:VEVENT
BEGIN:VEVENT
DTSTART;TZID=America/New_York:20281202T121500
DTEND;TZID=America/New_York:20281202T131500
DTSTAMP:20260425T113405
CREATED:20250507T154857Z
LAST-MODIFIED:20250507T155521Z
UID:10002356-1859372100-1859375700@yanaclub.com
SUMMARY:No Name
DESCRIPTION:Open / Topic Discussion
URL:https://yanaclub.com/event/no-name/2028-12-02/
CATEGORIES:AA
END:VEVENT
BEGIN:VEVENT
DTSTART;TZID=America/New_York:20281202T173000
DTEND;TZID=America/New_York:20281202T183000
DTSTAMP:20260425T113405
CREATED:20250507T155250Z
LAST-MODIFIED:20250507T155250Z
UID:10005418-1859391000-1859394600@yanaclub.com
SUMMARY:Serenity 1st Step
DESCRIPTION:Open / Discussion / Beginners
URL:https://yanaclub.com/event/serenity-1st-step/2028-12-02/
CATEGORIES:AA
END:VEVENT
BEGIN:VEVENT
DTSTART;TZID=America/New_York:20281202T200000
DTEND;TZID=America/New_York:20281202T210000
DTSTAMP:20260425T113405
CREATED:20250507T160652Z
LAST-MODIFIED:20250507T160652Z
UID:10010162-1859400000-1859403600@yanaclub.com
SUMMARY:Grupo Latino
DESCRIPTION:Open / Discussion / Spanish Language
URL:https://yanaclub.com/event/grupo-latino/2028-12-02/
CATEGORIES:AA
END:VEVENT
BEGIN:VEVENT
DTSTART;TZID=America/New_York:20281203T080000
DTEND;TZID=America/New_York:20281203T090000
DTSTAMP:20260425T113405
CREATED:20250507T163100Z
LAST-MODIFIED:20250507T163100Z
UID:10015876-1859443200-1859446800@yanaclub.com
SUMMARY:YANA Sunday Breakfast
DESCRIPTION:
URL:https://yanaclub.com/event/yana-sunday-breakfast/2028-12-03/
CATEGORIES:Recurring YANA Events
END:VEVENT
END:VCALENDAR