BEGIN:VCALENDAR
VERSION:2.0
PRODID:-//YANA Club of Hilton Head Island - ECPv6.11.2//NONSGML v1.0//EN
CALSCALE:GREGORIAN
METHOD:PUBLISH
X-WR-CALNAME:YANA Club of Hilton Head Island
X-ORIGINAL-URL:https://yanaclub.com
X-WR-CALDESC:Events for YANA Club of Hilton Head Island
REFRESH-INTERVAL;VALUE=DURATION:PT1H
X-Robots-Tag:noindex
X-PUBLISHED-TTL:PT1H
BEGIN:VTIMEZONE
TZID:America/New_York
BEGIN:DAYLIGHT
TZOFFSETFROM:-0500
TZOFFSETTO:-0400
TZNAME:EDT
DTSTART:20280312T070000
END:DAYLIGHT
BEGIN:STANDARD
TZOFFSETFROM:-0400
TZOFFSETTO:-0500
TZNAME:EST
DTSTART:20281105T060000
END:STANDARD
END:VTIMEZONE
BEGIN:VEVENT
DTSTART;TZID=America/New_York:20281023T090000
DTEND;TZID=America/New_York:20281023T100000
DTSTAMP:20260425T113409
CREATED:20250507T155840Z
LAST-MODIFIED:20250507T155840Z
UID:10008227-1855904400-1855908000@yanaclub.com
SUMMARY:SANS (Sober Now Sane)
DESCRIPTION:Open / Discussion
URL:https://yanaclub.com/event/sans-sober-now-sane/2028-10-23/
CATEGORIES:AA
END:VEVENT
BEGIN:VEVENT
DTSTART;TZID=America/New_York:20281023T121500
DTEND;TZID=America/New_York:20281023T131500
DTSTAMP:20260425T113409
CREATED:20250507T154857Z
LAST-MODIFIED:20250507T155521Z
UID:10002316-1855916100-1855919700@yanaclub.com
SUMMARY:No Name
DESCRIPTION:Open / Topic Discussion
URL:https://yanaclub.com/event/no-name/2028-10-23/
CATEGORIES:AA
END:VEVENT
BEGIN:VEVENT
DTSTART;TZID=America/New_York:20281023T173000
DTEND;TZID=America/New_York:20281023T183000
DTSTAMP:20260425T113409
CREATED:20250507T155118Z
LAST-MODIFIED:20250507T155118Z
UID:10003864-1855935000-1855938600@yanaclub.com
SUMMARY:Serenity
DESCRIPTION:Open Discussion
URL:https://yanaclub.com/event/serenity/2028-10-23/
CATEGORIES:AA
END:VEVENT
BEGIN:VEVENT
DTSTART;TZID=America/New_York:20281024T090000
DTEND;TZID=America/New_York:20281024T100000
DTSTAMP:20260425T113409
CREATED:20250507T155840Z
LAST-MODIFIED:20250507T155840Z
UID:10008228-1855990800-1855994400@yanaclub.com
SUMMARY:SANS (Sober Now Sane)
DESCRIPTION:Open / Discussion
URL:https://yanaclub.com/event/sans-sober-now-sane/2028-10-24/
CATEGORIES:AA
END:VEVENT
BEGIN:VEVENT
DTSTART;TZID=America/New_York:20281024T121500
DTEND;TZID=America/New_York:20281024T131500
DTSTAMP:20260425T113409
CREATED:20250507T154857Z
LAST-MODIFIED:20250507T155521Z
UID:10002317-1856002500-1856006100@yanaclub.com
SUMMARY:No Name
DESCRIPTION:Open / Topic Discussion
URL:https://yanaclub.com/event/no-name/2028-10-24/
CATEGORIES:AA
END:VEVENT
BEGIN:VEVENT
DTSTART;TZID=America/New_York:20281024T173000
DTEND;TZID=America/New_York:20281024T183000
DTSTAMP:20260425T113409
CREATED:20250507T155118Z
LAST-MODIFIED:20250507T155118Z
UID:10003865-1856021400-1856025000@yanaclub.com
SUMMARY:Serenity
DESCRIPTION:Open Discussion
URL:https://yanaclub.com/event/serenity/2028-10-24/
CATEGORIES:AA
END:VEVENT
BEGIN:VEVENT
DTSTART;TZID=America/New_York:20281024T190000
DTEND;TZID=America/New_York:20281024T200000
DTSTAMP:20260425T113409
CREATED:20250507T160104Z
LAST-MODIFIED:20250507T160104Z
UID:10008811-1856026800-1856030400@yanaclub.com
SUMMARY:Mens Back to Basics
DESCRIPTION:Closed / Discussion / Mens
URL:https://yanaclub.com/event/mens-back-to-basics/2028-10-24/
CATEGORIES:AA
END:VEVENT
BEGIN:VEVENT
DTSTART;TZID=America/New_York:20281024T200000
DTEND;TZID=America/New_York:20281024T210000
DTSTAMP:20260425T113409
CREATED:20250507T160652Z
LAST-MODIFIED:20250507T160652Z
UID:10010139-1856030400-1856034000@yanaclub.com
SUMMARY:Grupo Latino
DESCRIPTION:Open / Discussion / Spanish Language
URL:https://yanaclub.com/event/grupo-latino/2028-10-24/
CATEGORIES:AA
END:VEVENT
BEGIN:VEVENT
DTSTART;TZID=America/New_York:20281025T070000
DTEND;TZID=America/New_York:20281025T080000
DTSTAMP:20260425T113409
CREATED:20250507T160920Z
LAST-MODIFIED:20250507T160920Z
UID:10010902-1856070000-1856073600@yanaclub.com
SUMMARY:Design for Living
DESCRIPTION:Closed / Discussion
URL:https://yanaclub.com/event/design-for-living/2028-10-25/
CATEGORIES:AA
END:VEVENT
BEGIN:VEVENT
DTSTART;TZID=America/New_York:20281025T090000
DTEND;TZID=America/New_York:20281025T100000
DTSTAMP:20260425T113409
CREATED:20250507T155840Z
LAST-MODIFIED:20250507T155840Z
UID:10008229-1856077200-1856080800@yanaclub.com
SUMMARY:SANS (Sober Now Sane)
DESCRIPTION:Open / Discussion
URL:https://yanaclub.com/event/sans-sober-now-sane/2028-10-25/
CATEGORIES:AA
END:VEVENT
BEGIN:VEVENT
DTSTART;TZID=America/New_York:20281025T121500
DTEND;TZID=America/New_York:20281025T131500
DTSTAMP:20260425T113409
CREATED:20250507T154857Z
LAST-MODIFIED:20250507T155521Z
UID:10002318-1856088900-1856092500@yanaclub.com
SUMMARY:No Name
DESCRIPTION:Open / Topic Discussion
URL:https://yanaclub.com/event/no-name/2028-10-25/
CATEGORIES:AA
END:VEVENT
BEGIN:VEVENT
DTSTART;TZID=America/New_York:20281025T173000
DTEND;TZID=America/New_York:20281025T183000
DTSTAMP:20260425T113409
CREATED:20250507T155118Z
LAST-MODIFIED:20250507T155118Z
UID:10003866-1856107800-1856111400@yanaclub.com
SUMMARY:Serenity
DESCRIPTION:Open Discussion
URL:https://yanaclub.com/event/serenity/2028-10-25/
CATEGORIES:AA
END:VEVENT
BEGIN:VEVENT
DTSTART;TZID=America/New_York:20281025T173000
DTEND;TZID=America/New_York:20281025T183000
DTSTAMP:20260425T113409
CREATED:20251027T215053Z
LAST-MODIFIED:20251027T215053Z
UID:10019397-1856107800-1856111400@yanaclub.com
SUMMARY:Keeping an Open Mind
DESCRIPTION:Midweek Al-Anon Open Discussion
URL:https://yanaclub.com/event/keeping-an-open-mind/2028-10-25/
CATEGORIES:AL-ANON,Recurring YANA Events
END:VEVENT
BEGIN:VEVENT
DTSTART;TZID=America/New_York:20281025T200000
DTEND;TZID=America/New_York:20281025T210000
DTSTAMP:20260425T113409
CREATED:20250507T160652Z
LAST-MODIFIED:20250507T160652Z
UID:10010140-1856116800-1856120400@yanaclub.com
SUMMARY:Grupo Latino
DESCRIPTION:Open / Discussion / Spanish Language
URL:https://yanaclub.com/event/grupo-latino/2028-10-25/
CATEGORIES:AA
END:VEVENT
BEGIN:VEVENT
DTSTART;TZID=America/New_York:20281026T090000
DTEND;TZID=America/New_York:20281026T100000
DTSTAMP:20260425T113409
CREATED:20250507T155840Z
LAST-MODIFIED:20250507T155840Z
UID:10008230-1856163600-1856167200@yanaclub.com
SUMMARY:SANS (Sober Now Sane)
DESCRIPTION:Open / Discussion
URL:https://yanaclub.com/event/sans-sober-now-sane/2028-10-26/
CATEGORIES:AA
END:VEVENT
BEGIN:VEVENT
DTSTART;TZID=America/New_York:20281026T121500
DTEND;TZID=America/New_York:20281026T131500
DTSTAMP:20260425T113409
CREATED:20250507T154857Z
LAST-MODIFIED:20250507T155521Z
UID:10002319-1856175300-1856178900@yanaclub.com
SUMMARY:No Name
DESCRIPTION:Open / Topic Discussion
URL:https://yanaclub.com/event/no-name/2028-10-26/
CATEGORIES:AA
END:VEVENT
BEGIN:VEVENT
DTSTART;TZID=America/New_York:20281026T173000
DTEND;TZID=America/New_York:20281026T183000
DTSTAMP:20260425T113409
CREATED:20250507T155118Z
LAST-MODIFIED:20250507T155118Z
UID:10003867-1856194200-1856197800@yanaclub.com
SUMMARY:Serenity
DESCRIPTION:Open Discussion
URL:https://yanaclub.com/event/serenity/2028-10-26/
CATEGORIES:AA
END:VEVENT
BEGIN:VEVENT
DTSTART;TZID=America/New_York:20281026T184500
DTEND;TZID=America/New_York:20281026T194500
DTSTAMP:20260425T113409
CREATED:20250507T161123Z
LAST-MODIFIED:20250507T161123Z
UID:10011424-1856198700-1856202300@yanaclub.com
SUMMARY:645 YANA Womens
DESCRIPTION:Closed / Topic Discussion / Womens
URL:https://yanaclub.com/event/645-yana-womens/2028-10-26/
CATEGORIES:AA
END:VEVENT
BEGIN:VEVENT
DTSTART;TZID=America/New_York:20281026T200000
DTEND;TZID=America/New_York:20281026T210000
DTSTAMP:20260425T113409
CREATED:20250507T162741Z
LAST-MODIFIED:20250507T162741Z
UID:10015347-1856203200-1856206800@yanaclub.com
SUMMARY:Open Arms
DESCRIPTION:Open / Discussion / How It Works
URL:https://yanaclub.com/event/open-arms/2028-10-26/
CATEGORIES:NA
END:VEVENT
BEGIN:VEVENT
DTSTART;TZID=America/New_York:20281027T090000
DTEND;TZID=America/New_York:20281027T100000
DTSTAMP:20260425T113409
CREATED:20250507T155840Z
LAST-MODIFIED:20250507T155840Z
UID:10008231-1856250000-1856253600@yanaclub.com
SUMMARY:SANS (Sober Now Sane)
DESCRIPTION:Open / Discussion
URL:https://yanaclub.com/event/sans-sober-now-sane/2028-10-27/
CATEGORIES:AA
END:VEVENT
BEGIN:VEVENT
DTSTART;TZID=America/New_York:20281027T121500
DTEND;TZID=America/New_York:20281027T131500
DTSTAMP:20260425T113409
CREATED:20250507T154857Z
LAST-MODIFIED:20250507T155521Z
UID:10002320-1856261700-1856265300@yanaclub.com
SUMMARY:No Name
DESCRIPTION:Open / Topic Discussion
URL:https://yanaclub.com/event/no-name/2028-10-27/
CATEGORIES:AA
END:VEVENT
BEGIN:VEVENT
DTSTART;TZID=America/New_York:20281027T121500
DTEND;TZID=America/New_York:20281027T131500
DTSTAMP:20260425T113409
CREATED:20250507T162126Z
LAST-MODIFIED:20250507T162126Z
UID:10014301-1856261700-1856265300@yanaclub.com
SUMMARY:Friday Luncheon AFG
DESCRIPTION:Closed / Discussion
URL:https://yanaclub.com/event/friday-luncheon-afg-2/2028-10-27/
CATEGORIES:AL-ANON
END:VEVENT
BEGIN:VEVENT
DTSTART;TZID=America/New_York:20281027T180000
DTEND;TZID=America/New_York:20281027T190000
DTSTAMP:20260425T113409
CREATED:20250507T161244Z
LAST-MODIFIED:20250507T161244Z
UID:10011946-1856282400-1856286000@yanaclub.com
SUMMARY:Young Peoples
DESCRIPTION:Open / Discussion
URL:https://yanaclub.com/event/young-peoples/2028-10-27/
CATEGORIES:AA
END:VEVENT
BEGIN:VEVENT
DTSTART;TZID=America/New_York:20281027T180000
DTEND;TZID=America/New_York:20281027T190000
DTSTAMP:20260425T113409
CREATED:20250507T161346Z
LAST-MODIFIED:20250507T161346Z
UID:10012207-1856282400-1856286000@yanaclub.com
SUMMARY:Together We Can
DESCRIPTION:Open / Discussion
URL:https://yanaclub.com/event/together-we-can/2028-10-27/
CATEGORIES:AA
END:VEVENT
BEGIN:VEVENT
DTSTART;TZID=America/New_York:20281027T200000
DTEND;TZID=America/New_York:20281027T210000
DTSTAMP:20260425T113409
CREATED:20250507T160652Z
LAST-MODIFIED:20250507T160652Z
UID:10010141-1856289600-1856293200@yanaclub.com
SUMMARY:Grupo Latino
DESCRIPTION:Open / Discussion / Spanish Language
URL:https://yanaclub.com/event/grupo-latino/2028-10-27/
CATEGORIES:AA
END:VEVENT
BEGIN:VEVENT
DTSTART;TZID=America/New_York:20281028T090000
DTEND;TZID=America/New_York:20281028T100000
DTSTAMP:20260425T113409
CREATED:20250502T104804Z
LAST-MODIFIED:20250502T104804Z
UID:10000184-1856336400-1856340000@yanaclub.com
SUMMARY:Saturday Big Book Study
DESCRIPTION:Type: O/BB
URL:https://yanaclub.com/event/saturday-big-book-study/2028-10-28/
CATEGORIES:AA
END:VEVENT
BEGIN:VEVENT
DTSTART;TZID=America/New_York:20281028T121500
DTEND;TZID=America/New_York:20281028T131500
DTSTAMP:20260425T113409
CREATED:20250507T154857Z
LAST-MODIFIED:20250507T155521Z
UID:10002321-1856348100-1856351700@yanaclub.com
SUMMARY:No Name
DESCRIPTION:Open / Topic Discussion
URL:https://yanaclub.com/event/no-name/2028-10-28/
CATEGORIES:AA
END:VEVENT
BEGIN:VEVENT
DTSTART;TZID=America/New_York:20281028T173000
DTEND;TZID=America/New_York:20281028T183000
DTSTAMP:20260425T113409
CREATED:20250507T155250Z
LAST-MODIFIED:20250507T155250Z
UID:10005413-1856367000-1856370600@yanaclub.com
SUMMARY:Serenity 1st Step
DESCRIPTION:Open / Discussion / Beginners
URL:https://yanaclub.com/event/serenity-1st-step/2028-10-28/
CATEGORIES:AA
END:VEVENT
BEGIN:VEVENT
DTSTART;TZID=America/New_York:20281028T200000
DTEND;TZID=America/New_York:20281028T210000
DTSTAMP:20260425T113409
CREATED:20250507T160652Z
LAST-MODIFIED:20250507T160652Z
UID:10010142-1856376000-1856379600@yanaclub.com
SUMMARY:Grupo Latino
DESCRIPTION:Open / Discussion / Spanish Language
URL:https://yanaclub.com/event/grupo-latino/2028-10-28/
CATEGORIES:AA
END:VEVENT
BEGIN:VEVENT
DTSTART;TZID=America/New_York:20281029T080000
DTEND;TZID=America/New_York:20281029T090000
DTSTAMP:20260425T113409
CREATED:20250507T163100Z
LAST-MODIFIED:20250507T163100Z
UID:10015871-1856419200-1856422800@yanaclub.com
SUMMARY:YANA Sunday Breakfast
DESCRIPTION:
URL:https://yanaclub.com/event/yana-sunday-breakfast/2028-10-29/
CATEGORIES:Recurring YANA Events
END:VEVENT
END:VCALENDAR