BEGIN:VCALENDAR
VERSION:2.0
PRODID:-//YANA Club of Hilton Head Island - ECPv6.11.2//NONSGML v1.0//EN
CALSCALE:GREGORIAN
METHOD:PUBLISH
X-ORIGINAL-URL:https://yanaclub.com
X-WR-CALDESC:Events for YANA Club of Hilton Head Island
REFRESH-INTERVAL;VALUE=DURATION:PT1H
X-Robots-Tag:noindex
X-PUBLISHED-TTL:PT1H
BEGIN:VTIMEZONE
TZID:America/New_York
BEGIN:DAYLIGHT
TZOFFSETFROM:-0500
TZOFFSETTO:-0400
TZNAME:EDT
DTSTART:20280312T070000
END:DAYLIGHT
BEGIN:STANDARD
TZOFFSETFROM:-0400
TZOFFSETTO:-0500
TZNAME:EST
DTSTART:20281105T060000
END:STANDARD
END:VTIMEZONE
BEGIN:VEVENT
DTSTART;TZID=America/New_York:20280207T090000
DTEND;TZID=America/New_York:20280207T100000
DTSTAMP:20260424T212255
CREATED:20250507T155840Z
LAST-MODIFIED:20250507T155840Z
UID:10008042-1833526800-1833530400@yanaclub.com
SUMMARY:SANS (Sober Now Sane)
DESCRIPTION:Open / Discussion
URL:https://yanaclub.com/event/sans-sober-now-sane/2028-02-07/
CATEGORIES:AA
END:VEVENT
BEGIN:VEVENT
DTSTART;TZID=America/New_York:20280207T121500
DTEND;TZID=America/New_York:20280207T131500
DTSTAMP:20260424T212255
CREATED:20250507T154857Z
LAST-MODIFIED:20250507T155521Z
UID:10002057-1833538500-1833542100@yanaclub.com
SUMMARY:No Name
DESCRIPTION:Open / Topic Discussion
URL:https://yanaclub.com/event/no-name/2028-02-07/
CATEGORIES:AA
END:VEVENT
BEGIN:VEVENT
DTSTART;TZID=America/New_York:20280207T173000
DTEND;TZID=America/New_York:20280207T183000
DTSTAMP:20260424T212255
CREATED:20250507T155118Z
LAST-MODIFIED:20250507T155118Z
UID:10003716-1833557400-1833561000@yanaclub.com
SUMMARY:Serenity
DESCRIPTION:Open Discussion
URL:https://yanaclub.com/event/serenity/2028-02-07/
CATEGORIES:AA
END:VEVENT
BEGIN:VEVENT
DTSTART;TZID=America/New_York:20280208T090000
DTEND;TZID=America/New_York:20280208T100000
DTSTAMP:20260424T212255
CREATED:20250507T155840Z
LAST-MODIFIED:20250507T155840Z
UID:10008043-1833613200-1833616800@yanaclub.com
SUMMARY:SANS (Sober Now Sane)
DESCRIPTION:Open / Discussion
URL:https://yanaclub.com/event/sans-sober-now-sane/2028-02-08/
CATEGORIES:AA
END:VEVENT
BEGIN:VEVENT
DTSTART;TZID=America/New_York:20280208T121500
DTEND;TZID=America/New_York:20280208T131500
DTSTAMP:20260424T212255
CREATED:20250507T154857Z
LAST-MODIFIED:20250507T155521Z
UID:10002058-1833624900-1833628500@yanaclub.com
SUMMARY:No Name
DESCRIPTION:Open / Topic Discussion
URL:https://yanaclub.com/event/no-name/2028-02-08/
CATEGORIES:AA
END:VEVENT
BEGIN:VEVENT
DTSTART;TZID=America/New_York:20280208T173000
DTEND;TZID=America/New_York:20280208T183000
DTSTAMP:20260424T212255
CREATED:20250507T155118Z
LAST-MODIFIED:20250507T155118Z
UID:10003717-1833643800-1833647400@yanaclub.com
SUMMARY:Serenity
DESCRIPTION:Open Discussion
URL:https://yanaclub.com/event/serenity/2028-02-08/
CATEGORIES:AA
END:VEVENT
BEGIN:VEVENT
DTSTART;TZID=America/New_York:20280208T184500
DTEND;TZID=America/New_York:20280208T194500
DTSTAMP:20260424T212255
CREATED:20250507T163304Z
LAST-MODIFIED:20250507T163304Z
UID:10016246-1833648300-1833651900@yanaclub.com
SUMMARY:Midwinter Conference Planning
DESCRIPTION:
URL:https://yanaclub.com/event/midwinter-conference-planning/2028-02-08/
CATEGORIES:Recurring YANA Events
END:VEVENT
BEGIN:VEVENT
DTSTART;TZID=America/New_York:20280208T190000
DTEND;TZID=America/New_York:20280208T200000
DTSTAMP:20260424T212255
CREATED:20250507T160104Z
LAST-MODIFIED:20250507T160104Z
UID:10008774-1833649200-1833652800@yanaclub.com
SUMMARY:Mens Back to Basics
DESCRIPTION:Closed / Discussion / Mens
URL:https://yanaclub.com/event/mens-back-to-basics/2028-02-08/
CATEGORIES:AA
END:VEVENT
BEGIN:VEVENT
DTSTART;TZID=America/New_York:20280208T200000
DTEND;TZID=America/New_York:20280208T210000
DTSTAMP:20260424T212255
CREATED:20250507T160652Z
LAST-MODIFIED:20250507T160652Z
UID:10009991-1833652800-1833656400@yanaclub.com
SUMMARY:Grupo Latino
DESCRIPTION:Open / Discussion / Spanish Language
URL:https://yanaclub.com/event/grupo-latino/2028-02-08/
CATEGORIES:AA
END:VEVENT
BEGIN:VEVENT
DTSTART;TZID=America/New_York:20280209T070000
DTEND;TZID=America/New_York:20280209T080000
DTSTAMP:20260424T212255
CREATED:20250507T160920Z
LAST-MODIFIED:20250507T160920Z
UID:10010865-1833692400-1833696000@yanaclub.com
SUMMARY:Design for Living
DESCRIPTION:Closed / Discussion
URL:https://yanaclub.com/event/design-for-living/2028-02-09/
CATEGORIES:AA
END:VEVENT
BEGIN:VEVENT
DTSTART;TZID=America/New_York:20280209T090000
DTEND;TZID=America/New_York:20280209T100000
DTSTAMP:20260424T212255
CREATED:20250507T155840Z
LAST-MODIFIED:20250507T155840Z
UID:10008044-1833699600-1833703200@yanaclub.com
SUMMARY:SANS (Sober Now Sane)
DESCRIPTION:Open / Discussion
URL:https://yanaclub.com/event/sans-sober-now-sane/2028-02-09/
CATEGORIES:AA
END:VEVENT
BEGIN:VEVENT
DTSTART;TZID=America/New_York:20280209T121500
DTEND;TZID=America/New_York:20280209T131500
DTSTAMP:20260424T212255
CREATED:20250507T154857Z
LAST-MODIFIED:20250507T155521Z
UID:10002059-1833711300-1833714900@yanaclub.com
SUMMARY:No Name
DESCRIPTION:Open / Topic Discussion
URL:https://yanaclub.com/event/no-name/2028-02-09/
CATEGORIES:AA
END:VEVENT
BEGIN:VEVENT
DTSTART;TZID=America/New_York:20280209T173000
DTEND;TZID=America/New_York:20280209T183000
DTSTAMP:20260424T212255
CREATED:20250507T155118Z
LAST-MODIFIED:20250507T155118Z
UID:10003718-1833730200-1833733800@yanaclub.com
SUMMARY:Serenity
DESCRIPTION:Open Discussion
URL:https://yanaclub.com/event/serenity/2028-02-09/
CATEGORIES:AA
END:VEVENT
BEGIN:VEVENT
DTSTART;TZID=America/New_York:20280209T173000
DTEND;TZID=America/New_York:20280209T183000
DTSTAMP:20260424T212255
CREATED:20251027T215053Z
LAST-MODIFIED:20251027T215053Z
UID:10019360-1833730200-1833733800@yanaclub.com
SUMMARY:Keeping an Open Mind
DESCRIPTION:Midweek Al-Anon Open Discussion
URL:https://yanaclub.com/event/keeping-an-open-mind/2028-02-09/
CATEGORIES:AL-ANON,Recurring YANA Events
END:VEVENT
BEGIN:VEVENT
DTSTART;TZID=America/New_York:20280209T200000
DTEND;TZID=America/New_York:20280209T210000
DTSTAMP:20260424T212255
CREATED:20250507T160652Z
LAST-MODIFIED:20250507T160652Z
UID:10009992-1833739200-1833742800@yanaclub.com
SUMMARY:Grupo Latino
DESCRIPTION:Open / Discussion / Spanish Language
URL:https://yanaclub.com/event/grupo-latino/2028-02-09/
CATEGORIES:AA
END:VEVENT
BEGIN:VEVENT
DTSTART;TZID=America/New_York:20280210T090000
DTEND;TZID=America/New_York:20280210T100000
DTSTAMP:20260424T212255
CREATED:20250507T155840Z
LAST-MODIFIED:20250507T155840Z
UID:10008045-1833786000-1833789600@yanaclub.com
SUMMARY:SANS (Sober Now Sane)
DESCRIPTION:Open / Discussion
URL:https://yanaclub.com/event/sans-sober-now-sane/2028-02-10/
CATEGORIES:AA
END:VEVENT
BEGIN:VEVENT
DTSTART;TZID=America/New_York:20280210T121500
DTEND;TZID=America/New_York:20280210T131500
DTSTAMP:20260424T212255
CREATED:20250507T154857Z
LAST-MODIFIED:20250507T155521Z
UID:10002060-1833797700-1833801300@yanaclub.com
SUMMARY:No Name
DESCRIPTION:Open / Topic Discussion
URL:https://yanaclub.com/event/no-name/2028-02-10/
CATEGORIES:AA
END:VEVENT
BEGIN:VEVENT
DTSTART;TZID=America/New_York:20280210T173000
DTEND;TZID=America/New_York:20280210T183000
DTSTAMP:20260424T212255
CREATED:20250507T155118Z
LAST-MODIFIED:20250507T155118Z
UID:10003719-1833816600-1833820200@yanaclub.com
SUMMARY:Serenity
DESCRIPTION:Open Discussion
URL:https://yanaclub.com/event/serenity/2028-02-10/
CATEGORIES:AA
END:VEVENT
BEGIN:VEVENT
DTSTART;TZID=America/New_York:20280210T184500
DTEND;TZID=America/New_York:20280210T194500
DTSTAMP:20260424T212255
CREATED:20250507T161123Z
LAST-MODIFIED:20250507T161123Z
UID:10011387-1833821100-1833824700@yanaclub.com
SUMMARY:645 YANA Womens
DESCRIPTION:Closed / Topic Discussion / Womens
URL:https://yanaclub.com/event/645-yana-womens/2028-02-10/
CATEGORIES:AA
END:VEVENT
BEGIN:VEVENT
DTSTART;TZID=America/New_York:20280210T200000
DTEND;TZID=America/New_York:20280210T210000
DTSTAMP:20260424T212255
CREATED:20250507T162741Z
LAST-MODIFIED:20250507T162741Z
UID:10015310-1833825600-1833829200@yanaclub.com
SUMMARY:Open Arms
DESCRIPTION:Open / Discussion / How It Works
URL:https://yanaclub.com/event/open-arms/2028-02-10/
CATEGORIES:NA
END:VEVENT
BEGIN:VEVENT
DTSTART;TZID=America/New_York:20280211T090000
DTEND;TZID=America/New_York:20280211T100000
DTSTAMP:20260424T212255
CREATED:20250507T155840Z
LAST-MODIFIED:20250507T155840Z
UID:10008046-1833872400-1833876000@yanaclub.com
SUMMARY:SANS (Sober Now Sane)
DESCRIPTION:Open / Discussion
URL:https://yanaclub.com/event/sans-sober-now-sane/2028-02-11/
CATEGORIES:AA
END:VEVENT
BEGIN:VEVENT
DTSTART;TZID=America/New_York:20280211T121500
DTEND;TZID=America/New_York:20280211T131500
DTSTAMP:20260424T212255
CREATED:20250507T154857Z
LAST-MODIFIED:20250507T155521Z
UID:10002061-1833884100-1833887700@yanaclub.com
SUMMARY:No Name
DESCRIPTION:Open / Topic Discussion
URL:https://yanaclub.com/event/no-name/2028-02-11/
CATEGORIES:AA
END:VEVENT
BEGIN:VEVENT
DTSTART;TZID=America/New_York:20280211T121500
DTEND;TZID=America/New_York:20280211T131500
DTSTAMP:20260424T212255
CREATED:20250507T162126Z
LAST-MODIFIED:20250507T162126Z
UID:10014264-1833884100-1833887700@yanaclub.com
SUMMARY:Friday Luncheon AFG
DESCRIPTION:Closed / Discussion
URL:https://yanaclub.com/event/friday-luncheon-afg-2/2028-02-11/
CATEGORIES:AL-ANON
END:VEVENT
BEGIN:VEVENT
DTSTART;TZID=America/New_York:20280211T180000
DTEND;TZID=America/New_York:20280211T190000
DTSTAMP:20260424T212255
CREATED:20250507T161244Z
LAST-MODIFIED:20250507T161244Z
UID:10011909-1833904800-1833908400@yanaclub.com
SUMMARY:Young Peoples
DESCRIPTION:Open / Discussion
URL:https://yanaclub.com/event/young-peoples/2028-02-11/
CATEGORIES:AA
END:VEVENT
BEGIN:VEVENT
DTSTART;TZID=America/New_York:20280211T180000
DTEND;TZID=America/New_York:20280211T190000
DTSTAMP:20260424T212255
CREATED:20250507T161346Z
LAST-MODIFIED:20250507T161346Z
UID:10012170-1833904800-1833908400@yanaclub.com
SUMMARY:Together We Can
DESCRIPTION:Open / Discussion
URL:https://yanaclub.com/event/together-we-can/2028-02-11/
CATEGORIES:AA
END:VEVENT
BEGIN:VEVENT
DTSTART;TZID=America/New_York:20280211T200000
DTEND;TZID=America/New_York:20280211T210000
DTSTAMP:20260424T212255
CREATED:20250507T160652Z
LAST-MODIFIED:20250507T160652Z
UID:10009993-1833912000-1833915600@yanaclub.com
SUMMARY:Grupo Latino
DESCRIPTION:Open / Discussion / Spanish Language
URL:https://yanaclub.com/event/grupo-latino/2028-02-11/
CATEGORIES:AA
END:VEVENT
BEGIN:VEVENT
DTSTART;TZID=America/New_York:20280212T090000
DTEND;TZID=America/New_York:20280212T100000
DTSTAMP:20260424T212255
CREATED:20250502T104804Z
LAST-MODIFIED:20250502T104804Z
UID:10000147-1833958800-1833962400@yanaclub.com
SUMMARY:Saturday Big Book Study
DESCRIPTION:Type: O/BB
URL:https://yanaclub.com/event/saturday-big-book-study/2028-02-12/
CATEGORIES:AA
END:VEVENT
BEGIN:VEVENT
DTSTART;TZID=America/New_York:20280212T121500
DTEND;TZID=America/New_York:20280212T131500
DTSTAMP:20260424T212255
CREATED:20250507T154857Z
LAST-MODIFIED:20250507T155521Z
UID:10002062-1833970500-1833974100@yanaclub.com
SUMMARY:No Name
DESCRIPTION:Open / Topic Discussion
URL:https://yanaclub.com/event/no-name/2028-02-12/
CATEGORIES:AA
END:VEVENT
BEGIN:VEVENT
DTSTART;TZID=America/New_York:20280212T173000
DTEND;TZID=America/New_York:20280212T183000
DTSTAMP:20260424T212255
CREATED:20250507T155250Z
LAST-MODIFIED:20250507T155250Z
UID:10005376-1833989400-1833993000@yanaclub.com
SUMMARY:Serenity 1st Step
DESCRIPTION:Open / Discussion / Beginners
URL:https://yanaclub.com/event/serenity-1st-step/2028-02-12/
CATEGORIES:AA
END:VEVENT
BEGIN:VEVENT
DTSTART;TZID=America/New_York:20280212T200000
DTEND;TZID=America/New_York:20280212T210000
DTSTAMP:20260424T212255
CREATED:20250507T160652Z
LAST-MODIFIED:20250507T160652Z
UID:10009994-1833998400-1834002000@yanaclub.com
SUMMARY:Grupo Latino
DESCRIPTION:Open / Discussion / Spanish Language
URL:https://yanaclub.com/event/grupo-latino/2028-02-12/
CATEGORIES:AA
END:VEVENT
END:VCALENDAR