BEGIN:VCALENDAR
VERSION:2.0
PRODID:-//YANA Club of Hilton Head Island - ECPv6.11.2//NONSGML v1.0//EN
CALSCALE:GREGORIAN
METHOD:PUBLISH
X-ORIGINAL-URL:https://yanaclub.com
X-WR-CALDESC:Events for YANA Club of Hilton Head Island
REFRESH-INTERVAL;VALUE=DURATION:PT1H
X-Robots-Tag:noindex
X-PUBLISHED-TTL:PT1H
BEGIN:VTIMEZONE
TZID:America/New_York
BEGIN:DAYLIGHT
TZOFFSETFROM:-0500
TZOFFSETTO:-0400
TZNAME:EDT
DTSTART:20280312T070000
END:DAYLIGHT
BEGIN:STANDARD
TZOFFSETFROM:-0400
TZOFFSETTO:-0500
TZNAME:EST
DTSTART:20281105T060000
END:STANDARD
END:VTIMEZONE
BEGIN:VEVENT
DTSTART;TZID=America/New_York:20280131T090000
DTEND;TZID=America/New_York:20280131T100000
DTSTAMP:20260424T230023
CREATED:20250507T155840Z
LAST-MODIFIED:20250507T155840Z
UID:10008037-1832922000-1832925600@yanaclub.com
SUMMARY:SANS (Sober Now Sane)
DESCRIPTION:Open / Discussion
URL:https://yanaclub.com/event/sans-sober-now-sane/2028-01-31/
CATEGORIES:AA
END:VEVENT
BEGIN:VEVENT
DTSTART;TZID=America/New_York:20280131T121500
DTEND;TZID=America/New_York:20280131T131500
DTSTAMP:20260424T230024
CREATED:20250507T154857Z
LAST-MODIFIED:20250507T155521Z
UID:10002050-1832933700-1832937300@yanaclub.com
SUMMARY:No Name
DESCRIPTION:Open / Topic Discussion
URL:https://yanaclub.com/event/no-name/2028-01-31/
CATEGORIES:AA
END:VEVENT
BEGIN:VEVENT
DTSTART;TZID=America/New_York:20280131T173000
DTEND;TZID=America/New_York:20280131T183000
DTSTAMP:20260424T230024
CREATED:20250507T155118Z
LAST-MODIFIED:20250507T155118Z
UID:10003712-1832952600-1832956200@yanaclub.com
SUMMARY:Serenity
DESCRIPTION:Open Discussion
URL:https://yanaclub.com/event/serenity/2028-01-31/
CATEGORIES:AA
END:VEVENT
BEGIN:VEVENT
DTSTART;TZID=America/New_York:20280201T090000
DTEND;TZID=America/New_York:20280201T100000
DTSTAMP:20260424T230024
CREATED:20250507T155840Z
LAST-MODIFIED:20250507T155840Z
UID:10008038-1833008400-1833012000@yanaclub.com
SUMMARY:SANS (Sober Now Sane)
DESCRIPTION:Open / Discussion
URL:https://yanaclub.com/event/sans-sober-now-sane/2028-02-01/
CATEGORIES:AA
END:VEVENT
BEGIN:VEVENT
DTSTART;TZID=America/New_York:20280201T121500
DTEND;TZID=America/New_York:20280201T131500
DTSTAMP:20260424T230024
CREATED:20250507T154857Z
LAST-MODIFIED:20250507T155521Z
UID:10002051-1833020100-1833023700@yanaclub.com
SUMMARY:No Name
DESCRIPTION:Open / Topic Discussion
URL:https://yanaclub.com/event/no-name/2028-02-01/
CATEGORIES:AA
END:VEVENT
BEGIN:VEVENT
DTSTART;TZID=America/New_York:20280201T173000
DTEND;TZID=America/New_York:20280201T183000
DTSTAMP:20260424T230024
CREATED:20250507T155118Z
LAST-MODIFIED:20250507T155118Z
UID:10003713-1833039000-1833042600@yanaclub.com
SUMMARY:Serenity
DESCRIPTION:Open Discussion
URL:https://yanaclub.com/event/serenity/2028-02-01/
CATEGORIES:AA
END:VEVENT
BEGIN:VEVENT
DTSTART;TZID=America/New_York:20280201T190000
DTEND;TZID=America/New_York:20280201T200000
DTSTAMP:20260424T230024
CREATED:20250507T160104Z
LAST-MODIFIED:20250507T160104Z
UID:10008773-1833044400-1833048000@yanaclub.com
SUMMARY:Mens Back to Basics
DESCRIPTION:Closed / Discussion / Mens
URL:https://yanaclub.com/event/mens-back-to-basics/2028-02-01/
CATEGORIES:AA
END:VEVENT
BEGIN:VEVENT
DTSTART;TZID=America/New_York:20280201T200000
DTEND;TZID=America/New_York:20280201T210000
DTSTAMP:20260424T230024
CREATED:20250507T160652Z
LAST-MODIFIED:20250507T160652Z
UID:10009987-1833048000-1833051600@yanaclub.com
SUMMARY:Grupo Latino
DESCRIPTION:Open / Discussion / Spanish Language
URL:https://yanaclub.com/event/grupo-latino/2028-02-01/
CATEGORIES:AA
END:VEVENT
BEGIN:VEVENT
DTSTART;TZID=America/New_York:20280202T070000
DTEND;TZID=America/New_York:20280202T080000
DTSTAMP:20260424T230024
CREATED:20250507T160920Z
LAST-MODIFIED:20250507T160920Z
UID:10010864-1833087600-1833091200@yanaclub.com
SUMMARY:Design for Living
DESCRIPTION:Closed / Discussion
URL:https://yanaclub.com/event/design-for-living/2028-02-02/
CATEGORIES:AA
END:VEVENT
BEGIN:VEVENT
DTSTART;TZID=America/New_York:20280202T090000
DTEND;TZID=America/New_York:20280202T100000
DTSTAMP:20260424T230024
CREATED:20250507T155840Z
LAST-MODIFIED:20250507T155840Z
UID:10008039-1833094800-1833098400@yanaclub.com
SUMMARY:SANS (Sober Now Sane)
DESCRIPTION:Open / Discussion
URL:https://yanaclub.com/event/sans-sober-now-sane/2028-02-02/
CATEGORIES:AA
END:VEVENT
BEGIN:VEVENT
DTSTART;TZID=America/New_York:20280202T121500
DTEND;TZID=America/New_York:20280202T131500
DTSTAMP:20260424T230024
CREATED:20250507T154857Z
LAST-MODIFIED:20250507T155521Z
UID:10002052-1833106500-1833110100@yanaclub.com
SUMMARY:No Name
DESCRIPTION:Open / Topic Discussion
URL:https://yanaclub.com/event/no-name/2028-02-02/
CATEGORIES:AA
END:VEVENT
BEGIN:VEVENT
DTSTART;TZID=America/New_York:20280202T173000
DTEND;TZID=America/New_York:20280202T183000
DTSTAMP:20260424T230024
CREATED:20250507T155118Z
LAST-MODIFIED:20250507T155118Z
UID:10003714-1833125400-1833129000@yanaclub.com
SUMMARY:Serenity
DESCRIPTION:Open Discussion
URL:https://yanaclub.com/event/serenity/2028-02-02/
CATEGORIES:AA
END:VEVENT
BEGIN:VEVENT
DTSTART;TZID=America/New_York:20280202T173000
DTEND;TZID=America/New_York:20280202T183000
DTSTAMP:20260424T230024
CREATED:20251027T215053Z
LAST-MODIFIED:20251027T215053Z
UID:10019359-1833125400-1833129000@yanaclub.com
SUMMARY:Keeping an Open Mind
DESCRIPTION:Midweek Al-Anon Open Discussion
URL:https://yanaclub.com/event/keeping-an-open-mind/2028-02-02/
CATEGORIES:AL-ANON,Recurring YANA Events
END:VEVENT
BEGIN:VEVENT
DTSTART;TZID=America/New_York:20280202T190000
DTEND;TZID=America/New_York:20280202T200000
DTSTAMP:20260424T230024
CREATED:20250507T163407Z
LAST-MODIFIED:20250507T163407Z
UID:10016568-1833130800-1833134400@yanaclub.com
SUMMARY:YANA Board of Directors
DESCRIPTION:
URL:https://yanaclub.com/event/yana-board-of-directors/2028-02-02/
CATEGORIES:Recurring YANA Events
END:VEVENT
BEGIN:VEVENT
DTSTART;TZID=America/New_York:20280202T200000
DTEND;TZID=America/New_York:20280202T210000
DTSTAMP:20260424T230024
CREATED:20250507T160652Z
LAST-MODIFIED:20250507T160652Z
UID:10009988-1833134400-1833138000@yanaclub.com
SUMMARY:Grupo Latino
DESCRIPTION:Open / Discussion / Spanish Language
URL:https://yanaclub.com/event/grupo-latino/2028-02-02/
CATEGORIES:AA
END:VEVENT
BEGIN:VEVENT
DTSTART;TZID=America/New_York:20280203T090000
DTEND;TZID=America/New_York:20280203T100000
DTSTAMP:20260424T230024
CREATED:20250507T155840Z
LAST-MODIFIED:20250507T155840Z
UID:10008040-1833181200-1833184800@yanaclub.com
SUMMARY:SANS (Sober Now Sane)
DESCRIPTION:Open / Discussion
URL:https://yanaclub.com/event/sans-sober-now-sane/2028-02-03/
CATEGORIES:AA
END:VEVENT
BEGIN:VEVENT
DTSTART;TZID=America/New_York:20280203T121500
DTEND;TZID=America/New_York:20280203T131500
DTSTAMP:20260424T230024
CREATED:20250507T154857Z
LAST-MODIFIED:20250507T155521Z
UID:10002053-1833192900-1833196500@yanaclub.com
SUMMARY:No Name
DESCRIPTION:Open / Topic Discussion
URL:https://yanaclub.com/event/no-name/2028-02-03/
CATEGORIES:AA
END:VEVENT
BEGIN:VEVENT
DTSTART;TZID=America/New_York:20280203T173000
DTEND;TZID=America/New_York:20280203T183000
DTSTAMP:20260424T230024
CREATED:20250507T155118Z
LAST-MODIFIED:20250507T155118Z
UID:10003715-1833211800-1833215400@yanaclub.com
SUMMARY:Serenity
DESCRIPTION:Open Discussion
URL:https://yanaclub.com/event/serenity/2028-02-03/
CATEGORIES:AA
END:VEVENT
BEGIN:VEVENT
DTSTART;TZID=America/New_York:20280203T184500
DTEND;TZID=America/New_York:20280203T194500
DTSTAMP:20260424T230024
CREATED:20250507T161123Z
LAST-MODIFIED:20250507T161123Z
UID:10011386-1833216300-1833219900@yanaclub.com
SUMMARY:645 YANA Womens
DESCRIPTION:Closed / Topic Discussion / Womens
URL:https://yanaclub.com/event/645-yana-womens/2028-02-03/
CATEGORIES:AA
END:VEVENT
BEGIN:VEVENT
DTSTART;TZID=America/New_York:20280203T200000
DTEND;TZID=America/New_York:20280203T210000
DTSTAMP:20260424T230024
CREATED:20250507T162741Z
LAST-MODIFIED:20250507T162741Z
UID:10015309-1833220800-1833224400@yanaclub.com
SUMMARY:Open Arms
DESCRIPTION:Open / Discussion / How It Works
URL:https://yanaclub.com/event/open-arms/2028-02-03/
CATEGORIES:NA
END:VEVENT
BEGIN:VEVENT
DTSTART;TZID=America/New_York:20280204T090000
DTEND;TZID=America/New_York:20280204T100000
DTSTAMP:20260424T230024
CREATED:20250507T155840Z
LAST-MODIFIED:20250507T155840Z
UID:10008041-1833267600-1833271200@yanaclub.com
SUMMARY:SANS (Sober Now Sane)
DESCRIPTION:Open / Discussion
URL:https://yanaclub.com/event/sans-sober-now-sane/2028-02-04/
CATEGORIES:AA
END:VEVENT
BEGIN:VEVENT
DTSTART;TZID=America/New_York:20280204T121500
DTEND;TZID=America/New_York:20280204T131500
DTSTAMP:20260424T230024
CREATED:20250507T154857Z
LAST-MODIFIED:20250507T155521Z
UID:10002054-1833279300-1833282900@yanaclub.com
SUMMARY:No Name
DESCRIPTION:Open / Topic Discussion
URL:https://yanaclub.com/event/no-name/2028-02-04/
CATEGORIES:AA
END:VEVENT
BEGIN:VEVENT
DTSTART;TZID=America/New_York:20280204T121500
DTEND;TZID=America/New_York:20280204T131500
DTSTAMP:20260424T230024
CREATED:20250507T162126Z
LAST-MODIFIED:20250507T162126Z
UID:10014263-1833279300-1833282900@yanaclub.com
SUMMARY:Friday Luncheon AFG
DESCRIPTION:Closed / Discussion
URL:https://yanaclub.com/event/friday-luncheon-afg-2/2028-02-04/
CATEGORIES:AL-ANON
END:VEVENT
BEGIN:VEVENT
DTSTART;TZID=America/New_York:20280204T180000
DTEND;TZID=America/New_York:20280204T190000
DTSTAMP:20260424T230024
CREATED:20250507T161244Z
LAST-MODIFIED:20250507T161244Z
UID:10011908-1833300000-1833303600@yanaclub.com
SUMMARY:Young Peoples
DESCRIPTION:Open / Discussion
URL:https://yanaclub.com/event/young-peoples/2028-02-04/
CATEGORIES:AA
END:VEVENT
BEGIN:VEVENT
DTSTART;TZID=America/New_York:20280204T180000
DTEND;TZID=America/New_York:20280204T190000
DTSTAMP:20260424T230024
CREATED:20250507T161346Z
LAST-MODIFIED:20250507T161346Z
UID:10012169-1833300000-1833303600@yanaclub.com
SUMMARY:Together We Can
DESCRIPTION:Open / Discussion
URL:https://yanaclub.com/event/together-we-can/2028-02-04/
CATEGORIES:AA
END:VEVENT
BEGIN:VEVENT
DTSTART;TZID=America/New_York:20280204T200000
DTEND;TZID=America/New_York:20280204T210000
DTSTAMP:20260424T230024
CREATED:20250507T160652Z
LAST-MODIFIED:20250507T160652Z
UID:10009989-1833307200-1833310800@yanaclub.com
SUMMARY:Grupo Latino
DESCRIPTION:Open / Discussion / Spanish Language
URL:https://yanaclub.com/event/grupo-latino/2028-02-04/
CATEGORIES:AA
END:VEVENT
BEGIN:VEVENT
DTSTART;TZID=America/New_York:20280205T090000
DTEND;TZID=America/New_York:20280205T100000
DTSTAMP:20260424T230024
CREATED:20250502T104804Z
LAST-MODIFIED:20250502T104804Z
UID:10000146-1833354000-1833357600@yanaclub.com
SUMMARY:Saturday Big Book Study
DESCRIPTION:Type: O/BB
URL:https://yanaclub.com/event/saturday-big-book-study/2028-02-05/
CATEGORIES:AA
END:VEVENT
BEGIN:VEVENT
DTSTART;TZID=America/New_York:20280205T121500
DTEND;TZID=America/New_York:20280205T131500
DTSTAMP:20260424T230024
CREATED:20250507T154857Z
LAST-MODIFIED:20250507T155521Z
UID:10002055-1833365700-1833369300@yanaclub.com
SUMMARY:No Name
DESCRIPTION:Open / Topic Discussion
URL:https://yanaclub.com/event/no-name/2028-02-05/
CATEGORIES:AA
END:VEVENT
BEGIN:VEVENT
DTSTART;TZID=America/New_York:20280205T173000
DTEND;TZID=America/New_York:20280205T183000
DTSTAMP:20260424T230024
CREATED:20250507T155250Z
LAST-MODIFIED:20250507T155250Z
UID:10005375-1833384600-1833388200@yanaclub.com
SUMMARY:Serenity 1st Step
DESCRIPTION:Open / Discussion / Beginners
URL:https://yanaclub.com/event/serenity-1st-step/2028-02-05/
CATEGORIES:AA
END:VEVENT
BEGIN:VEVENT
DTSTART;TZID=America/New_York:20280205T200000
DTEND;TZID=America/New_York:20280205T210000
DTSTAMP:20260424T230024
CREATED:20250507T160652Z
LAST-MODIFIED:20250507T160652Z
UID:10009990-1833393600-1833397200@yanaclub.com
SUMMARY:Grupo Latino
DESCRIPTION:Open / Discussion / Spanish Language
URL:https://yanaclub.com/event/grupo-latino/2028-02-05/
CATEGORIES:AA
END:VEVENT
END:VCALENDAR