BEGIN:VCALENDAR
VERSION:2.0
PRODID:-//YANA Club of Hilton Head Island - ECPv6.11.2//NONSGML v1.0//EN
CALSCALE:GREGORIAN
METHOD:PUBLISH
X-WR-CALNAME:YANA Club of Hilton Head Island
X-ORIGINAL-URL:https://yanaclub.com
X-WR-CALDESC:Events for YANA Club of Hilton Head Island
REFRESH-INTERVAL;VALUE=DURATION:PT1H
X-Robots-Tag:noindex
X-PUBLISHED-TTL:PT1H
BEGIN:VTIMEZONE
TZID:America/New_York
BEGIN:DAYLIGHT
TZOFFSETFROM:-0500
TZOFFSETTO:-0400
TZNAME:EDT
DTSTART:20260308T070000
END:DAYLIGHT
BEGIN:STANDARD
TZOFFSETFROM:-0400
TZOFFSETTO:-0500
TZNAME:EST
DTSTART:20261101T060000
END:STANDARD
END:VTIMEZONE
BEGIN:VEVENT
DTSTART;TZID=America/New_York:20260713T090000
DTEND;TZID=America/New_York:20260713T100000
DTSTAMP:20260421T144949
CREATED:20250507T155840Z
LAST-MODIFIED:20250507T155840Z
UID:10007632-1783933200-1783936800@yanaclub.com
SUMMARY:SANS (Sober Now Sane)
DESCRIPTION:Open / Discussion
URL:https://yanaclub.com/event/sans-sober-now-sane/2026-07-13/
CATEGORIES:AA
END:VEVENT
BEGIN:VEVENT
DTSTART;TZID=America/New_York:20260713T121500
DTEND;TZID=America/New_York:20260713T131500
DTSTAMP:20260421T144949
CREATED:20250507T154857Z
LAST-MODIFIED:20250507T155521Z
UID:10001483-1783944900-1783948500@yanaclub.com
SUMMARY:No Name
DESCRIPTION:Open / Topic Discussion
URL:https://yanaclub.com/event/no-name/2026-07-13/
CATEGORIES:AA
END:VEVENT
BEGIN:VEVENT
DTSTART;TZID=America/New_York:20260713T173000
DTEND;TZID=America/New_York:20260713T183000
DTSTAMP:20260421T144949
CREATED:20250507T155118Z
LAST-MODIFIED:20250507T155118Z
UID:10003388-1783963800-1783967400@yanaclub.com
SUMMARY:Serenity
DESCRIPTION:Open Discussion
URL:https://yanaclub.com/event/serenity/2026-07-13/
CATEGORIES:AA
END:VEVENT
BEGIN:VEVENT
DTSTART;TZID=America/New_York:20260714T090000
DTEND;TZID=America/New_York:20260714T100000
DTSTAMP:20260421T144949
CREATED:20250507T155840Z
LAST-MODIFIED:20250507T155840Z
UID:10007633-1784019600-1784023200@yanaclub.com
SUMMARY:SANS (Sober Now Sane)
DESCRIPTION:Open / Discussion
URL:https://yanaclub.com/event/sans-sober-now-sane/2026-07-14/
CATEGORIES:AA
END:VEVENT
BEGIN:VEVENT
DTSTART;TZID=America/New_York:20260714T121500
DTEND;TZID=America/New_York:20260714T131500
DTSTAMP:20260421T144949
CREATED:20250507T154857Z
LAST-MODIFIED:20250507T155521Z
UID:10001484-1784031300-1784034900@yanaclub.com
SUMMARY:No Name
DESCRIPTION:Open / Topic Discussion
URL:https://yanaclub.com/event/no-name/2026-07-14/
CATEGORIES:AA
END:VEVENT
BEGIN:VEVENT
DTSTART;TZID=America/New_York:20260714T173000
DTEND;TZID=America/New_York:20260714T183000
DTSTAMP:20260421T144949
CREATED:20250507T155118Z
LAST-MODIFIED:20250507T155118Z
UID:10003389-1784050200-1784053800@yanaclub.com
SUMMARY:Serenity
DESCRIPTION:Open Discussion
URL:https://yanaclub.com/event/serenity/2026-07-14/
CATEGORIES:AA
END:VEVENT
BEGIN:VEVENT
DTSTART;TZID=America/New_York:20260714T184500
DTEND;TZID=America/New_York:20260714T194500
DTSTAMP:20260421T144949
CREATED:20250507T163304Z
LAST-MODIFIED:20250507T163304Z
UID:10016227-1784054700-1784058300@yanaclub.com
SUMMARY:Midwinter Conference Planning
DESCRIPTION:
URL:https://yanaclub.com/event/midwinter-conference-planning/2026-07-14/
CATEGORIES:Recurring YANA Events
END:VEVENT
BEGIN:VEVENT
DTSTART;TZID=America/New_York:20260714T190000
DTEND;TZID=America/New_York:20260714T200000
DTSTAMP:20260421T144949
CREATED:20250507T160104Z
LAST-MODIFIED:20250507T160104Z
UID:10008692-1784055600-1784059200@yanaclub.com
SUMMARY:Mens Back to Basics
DESCRIPTION:Closed / Discussion / Mens
URL:https://yanaclub.com/event/mens-back-to-basics/2026-07-14/
CATEGORIES:AA
END:VEVENT
BEGIN:VEVENT
DTSTART;TZID=America/New_York:20260714T200000
DTEND;TZID=America/New_York:20260714T210000
DTSTAMP:20260421T144949
CREATED:20250507T160652Z
LAST-MODIFIED:20250507T160652Z
UID:10009663-1784059200-1784062800@yanaclub.com
SUMMARY:Grupo Latino
DESCRIPTION:Open / Discussion / Spanish Language
URL:https://yanaclub.com/event/grupo-latino/2026-07-14/
CATEGORIES:AA
END:VEVENT
BEGIN:VEVENT
DTSTART;TZID=America/New_York:20260715T070000
DTEND;TZID=America/New_York:20260715T080000
DTSTAMP:20260421T144949
CREATED:20250507T160920Z
LAST-MODIFIED:20250507T160920Z
UID:10010783-1784098800-1784102400@yanaclub.com
SUMMARY:Design for Living
DESCRIPTION:Closed / Discussion
URL:https://yanaclub.com/event/design-for-living/2026-07-15/
CATEGORIES:AA
END:VEVENT
BEGIN:VEVENT
DTSTART;TZID=America/New_York:20260715T090000
DTEND;TZID=America/New_York:20260715T100000
DTSTAMP:20260421T144949
CREATED:20250507T155840Z
LAST-MODIFIED:20250507T155840Z
UID:10007634-1784106000-1784109600@yanaclub.com
SUMMARY:SANS (Sober Now Sane)
DESCRIPTION:Open / Discussion
URL:https://yanaclub.com/event/sans-sober-now-sane/2026-07-15/
CATEGORIES:AA
END:VEVENT
BEGIN:VEVENT
DTSTART;TZID=America/New_York:20260715T121500
DTEND;TZID=America/New_York:20260715T131500
DTSTAMP:20260421T144949
CREATED:20250507T154857Z
LAST-MODIFIED:20250507T155521Z
UID:10001485-1784117700-1784121300@yanaclub.com
SUMMARY:No Name
DESCRIPTION:Open / Topic Discussion
URL:https://yanaclub.com/event/no-name/2026-07-15/
CATEGORIES:AA
END:VEVENT
BEGIN:VEVENT
DTSTART;TZID=America/New_York:20260715T173000
DTEND;TZID=America/New_York:20260715T183000
DTSTAMP:20260421T144949
CREATED:20250507T155118Z
LAST-MODIFIED:20250507T155118Z
UID:10003390-1784136600-1784140200@yanaclub.com
SUMMARY:Serenity
DESCRIPTION:Open Discussion
URL:https://yanaclub.com/event/serenity/2026-07-15/
CATEGORIES:AA
END:VEVENT
BEGIN:VEVENT
DTSTART;TZID=America/New_York:20260715T173000
DTEND;TZID=America/New_York:20260715T183000
DTSTAMP:20260421T144949
CREATED:20251027T215053Z
LAST-MODIFIED:20251027T215053Z
UID:10019278-1784136600-1784140200@yanaclub.com
SUMMARY:Keeping an Open Mind
DESCRIPTION:Midweek Al-Anon Open Discussion
URL:https://yanaclub.com/event/keeping-an-open-mind/2026-07-15/
CATEGORIES:AL-ANON,Recurring YANA Events
END:VEVENT
BEGIN:VEVENT
DTSTART;TZID=America/New_York:20260715T200000
DTEND;TZID=America/New_York:20260715T210000
DTSTAMP:20260421T144949
CREATED:20250507T160652Z
LAST-MODIFIED:20250507T160652Z
UID:10009664-1784145600-1784149200@yanaclub.com
SUMMARY:Grupo Latino
DESCRIPTION:Open / Discussion / Spanish Language
URL:https://yanaclub.com/event/grupo-latino/2026-07-15/
CATEGORIES:AA
END:VEVENT
BEGIN:VEVENT
DTSTART;TZID=America/New_York:20260716T090000
DTEND;TZID=America/New_York:20260716T100000
DTSTAMP:20260421T144949
CREATED:20250507T155840Z
LAST-MODIFIED:20250507T155840Z
UID:10007635-1784192400-1784196000@yanaclub.com
SUMMARY:SANS (Sober Now Sane)
DESCRIPTION:Open / Discussion
URL:https://yanaclub.com/event/sans-sober-now-sane/2026-07-16/
CATEGORIES:AA
END:VEVENT
BEGIN:VEVENT
DTSTART;TZID=America/New_York:20260716T121500
DTEND;TZID=America/New_York:20260716T131500
DTSTAMP:20260421T144949
CREATED:20250507T154857Z
LAST-MODIFIED:20250507T155521Z
UID:10001486-1784204100-1784207700@yanaclub.com
SUMMARY:No Name
DESCRIPTION:Open / Topic Discussion
URL:https://yanaclub.com/event/no-name/2026-07-16/
CATEGORIES:AA
END:VEVENT
BEGIN:VEVENT
DTSTART;TZID=America/New_York:20260716T173000
DTEND;TZID=America/New_York:20260716T183000
DTSTAMP:20260421T144949
CREATED:20250507T155118Z
LAST-MODIFIED:20250507T155118Z
UID:10003391-1784223000-1784226600@yanaclub.com
SUMMARY:Serenity
DESCRIPTION:Open Discussion
URL:https://yanaclub.com/event/serenity/2026-07-16/
CATEGORIES:AA
END:VEVENT
BEGIN:VEVENT
DTSTART;TZID=America/New_York:20260716T184500
DTEND;TZID=America/New_York:20260716T194500
DTSTAMP:20260421T144949
CREATED:20250507T161123Z
LAST-MODIFIED:20250507T161123Z
UID:10011305-1784227500-1784231100@yanaclub.com
SUMMARY:645 YANA Womens
DESCRIPTION:Closed / Topic Discussion / Womens
URL:https://yanaclub.com/event/645-yana-womens/2026-07-16/
CATEGORIES:AA
END:VEVENT
BEGIN:VEVENT
DTSTART;TZID=America/New_York:20260716T200000
DTEND;TZID=America/New_York:20260716T210000
DTSTAMP:20260421T144949
CREATED:20250507T162741Z
LAST-MODIFIED:20250507T162741Z
UID:10015228-1784232000-1784235600@yanaclub.com
SUMMARY:Open Arms
DESCRIPTION:Open / Discussion / How It Works
URL:https://yanaclub.com/event/open-arms/2026-07-16/
CATEGORIES:NA
END:VEVENT
BEGIN:VEVENT
DTSTART;TZID=America/New_York:20260717T090000
DTEND;TZID=America/New_York:20260717T100000
DTSTAMP:20260421T144949
CREATED:20250507T155840Z
LAST-MODIFIED:20250507T155840Z
UID:10007636-1784278800-1784282400@yanaclub.com
SUMMARY:SANS (Sober Now Sane)
DESCRIPTION:Open / Discussion
URL:https://yanaclub.com/event/sans-sober-now-sane/2026-07-17/
CATEGORIES:AA
END:VEVENT
BEGIN:VEVENT
DTSTART;TZID=America/New_York:20260717T121500
DTEND;TZID=America/New_York:20260717T131500
DTSTAMP:20260421T144949
CREATED:20250507T154857Z
LAST-MODIFIED:20250507T155521Z
UID:10001487-1784290500-1784294100@yanaclub.com
SUMMARY:No Name
DESCRIPTION:Open / Topic Discussion
URL:https://yanaclub.com/event/no-name/2026-07-17/
CATEGORIES:AA
END:VEVENT
BEGIN:VEVENT
DTSTART;TZID=America/New_York:20260717T121500
DTEND;TZID=America/New_York:20260717T131500
DTSTAMP:20260421T144949
CREATED:20250507T162126Z
LAST-MODIFIED:20250507T162126Z
UID:10014182-1784290500-1784294100@yanaclub.com
SUMMARY:Friday Luncheon AFG
DESCRIPTION:Closed / Discussion
URL:https://yanaclub.com/event/friday-luncheon-afg-2/2026-07-17/
CATEGORIES:AL-ANON
END:VEVENT
BEGIN:VEVENT
DTSTART;TZID=America/New_York:20260717T180000
DTEND;TZID=America/New_York:20260717T190000
DTSTAMP:20260421T144949
CREATED:20250507T161244Z
LAST-MODIFIED:20250507T161244Z
UID:10011827-1784311200-1784314800@yanaclub.com
SUMMARY:Young Peoples
DESCRIPTION:Open / Discussion
URL:https://yanaclub.com/event/young-peoples/2026-07-17/
CATEGORIES:AA
END:VEVENT
BEGIN:VEVENT
DTSTART;TZID=America/New_York:20260717T180000
DTEND;TZID=America/New_York:20260717T190000
DTSTAMP:20260421T144949
CREATED:20250507T161346Z
LAST-MODIFIED:20250507T161346Z
UID:10012088-1784311200-1784314800@yanaclub.com
SUMMARY:Together We Can
DESCRIPTION:Open / Discussion
URL:https://yanaclub.com/event/together-we-can/2026-07-17/
CATEGORIES:AA
END:VEVENT
BEGIN:VEVENT
DTSTART;TZID=America/New_York:20260717T200000
DTEND;TZID=America/New_York:20260717T210000
DTSTAMP:20260421T144949
CREATED:20250507T160652Z
LAST-MODIFIED:20250507T160652Z
UID:10009665-1784318400-1784322000@yanaclub.com
SUMMARY:Grupo Latino
DESCRIPTION:Open / Discussion / Spanish Language
URL:https://yanaclub.com/event/grupo-latino/2026-07-17/
CATEGORIES:AA
END:VEVENT
BEGIN:VEVENT
DTSTART;TZID=America/New_York:20260718T090000
DTEND;TZID=America/New_York:20260718T100000
DTSTAMP:20260421T144949
CREATED:20250502T104804Z
LAST-MODIFIED:20250502T104804Z
UID:10000065-1784365200-1784368800@yanaclub.com
SUMMARY:Saturday Big Book Study
DESCRIPTION:Type: O/BB
URL:https://yanaclub.com/event/saturday-big-book-study/2026-07-18/
CATEGORIES:AA
END:VEVENT
BEGIN:VEVENT
DTSTART;TZID=America/New_York:20260718T121500
DTEND;TZID=America/New_York:20260718T131500
DTSTAMP:20260421T144949
CREATED:20250507T154857Z
LAST-MODIFIED:20250507T155521Z
UID:10001488-1784376900-1784380500@yanaclub.com
SUMMARY:No Name
DESCRIPTION:Open / Topic Discussion
URL:https://yanaclub.com/event/no-name/2026-07-18/
CATEGORIES:AA
END:VEVENT
BEGIN:VEVENT
DTSTART;TZID=America/New_York:20260718T173000
DTEND;TZID=America/New_York:20260718T183000
DTSTAMP:20260421T144949
CREATED:20250507T155250Z
LAST-MODIFIED:20250507T155250Z
UID:10005294-1784395800-1784399400@yanaclub.com
SUMMARY:Serenity 1st Step
DESCRIPTION:Open / Discussion / Beginners
URL:https://yanaclub.com/event/serenity-1st-step/2026-07-18/
CATEGORIES:AA
END:VEVENT
BEGIN:VEVENT
DTSTART;TZID=America/New_York:20260718T200000
DTEND;TZID=America/New_York:20260718T210000
DTSTAMP:20260421T144949
CREATED:20250507T160652Z
LAST-MODIFIED:20250507T160652Z
UID:10009666-1784404800-1784408400@yanaclub.com
SUMMARY:Grupo Latino
DESCRIPTION:Open / Discussion / Spanish Language
URL:https://yanaclub.com/event/grupo-latino/2026-07-18/
CATEGORIES:AA
END:VEVENT
END:VCALENDAR