BEGIN:VCALENDAR
VERSION:2.0
PRODID:-//YANA Club of Hilton Head Island - ECPv6.11.2//NONSGML v1.0//EN
CALSCALE:GREGORIAN
METHOD:PUBLISH
X-WR-CALNAME:YANA Club of Hilton Head Island
X-ORIGINAL-URL:https://yanaclub.com
X-WR-CALDESC:Events for YANA Club of Hilton Head Island
REFRESH-INTERVAL;VALUE=DURATION:PT1H
X-Robots-Tag:noindex
X-PUBLISHED-TTL:PT1H
BEGIN:VTIMEZONE
TZID:America/New_York
BEGIN:DAYLIGHT
TZOFFSETFROM:-0500
TZOFFSETTO:-0400
TZNAME:EDT
DTSTART:20260308T070000
END:DAYLIGHT
BEGIN:STANDARD
TZOFFSETFROM:-0400
TZOFFSETTO:-0500
TZNAME:EST
DTSTART:20261101T060000
END:STANDARD
END:VTIMEZONE
BEGIN:VEVENT
DTSTART;TZID=America/New_York:20260601T090000
DTEND;TZID=America/New_York:20260601T100000
DTSTAMP:20260422T094012
CREATED:20250507T155840Z
LAST-MODIFIED:20250507T155840Z
UID:10007602-1780304400-1780308000@yanaclub.com
SUMMARY:SANS (Sober Now Sane)
DESCRIPTION:Open / Discussion
URL:https://yanaclub.com/event/sans-sober-now-sane/2026-06-01/
CATEGORIES:AA
END:VEVENT
BEGIN:VEVENT
DTSTART;TZID=America/New_York:20260601T121500
DTEND;TZID=America/New_York:20260601T131500
DTSTAMP:20260422T094012
CREATED:20250507T154857Z
LAST-MODIFIED:20250507T155521Z
UID:10001441-1780316100-1780319700@yanaclub.com
SUMMARY:No Name
DESCRIPTION:Open / Topic Discussion
URL:https://yanaclub.com/event/no-name/2026-06-01/
CATEGORIES:AA
END:VEVENT
BEGIN:VEVENT
DTSTART;TZID=America/New_York:20260601T173000
DTEND;TZID=America/New_York:20260601T183000
DTSTAMP:20260422T094012
CREATED:20250507T155118Z
LAST-MODIFIED:20250507T155118Z
UID:10003364-1780335000-1780338600@yanaclub.com
SUMMARY:Serenity
DESCRIPTION:Open Discussion
URL:https://yanaclub.com/event/serenity/2026-06-01/
CATEGORIES:AA
END:VEVENT
BEGIN:VEVENT
DTSTART;TZID=America/New_York:20260602T090000
DTEND;TZID=America/New_York:20260602T100000
DTSTAMP:20260422T094012
CREATED:20250507T155840Z
LAST-MODIFIED:20250507T155840Z
UID:10007603-1780390800-1780394400@yanaclub.com
SUMMARY:SANS (Sober Now Sane)
DESCRIPTION:Open / Discussion
URL:https://yanaclub.com/event/sans-sober-now-sane/2026-06-02/
CATEGORIES:AA
END:VEVENT
BEGIN:VEVENT
DTSTART;TZID=America/New_York:20260602T121500
DTEND;TZID=America/New_York:20260602T131500
DTSTAMP:20260422T094012
CREATED:20250507T154857Z
LAST-MODIFIED:20250507T155521Z
UID:10001442-1780402500-1780406100@yanaclub.com
SUMMARY:No Name
DESCRIPTION:Open / Topic Discussion
URL:https://yanaclub.com/event/no-name/2026-06-02/
CATEGORIES:AA
END:VEVENT
BEGIN:VEVENT
DTSTART;TZID=America/New_York:20260602T173000
DTEND;TZID=America/New_York:20260602T183000
DTSTAMP:20260422T094012
CREATED:20250507T155118Z
LAST-MODIFIED:20250507T155118Z
UID:10003365-1780421400-1780425000@yanaclub.com
SUMMARY:Serenity
DESCRIPTION:Open Discussion
URL:https://yanaclub.com/event/serenity/2026-06-02/
CATEGORIES:AA
END:VEVENT
BEGIN:VEVENT
DTSTART;TZID=America/New_York:20260602T190000
DTEND;TZID=America/New_York:20260602T200000
DTSTAMP:20260422T094012
CREATED:20250507T160104Z
LAST-MODIFIED:20250507T160104Z
UID:10008686-1780426800-1780430400@yanaclub.com
SUMMARY:Mens Back to Basics
DESCRIPTION:Closed / Discussion / Mens
URL:https://yanaclub.com/event/mens-back-to-basics/2026-06-02/
CATEGORIES:AA
END:VEVENT
BEGIN:VEVENT
DTSTART;TZID=America/New_York:20260602T200000
DTEND;TZID=America/New_York:20260602T210000
DTSTAMP:20260422T094012
CREATED:20250507T160652Z
LAST-MODIFIED:20250507T160652Z
UID:10009639-1780430400-1780434000@yanaclub.com
SUMMARY:Grupo Latino
DESCRIPTION:Open / Discussion / Spanish Language
URL:https://yanaclub.com/event/grupo-latino/2026-06-02/
CATEGORIES:AA
END:VEVENT
BEGIN:VEVENT
DTSTART;TZID=America/New_York:20260603T070000
DTEND;TZID=America/New_York:20260603T080000
DTSTAMP:20260422T094012
CREATED:20250507T160920Z
LAST-MODIFIED:20250507T160920Z
UID:10010777-1780470000-1780473600@yanaclub.com
SUMMARY:Design for Living
DESCRIPTION:Closed / Discussion
URL:https://yanaclub.com/event/design-for-living/2026-06-03/
CATEGORIES:AA
END:VEVENT
BEGIN:VEVENT
DTSTART;TZID=America/New_York:20260603T090000
DTEND;TZID=America/New_York:20260603T100000
DTSTAMP:20260422T094012
CREATED:20250507T155840Z
LAST-MODIFIED:20250507T155840Z
UID:10007604-1780477200-1780480800@yanaclub.com
SUMMARY:SANS (Sober Now Sane)
DESCRIPTION:Open / Discussion
URL:https://yanaclub.com/event/sans-sober-now-sane/2026-06-03/
CATEGORIES:AA
END:VEVENT
BEGIN:VEVENT
DTSTART;TZID=America/New_York:20260603T121500
DTEND;TZID=America/New_York:20260603T131500
DTSTAMP:20260422T094012
CREATED:20250507T154857Z
LAST-MODIFIED:20250507T155521Z
UID:10001443-1780488900-1780492500@yanaclub.com
SUMMARY:No Name
DESCRIPTION:Open / Topic Discussion
URL:https://yanaclub.com/event/no-name/2026-06-03/
CATEGORIES:AA
END:VEVENT
BEGIN:VEVENT
DTSTART;TZID=America/New_York:20260603T173000
DTEND;TZID=America/New_York:20260603T183000
DTSTAMP:20260422T094012
CREATED:20250507T155118Z
LAST-MODIFIED:20250507T155118Z
UID:10003366-1780507800-1780511400@yanaclub.com
SUMMARY:Serenity
DESCRIPTION:Open Discussion
URL:https://yanaclub.com/event/serenity/2026-06-03/
CATEGORIES:AA
END:VEVENT
BEGIN:VEVENT
DTSTART;TZID=America/New_York:20260603T173000
DTEND;TZID=America/New_York:20260603T183000
DTSTAMP:20260422T094012
CREATED:20251027T215053Z
LAST-MODIFIED:20251027T215053Z
UID:10019272-1780507800-1780511400@yanaclub.com
SUMMARY:Keeping an Open Mind
DESCRIPTION:Midweek Al-Anon Open Discussion
URL:https://yanaclub.com/event/keeping-an-open-mind/2026-06-03/
CATEGORIES:AL-ANON,Recurring YANA Events
END:VEVENT
BEGIN:VEVENT
DTSTART;TZID=America/New_York:20260603T190000
DTEND;TZID=America/New_York:20260603T200000
DTSTAMP:20260422T094012
CREATED:20250507T163407Z
LAST-MODIFIED:20250507T163407Z
UID:10016548-1780513200-1780516800@yanaclub.com
SUMMARY:YANA Board of Directors
DESCRIPTION:
URL:https://yanaclub.com/event/yana-board-of-directors/2026-06-03/
CATEGORIES:Recurring YANA Events
END:VEVENT
BEGIN:VEVENT
DTSTART;TZID=America/New_York:20260603T200000
DTEND;TZID=America/New_York:20260603T210000
DTSTAMP:20260422T094012
CREATED:20250507T160652Z
LAST-MODIFIED:20250507T160652Z
UID:10009640-1780516800-1780520400@yanaclub.com
SUMMARY:Grupo Latino
DESCRIPTION:Open / Discussion / Spanish Language
URL:https://yanaclub.com/event/grupo-latino/2026-06-03/
CATEGORIES:AA
END:VEVENT
BEGIN:VEVENT
DTSTART;TZID=America/New_York:20260604T090000
DTEND;TZID=America/New_York:20260604T100000
DTSTAMP:20260422T094012
CREATED:20250507T155840Z
LAST-MODIFIED:20250507T155840Z
UID:10007605-1780563600-1780567200@yanaclub.com
SUMMARY:SANS (Sober Now Sane)
DESCRIPTION:Open / Discussion
URL:https://yanaclub.com/event/sans-sober-now-sane/2026-06-04/
CATEGORIES:AA
END:VEVENT
BEGIN:VEVENT
DTSTART;TZID=America/New_York:20260604T121500
DTEND;TZID=America/New_York:20260604T131500
DTSTAMP:20260422T094012
CREATED:20250507T154857Z
LAST-MODIFIED:20250507T155521Z
UID:10001444-1780575300-1780578900@yanaclub.com
SUMMARY:No Name
DESCRIPTION:Open / Topic Discussion
URL:https://yanaclub.com/event/no-name/2026-06-04/
CATEGORIES:AA
END:VEVENT
BEGIN:VEVENT
DTSTART;TZID=America/New_York:20260604T173000
DTEND;TZID=America/New_York:20260604T183000
DTSTAMP:20260422T094012
CREATED:20250507T155118Z
LAST-MODIFIED:20250507T155118Z
UID:10003367-1780594200-1780597800@yanaclub.com
SUMMARY:Serenity
DESCRIPTION:Open Discussion
URL:https://yanaclub.com/event/serenity/2026-06-04/
CATEGORIES:AA
END:VEVENT
BEGIN:VEVENT
DTSTART;TZID=America/New_York:20260604T184500
DTEND;TZID=America/New_York:20260604T194500
DTSTAMP:20260422T094012
CREATED:20250507T161123Z
LAST-MODIFIED:20250507T161123Z
UID:10011299-1780598700-1780602300@yanaclub.com
SUMMARY:645 YANA Womens
DESCRIPTION:Closed / Topic Discussion / Womens
URL:https://yanaclub.com/event/645-yana-womens/2026-06-04/
CATEGORIES:AA
END:VEVENT
BEGIN:VEVENT
DTSTART;TZID=America/New_York:20260604T200000
DTEND;TZID=America/New_York:20260604T210000
DTSTAMP:20260422T094012
CREATED:20250507T162741Z
LAST-MODIFIED:20250507T162741Z
UID:10015222-1780603200-1780606800@yanaclub.com
SUMMARY:Open Arms
DESCRIPTION:Open / Discussion / How It Works
URL:https://yanaclub.com/event/open-arms/2026-06-04/
CATEGORIES:NA
END:VEVENT
BEGIN:VEVENT
DTSTART;TZID=America/New_York:20260605T090000
DTEND;TZID=America/New_York:20260605T100000
DTSTAMP:20260422T094012
CREATED:20250507T155840Z
LAST-MODIFIED:20250507T155840Z
UID:10007606-1780650000-1780653600@yanaclub.com
SUMMARY:SANS (Sober Now Sane)
DESCRIPTION:Open / Discussion
URL:https://yanaclub.com/event/sans-sober-now-sane/2026-06-05/
CATEGORIES:AA
END:VEVENT
BEGIN:VEVENT
DTSTART;TZID=America/New_York:20260605T121500
DTEND;TZID=America/New_York:20260605T131500
DTSTAMP:20260422T094013
CREATED:20250507T154857Z
LAST-MODIFIED:20250507T155521Z
UID:10001445-1780661700-1780665300@yanaclub.com
SUMMARY:No Name
DESCRIPTION:Open / Topic Discussion
URL:https://yanaclub.com/event/no-name/2026-06-05/
CATEGORIES:AA
END:VEVENT
BEGIN:VEVENT
DTSTART;TZID=America/New_York:20260605T121500
DTEND;TZID=America/New_York:20260605T131500
DTSTAMP:20260422T094013
CREATED:20250507T162126Z
LAST-MODIFIED:20250507T162126Z
UID:10014176-1780661700-1780665300@yanaclub.com
SUMMARY:Friday Luncheon AFG
DESCRIPTION:Closed / Discussion
URL:https://yanaclub.com/event/friday-luncheon-afg-2/2026-06-05/
CATEGORIES:AL-ANON
END:VEVENT
BEGIN:VEVENT
DTSTART;TZID=America/New_York:20260605T180000
DTEND;TZID=America/New_York:20260605T190000
DTSTAMP:20260422T094013
CREATED:20250507T161244Z
LAST-MODIFIED:20250507T161244Z
UID:10011821-1780682400-1780686000@yanaclub.com
SUMMARY:Young Peoples
DESCRIPTION:Open / Discussion
URL:https://yanaclub.com/event/young-peoples/2026-06-05/
CATEGORIES:AA
END:VEVENT
BEGIN:VEVENT
DTSTART;TZID=America/New_York:20260605T180000
DTEND;TZID=America/New_York:20260605T190000
DTSTAMP:20260422T094013
CREATED:20250507T161346Z
LAST-MODIFIED:20250507T161346Z
UID:10012082-1780682400-1780686000@yanaclub.com
SUMMARY:Together We Can
DESCRIPTION:Open / Discussion
URL:https://yanaclub.com/event/together-we-can/2026-06-05/
CATEGORIES:AA
END:VEVENT
BEGIN:VEVENT
DTSTART;TZID=America/New_York:20260605T200000
DTEND;TZID=America/New_York:20260605T210000
DTSTAMP:20260422T094013
CREATED:20250507T160652Z
LAST-MODIFIED:20250507T160652Z
UID:10009641-1780689600-1780693200@yanaclub.com
SUMMARY:Grupo Latino
DESCRIPTION:Open / Discussion / Spanish Language
URL:https://yanaclub.com/event/grupo-latino/2026-06-05/
CATEGORIES:AA
END:VEVENT
BEGIN:VEVENT
DTSTART;TZID=America/New_York:20260606T090000
DTEND;TZID=America/New_York:20260606T100000
DTSTAMP:20260422T094013
CREATED:20250502T104804Z
LAST-MODIFIED:20250502T104804Z
UID:10000059-1780736400-1780740000@yanaclub.com
SUMMARY:Saturday Big Book Study
DESCRIPTION:Type: O/BB
URL:https://yanaclub.com/event/saturday-big-book-study/2026-06-06/
CATEGORIES:AA
END:VEVENT
BEGIN:VEVENT
DTSTART;TZID=America/New_York:20260606T121500
DTEND;TZID=America/New_York:20260606T131500
DTSTAMP:20260422T094013
CREATED:20250507T154857Z
LAST-MODIFIED:20250507T155521Z
UID:10001446-1780748100-1780751700@yanaclub.com
SUMMARY:No Name
DESCRIPTION:Open / Topic Discussion
URL:https://yanaclub.com/event/no-name/2026-06-06/
CATEGORIES:AA
END:VEVENT
BEGIN:VEVENT
DTSTART;TZID=America/New_York:20260606T173000
DTEND;TZID=America/New_York:20260606T183000
DTSTAMP:20260422T094013
CREATED:20250507T155250Z
LAST-MODIFIED:20250507T155250Z
UID:10005288-1780767000-1780770600@yanaclub.com
SUMMARY:Serenity 1st Step
DESCRIPTION:Open / Discussion / Beginners
URL:https://yanaclub.com/event/serenity-1st-step/2026-06-06/
CATEGORIES:AA
END:VEVENT
BEGIN:VEVENT
DTSTART;TZID=America/New_York:20260606T200000
DTEND;TZID=America/New_York:20260606T210000
DTSTAMP:20260422T094013
CREATED:20250507T160652Z
LAST-MODIFIED:20250507T160652Z
UID:10009642-1780776000-1780779600@yanaclub.com
SUMMARY:Grupo Latino
DESCRIPTION:Open / Discussion / Spanish Language
URL:https://yanaclub.com/event/grupo-latino/2026-06-06/
CATEGORIES:AA
END:VEVENT
END:VCALENDAR