BEGIN:VCALENDAR
VERSION:2.0
PRODID:-//YANA Club of Hilton Head Island - ECPv6.11.2//NONSGML v1.0//EN
CALSCALE:GREGORIAN
METHOD:PUBLISH
X-ORIGINAL-URL:https://yanaclub.com
X-WR-CALDESC:Events for YANA Club of Hilton Head Island
REFRESH-INTERVAL;VALUE=DURATION:PT1H
X-Robots-Tag:noindex
X-PUBLISHED-TTL:PT1H
BEGIN:VTIMEZONE
TZID:America/New_York
BEGIN:DAYLIGHT
TZOFFSETFROM:-0500
TZOFFSETTO:-0400
TZNAME:EDT
DTSTART:20260308T070000
END:DAYLIGHT
BEGIN:STANDARD
TZOFFSETFROM:-0400
TZOFFSETTO:-0500
TZNAME:EST
DTSTART:20261101T060000
END:STANDARD
END:VTIMEZONE
BEGIN:VEVENT
DTSTART;TZID=America/New_York:20260525T090000
DTEND;TZID=America/New_York:20260525T100000
DTSTAMP:20260421T165534
CREATED:20250507T155840Z
LAST-MODIFIED:20250507T155840Z
UID:10007597-1779699600-1779703200@yanaclub.com
SUMMARY:SANS (Sober Now Sane)
DESCRIPTION:Open / Discussion
URL:https://yanaclub.com/event/sans-sober-now-sane/2026-05-25/
CATEGORIES:AA
END:VEVENT
BEGIN:VEVENT
DTSTART;TZID=America/New_York:20260525T121500
DTEND;TZID=America/New_York:20260525T131500
DTSTAMP:20260421T165534
CREATED:20250507T154857Z
LAST-MODIFIED:20250507T155521Z
UID:10001434-1779711300-1779714900@yanaclub.com
SUMMARY:No Name
DESCRIPTION:Open / Topic Discussion
URL:https://yanaclub.com/event/no-name/2026-05-25/
CATEGORIES:AA
END:VEVENT
BEGIN:VEVENT
DTSTART;TZID=America/New_York:20260525T173000
DTEND;TZID=America/New_York:20260525T183000
DTSTAMP:20260421T165534
CREATED:20250507T155118Z
LAST-MODIFIED:20250507T155118Z
UID:10003360-1779730200-1779733800@yanaclub.com
SUMMARY:Serenity
DESCRIPTION:Open Discussion
URL:https://yanaclub.com/event/serenity/2026-05-25/
CATEGORIES:AA
END:VEVENT
BEGIN:VEVENT
DTSTART;TZID=America/New_York:20260526T090000
DTEND;TZID=America/New_York:20260526T100000
DTSTAMP:20260421T165534
CREATED:20250507T155840Z
LAST-MODIFIED:20250507T155840Z
UID:10007598-1779786000-1779789600@yanaclub.com
SUMMARY:SANS (Sober Now Sane)
DESCRIPTION:Open / Discussion
URL:https://yanaclub.com/event/sans-sober-now-sane/2026-05-26/
CATEGORIES:AA
END:VEVENT
BEGIN:VEVENT
DTSTART;TZID=America/New_York:20260526T121500
DTEND;TZID=America/New_York:20260526T131500
DTSTAMP:20260421T165534
CREATED:20250507T154857Z
LAST-MODIFIED:20250507T155521Z
UID:10001435-1779797700-1779801300@yanaclub.com
SUMMARY:No Name
DESCRIPTION:Open / Topic Discussion
URL:https://yanaclub.com/event/no-name/2026-05-26/
CATEGORIES:AA
END:VEVENT
BEGIN:VEVENT
DTSTART;TZID=America/New_York:20260526T173000
DTEND;TZID=America/New_York:20260526T183000
DTSTAMP:20260421T165534
CREATED:20250507T155118Z
LAST-MODIFIED:20250507T155118Z
UID:10003361-1779816600-1779820200@yanaclub.com
SUMMARY:Serenity
DESCRIPTION:Open Discussion
URL:https://yanaclub.com/event/serenity/2026-05-26/
CATEGORIES:AA
END:VEVENT
BEGIN:VEVENT
DTSTART;TZID=America/New_York:20260526T190000
DTEND;TZID=America/New_York:20260526T200000
DTSTAMP:20260421T165534
CREATED:20250507T160104Z
LAST-MODIFIED:20250507T160104Z
UID:10008685-1779822000-1779825600@yanaclub.com
SUMMARY:Mens Back to Basics
DESCRIPTION:Closed / Discussion / Mens
URL:https://yanaclub.com/event/mens-back-to-basics/2026-05-26/
CATEGORIES:AA
END:VEVENT
BEGIN:VEVENT
DTSTART;TZID=America/New_York:20260526T200000
DTEND;TZID=America/New_York:20260526T210000
DTSTAMP:20260421T165534
CREATED:20250507T160652Z
LAST-MODIFIED:20250507T160652Z
UID:10009635-1779825600-1779829200@yanaclub.com
SUMMARY:Grupo Latino
DESCRIPTION:Open / Discussion / Spanish Language
URL:https://yanaclub.com/event/grupo-latino/2026-05-26/
CATEGORIES:AA
END:VEVENT
BEGIN:VEVENT
DTSTART;TZID=America/New_York:20260527T070000
DTEND;TZID=America/New_York:20260527T080000
DTSTAMP:20260421T165534
CREATED:20250507T160920Z
LAST-MODIFIED:20250507T160920Z
UID:10010776-1779865200-1779868800@yanaclub.com
SUMMARY:Design for Living
DESCRIPTION:Closed / Discussion
URL:https://yanaclub.com/event/design-for-living/2026-05-27/
CATEGORIES:AA
END:VEVENT
BEGIN:VEVENT
DTSTART;TZID=America/New_York:20260527T090000
DTEND;TZID=America/New_York:20260527T100000
DTSTAMP:20260421T165534
CREATED:20250507T155840Z
LAST-MODIFIED:20250507T155840Z
UID:10007599-1779872400-1779876000@yanaclub.com
SUMMARY:SANS (Sober Now Sane)
DESCRIPTION:Open / Discussion
URL:https://yanaclub.com/event/sans-sober-now-sane/2026-05-27/
CATEGORIES:AA
END:VEVENT
BEGIN:VEVENT
DTSTART;TZID=America/New_York:20260527T121500
DTEND;TZID=America/New_York:20260527T131500
DTSTAMP:20260421T165534
CREATED:20250507T154857Z
LAST-MODIFIED:20250507T155521Z
UID:10001436-1779884100-1779887700@yanaclub.com
SUMMARY:No Name
DESCRIPTION:Open / Topic Discussion
URL:https://yanaclub.com/event/no-name/2026-05-27/
CATEGORIES:AA
END:VEVENT
BEGIN:VEVENT
DTSTART;TZID=America/New_York:20260527T173000
DTEND;TZID=America/New_York:20260527T183000
DTSTAMP:20260421T165534
CREATED:20250507T155118Z
LAST-MODIFIED:20250507T155118Z
UID:10003362-1779903000-1779906600@yanaclub.com
SUMMARY:Serenity
DESCRIPTION:Open Discussion
URL:https://yanaclub.com/event/serenity/2026-05-27/
CATEGORIES:AA
END:VEVENT
BEGIN:VEVENT
DTSTART;TZID=America/New_York:20260527T173000
DTEND;TZID=America/New_York:20260527T183000
DTSTAMP:20260421T165534
CREATED:20251027T215053Z
LAST-MODIFIED:20251027T215053Z
UID:10019271-1779903000-1779906600@yanaclub.com
SUMMARY:Keeping an Open Mind
DESCRIPTION:Midweek Al-Anon Open Discussion
URL:https://yanaclub.com/event/keeping-an-open-mind/2026-05-27/
CATEGORIES:AL-ANON,Recurring YANA Events
END:VEVENT
BEGIN:VEVENT
DTSTART;TZID=America/New_York:20260527T200000
DTEND;TZID=America/New_York:20260527T210000
DTSTAMP:20260421T165534
CREATED:20250507T160652Z
LAST-MODIFIED:20250507T160652Z
UID:10009636-1779912000-1779915600@yanaclub.com
SUMMARY:Grupo Latino
DESCRIPTION:Open / Discussion / Spanish Language
URL:https://yanaclub.com/event/grupo-latino/2026-05-27/
CATEGORIES:AA
END:VEVENT
BEGIN:VEVENT
DTSTART;TZID=America/New_York:20260528T090000
DTEND;TZID=America/New_York:20260528T100000
DTSTAMP:20260421T165534
CREATED:20250507T155840Z
LAST-MODIFIED:20250507T155840Z
UID:10007600-1779958800-1779962400@yanaclub.com
SUMMARY:SANS (Sober Now Sane)
DESCRIPTION:Open / Discussion
URL:https://yanaclub.com/event/sans-sober-now-sane/2026-05-28/
CATEGORIES:AA
END:VEVENT
BEGIN:VEVENT
DTSTART;TZID=America/New_York:20260528T121500
DTEND;TZID=America/New_York:20260528T131500
DTSTAMP:20260421T165534
CREATED:20250507T154857Z
LAST-MODIFIED:20250507T155521Z
UID:10001437-1779970500-1779974100@yanaclub.com
SUMMARY:No Name
DESCRIPTION:Open / Topic Discussion
URL:https://yanaclub.com/event/no-name/2026-05-28/
CATEGORIES:AA
END:VEVENT
BEGIN:VEVENT
DTSTART;TZID=America/New_York:20260528T173000
DTEND;TZID=America/New_York:20260528T183000
DTSTAMP:20260421T165534
CREATED:20250507T155118Z
LAST-MODIFIED:20250507T155118Z
UID:10003363-1779989400-1779993000@yanaclub.com
SUMMARY:Serenity
DESCRIPTION:Open Discussion
URL:https://yanaclub.com/event/serenity/2026-05-28/
CATEGORIES:AA
END:VEVENT
BEGIN:VEVENT
DTSTART;TZID=America/New_York:20260528T184500
DTEND;TZID=America/New_York:20260528T194500
DTSTAMP:20260421T165534
CREATED:20250507T161123Z
LAST-MODIFIED:20250507T161123Z
UID:10011298-1779993900-1779997500@yanaclub.com
SUMMARY:645 YANA Womens
DESCRIPTION:Closed / Topic Discussion / Womens
URL:https://yanaclub.com/event/645-yana-womens/2026-05-28/
CATEGORIES:AA
END:VEVENT
BEGIN:VEVENT
DTSTART;TZID=America/New_York:20260528T200000
DTEND;TZID=America/New_York:20260528T210000
DTSTAMP:20260421T165534
CREATED:20250507T162741Z
LAST-MODIFIED:20250507T162741Z
UID:10015221-1779998400-1780002000@yanaclub.com
SUMMARY:Open Arms
DESCRIPTION:Open / Discussion / How It Works
URL:https://yanaclub.com/event/open-arms/2026-05-28/
CATEGORIES:NA
END:VEVENT
BEGIN:VEVENT
DTSTART;TZID=America/New_York:20260529T090000
DTEND;TZID=America/New_York:20260529T100000
DTSTAMP:20260421T165534
CREATED:20250507T155840Z
LAST-MODIFIED:20250507T155840Z
UID:10007601-1780045200-1780048800@yanaclub.com
SUMMARY:SANS (Sober Now Sane)
DESCRIPTION:Open / Discussion
URL:https://yanaclub.com/event/sans-sober-now-sane/2026-05-29/
CATEGORIES:AA
END:VEVENT
BEGIN:VEVENT
DTSTART;TZID=America/New_York:20260529T121500
DTEND;TZID=America/New_York:20260529T131500
DTSTAMP:20260421T165534
CREATED:20250507T154857Z
LAST-MODIFIED:20250507T155521Z
UID:10001438-1780056900-1780060500@yanaclub.com
SUMMARY:No Name
DESCRIPTION:Open / Topic Discussion
URL:https://yanaclub.com/event/no-name/2026-05-29/
CATEGORIES:AA
END:VEVENT
BEGIN:VEVENT
DTSTART;TZID=America/New_York:20260529T121500
DTEND;TZID=America/New_York:20260529T131500
DTSTAMP:20260421T165534
CREATED:20250507T162126Z
LAST-MODIFIED:20250507T162126Z
UID:10014175-1780056900-1780060500@yanaclub.com
SUMMARY:Friday Luncheon AFG
DESCRIPTION:Closed / Discussion
URL:https://yanaclub.com/event/friday-luncheon-afg-2/2026-05-29/
CATEGORIES:AL-ANON
END:VEVENT
BEGIN:VEVENT
DTSTART;TZID=America/New_York:20260529T180000
DTEND;TZID=America/New_York:20260529T190000
DTSTAMP:20260421T165534
CREATED:20250507T161244Z
LAST-MODIFIED:20250507T161244Z
UID:10011820-1780077600-1780081200@yanaclub.com
SUMMARY:Young Peoples
DESCRIPTION:Open / Discussion
URL:https://yanaclub.com/event/young-peoples/2026-05-29/
CATEGORIES:AA
END:VEVENT
BEGIN:VEVENT
DTSTART;TZID=America/New_York:20260529T180000
DTEND;TZID=America/New_York:20260529T190000
DTSTAMP:20260421T165534
CREATED:20250507T161346Z
LAST-MODIFIED:20250507T161346Z
UID:10012081-1780077600-1780081200@yanaclub.com
SUMMARY:Together We Can
DESCRIPTION:Open / Discussion
URL:https://yanaclub.com/event/together-we-can/2026-05-29/
CATEGORIES:AA
END:VEVENT
BEGIN:VEVENT
DTSTART;TZID=America/New_York:20260529T200000
DTEND;TZID=America/New_York:20260529T210000
DTSTAMP:20260421T165534
CREATED:20250507T160652Z
LAST-MODIFIED:20250507T160652Z
UID:10009637-1780084800-1780088400@yanaclub.com
SUMMARY:Grupo Latino
DESCRIPTION:Open / Discussion / Spanish Language
URL:https://yanaclub.com/event/grupo-latino/2026-05-29/
CATEGORIES:AA
END:VEVENT
BEGIN:VEVENT
DTSTART;TZID=America/New_York:20260530T090000
DTEND;TZID=America/New_York:20260530T100000
DTSTAMP:20260421T165534
CREATED:20250502T104804Z
LAST-MODIFIED:20250502T104804Z
UID:10000058-1780131600-1780135200@yanaclub.com
SUMMARY:Saturday Big Book Study
DESCRIPTION:Type: O/BB
URL:https://yanaclub.com/event/saturday-big-book-study/2026-05-30/
CATEGORIES:AA
END:VEVENT
BEGIN:VEVENT
DTSTART;TZID=America/New_York:20260530T121500
DTEND;TZID=America/New_York:20260530T131500
DTSTAMP:20260421T165534
CREATED:20250507T154857Z
LAST-MODIFIED:20250507T155521Z
UID:10001439-1780143300-1780146900@yanaclub.com
SUMMARY:No Name
DESCRIPTION:Open / Topic Discussion
URL:https://yanaclub.com/event/no-name/2026-05-30/
CATEGORIES:AA
END:VEVENT
BEGIN:VEVENT
DTSTART;TZID=America/New_York:20260530T173000
DTEND;TZID=America/New_York:20260530T183000
DTSTAMP:20260421T165534
CREATED:20250507T155250Z
LAST-MODIFIED:20250507T155250Z
UID:10005287-1780162200-1780165800@yanaclub.com
SUMMARY:Serenity 1st Step
DESCRIPTION:Open / Discussion / Beginners
URL:https://yanaclub.com/event/serenity-1st-step/2026-05-30/
CATEGORIES:AA
END:VEVENT
BEGIN:VEVENT
DTSTART;TZID=America/New_York:20260530T200000
DTEND;TZID=America/New_York:20260530T210000
DTSTAMP:20260421T165534
CREATED:20250507T160652Z
LAST-MODIFIED:20250507T160652Z
UID:10009638-1780171200-1780174800@yanaclub.com
SUMMARY:Grupo Latino
DESCRIPTION:Open / Discussion / Spanish Language
URL:https://yanaclub.com/event/grupo-latino/2026-05-30/
CATEGORIES:AA
END:VEVENT
BEGIN:VEVENT
DTSTART;TZID=America/New_York:20260531T080000
DTEND;TZID=America/New_York:20260531T090000
DTSTAMP:20260421T165534
CREATED:20250507T163100Z
LAST-MODIFIED:20250507T163100Z
UID:10015745-1780214400-1780218000@yanaclub.com
SUMMARY:YANA Sunday Breakfast
DESCRIPTION:
URL:https://yanaclub.com/event/yana-sunday-breakfast/2026-05-31/
CATEGORIES:Recurring YANA Events
END:VEVENT
END:VCALENDAR