BEGIN:VCALENDAR
VERSION:2.0
PRODID:-//YANA Club of Hilton Head Island - ECPv6.11.2//NONSGML v1.0//EN
CALSCALE:GREGORIAN
METHOD:PUBLISH
X-WR-CALNAME:YANA Club of Hilton Head Island
X-ORIGINAL-URL:https://yanaclub.com
X-WR-CALDESC:Events for YANA Club of Hilton Head Island
REFRESH-INTERVAL;VALUE=DURATION:PT1H
X-Robots-Tag:noindex
X-PUBLISHED-TTL:PT1H
BEGIN:VTIMEZONE
TZID:America/New_York
BEGIN:DAYLIGHT
TZOFFSETFROM:-0500
TZOFFSETTO:-0400
TZNAME:EDT
DTSTART:20250309T070000
END:DAYLIGHT
BEGIN:STANDARD
TZOFFSETFROM:-0400
TZOFFSETTO:-0500
TZNAME:EST
DTSTART:20251102T060000
END:STANDARD
END:VTIMEZONE
BEGIN:VEVENT
DTSTART;TZID=America/New_York:20251117T090000
DTEND;TZID=America/New_York:20251117T100000
DTSTAMP:20260419T173007
CREATED:20250507T155840Z
LAST-MODIFIED:20250507T155840Z
UID:10007462-1763370000-1763373600@yanaclub.com
SUMMARY:SANS (Sober Now Sane)
DESCRIPTION:Open / Discussion
URL:https://yanaclub.com/event/sans-sober-now-sane/2025-11-17/
CATEGORIES:AA
END:VEVENT
BEGIN:VEVENT
DTSTART;TZID=America/New_York:20251117T121500
DTEND;TZID=America/New_York:20251117T131500
DTSTAMP:20260419T173007
CREATED:20250507T154857Z
LAST-MODIFIED:20250507T155521Z
UID:10001245-1763381700-1763385300@yanaclub.com
SUMMARY:No Name
DESCRIPTION:Open / Topic Discussion
URL:https://yanaclub.com/event/no-name/2025-11-17/
CATEGORIES:AA
END:VEVENT
BEGIN:VEVENT
DTSTART;TZID=America/New_York:20251117T173000
DTEND;TZID=America/New_York:20251117T183000
DTSTAMP:20260419T173007
CREATED:20250507T155118Z
LAST-MODIFIED:20250507T155118Z
UID:10003252-1763400600-1763404200@yanaclub.com
SUMMARY:Serenity
DESCRIPTION:Open Discussion
URL:https://yanaclub.com/event/serenity/2025-11-17/
CATEGORIES:AA
END:VEVENT
BEGIN:VEVENT
DTSTART;TZID=America/New_York:20251118T090000
DTEND;TZID=America/New_York:20251118T100000
DTSTAMP:20260419T173007
CREATED:20250507T155840Z
LAST-MODIFIED:20250507T155840Z
UID:10007463-1763456400-1763460000@yanaclub.com
SUMMARY:SANS (Sober Now Sane)
DESCRIPTION:Open / Discussion
URL:https://yanaclub.com/event/sans-sober-now-sane/2025-11-18/
CATEGORIES:AA
END:VEVENT
BEGIN:VEVENT
DTSTART;TZID=America/New_York:20251118T121500
DTEND;TZID=America/New_York:20251118T131500
DTSTAMP:20260419T173007
CREATED:20250507T154857Z
LAST-MODIFIED:20250507T155521Z
UID:10001246-1763468100-1763471700@yanaclub.com
SUMMARY:No Name
DESCRIPTION:Open / Topic Discussion
URL:https://yanaclub.com/event/no-name/2025-11-18/
CATEGORIES:AA
END:VEVENT
BEGIN:VEVENT
DTSTART;TZID=America/New_York:20251118T173000
DTEND;TZID=America/New_York:20251118T183000
DTSTAMP:20260419T173007
CREATED:20250507T155118Z
LAST-MODIFIED:20250507T155118Z
UID:10003253-1763487000-1763490600@yanaclub.com
SUMMARY:Serenity
DESCRIPTION:Open Discussion
URL:https://yanaclub.com/event/serenity/2025-11-18/
CATEGORIES:AA
END:VEVENT
BEGIN:VEVENT
DTSTART;TZID=America/New_York:20251118T190000
DTEND;TZID=America/New_York:20251118T200000
DTSTAMP:20260419T173007
CREATED:20250507T160104Z
LAST-MODIFIED:20250507T160104Z
UID:10008658-1763492400-1763496000@yanaclub.com
SUMMARY:Mens Back to Basics
DESCRIPTION:Closed / Discussion / Mens
URL:https://yanaclub.com/event/mens-back-to-basics/2025-11-18/
CATEGORIES:AA
END:VEVENT
BEGIN:VEVENT
DTSTART;TZID=America/New_York:20251118T200000
DTEND;TZID=America/New_York:20251118T210000
DTSTAMP:20260419T173007
CREATED:20250507T160652Z
LAST-MODIFIED:20250507T160652Z
UID:10009527-1763496000-1763499600@yanaclub.com
SUMMARY:Grupo Latino
DESCRIPTION:Open / Discussion / Spanish Language
URL:https://yanaclub.com/event/grupo-latino/2025-11-18/
CATEGORIES:AA
END:VEVENT
BEGIN:VEVENT
DTSTART;TZID=America/New_York:20251119T070000
DTEND;TZID=America/New_York:20251119T080000
DTSTAMP:20260419T173007
CREATED:20250507T160920Z
LAST-MODIFIED:20250507T160920Z
UID:10010749-1763535600-1763539200@yanaclub.com
SUMMARY:Design for Living
DESCRIPTION:Closed / Discussion
URL:https://yanaclub.com/event/design-for-living/2025-11-19/
CATEGORIES:AA
END:VEVENT
BEGIN:VEVENT
DTSTART;TZID=America/New_York:20251119T090000
DTEND;TZID=America/New_York:20251119T100000
DTSTAMP:20260419T173007
CREATED:20250507T155840Z
LAST-MODIFIED:20250507T155840Z
UID:10007464-1763542800-1763546400@yanaclub.com
SUMMARY:SANS (Sober Now Sane)
DESCRIPTION:Open / Discussion
URL:https://yanaclub.com/event/sans-sober-now-sane/2025-11-19/
CATEGORIES:AA
END:VEVENT
BEGIN:VEVENT
DTSTART;TZID=America/New_York:20251119T121500
DTEND;TZID=America/New_York:20251119T131500
DTSTAMP:20260419T173007
CREATED:20250507T154857Z
LAST-MODIFIED:20250507T155521Z
UID:10001247-1763554500-1763558100@yanaclub.com
SUMMARY:No Name
DESCRIPTION:Open / Topic Discussion
URL:https://yanaclub.com/event/no-name/2025-11-19/
CATEGORIES:AA
END:VEVENT
BEGIN:VEVENT
DTSTART;TZID=America/New_York:20251119T173000
DTEND;TZID=America/New_York:20251119T183000
DTSTAMP:20260419T173007
CREATED:20250507T155118Z
LAST-MODIFIED:20250507T155118Z
UID:10003254-1763573400-1763577000@yanaclub.com
SUMMARY:Serenity
DESCRIPTION:Open Discussion
URL:https://yanaclub.com/event/serenity/2025-11-19/
CATEGORIES:AA
END:VEVENT
BEGIN:VEVENT
DTSTART;TZID=America/New_York:20251119T173000
DTEND;TZID=America/New_York:20251119T183000
DTSTAMP:20260419T173007
CREATED:20251027T215053Z
LAST-MODIFIED:20251027T215053Z
UID:10019244-1763573400-1763577000@yanaclub.com
SUMMARY:Keeping an Open Mind
DESCRIPTION:Midweek Al-Anon Open Discussion
URL:https://yanaclub.com/event/keeping-an-open-mind/2025-11-19/
CATEGORIES:AL-ANON,Recurring YANA Events
END:VEVENT
BEGIN:VEVENT
DTSTART;TZID=America/New_York:20251119T200000
DTEND;TZID=America/New_York:20251119T210000
DTSTAMP:20260419T173007
CREATED:20250507T160652Z
LAST-MODIFIED:20250507T160652Z
UID:10009528-1763582400-1763586000@yanaclub.com
SUMMARY:Grupo Latino
DESCRIPTION:Open / Discussion / Spanish Language
URL:https://yanaclub.com/event/grupo-latino/2025-11-19/
CATEGORIES:AA
END:VEVENT
BEGIN:VEVENT
DTSTART;TZID=America/New_York:20251120T090000
DTEND;TZID=America/New_York:20251120T100000
DTSTAMP:20260419T173007
CREATED:20250507T155840Z
LAST-MODIFIED:20250507T155840Z
UID:10007465-1763629200-1763632800@yanaclub.com
SUMMARY:SANS (Sober Now Sane)
DESCRIPTION:Open / Discussion
URL:https://yanaclub.com/event/sans-sober-now-sane/2025-11-20/
CATEGORIES:AA
END:VEVENT
BEGIN:VEVENT
DTSTART;TZID=America/New_York:20251120T121500
DTEND;TZID=America/New_York:20251120T131500
DTSTAMP:20260419T173007
CREATED:20250507T154857Z
LAST-MODIFIED:20250507T155521Z
UID:10001248-1763640900-1763644500@yanaclub.com
SUMMARY:No Name
DESCRIPTION:Open / Topic Discussion
URL:https://yanaclub.com/event/no-name/2025-11-20/
CATEGORIES:AA
END:VEVENT
BEGIN:VEVENT
DTSTART;TZID=America/New_York:20251120T173000
DTEND;TZID=America/New_York:20251120T183000
DTSTAMP:20260419T173007
CREATED:20250507T155118Z
LAST-MODIFIED:20250507T155118Z
UID:10003255-1763659800-1763663400@yanaclub.com
SUMMARY:Serenity
DESCRIPTION:Open Discussion
URL:https://yanaclub.com/event/serenity/2025-11-20/
CATEGORIES:AA
END:VEVENT
BEGIN:VEVENT
DTSTART;TZID=America/New_York:20251120T184500
DTEND;TZID=America/New_York:20251120T194500
DTSTAMP:20260419T173007
CREATED:20250507T161123Z
LAST-MODIFIED:20250507T161123Z
UID:10011271-1763664300-1763667900@yanaclub.com
SUMMARY:645 YANA Womens
DESCRIPTION:Closed / Topic Discussion / Womens
URL:https://yanaclub.com/event/645-yana-womens/2025-11-20/
CATEGORIES:AA
END:VEVENT
BEGIN:VEVENT
DTSTART;TZID=America/New_York:20251120T200000
DTEND;TZID=America/New_York:20251120T210000
DTSTAMP:20260419T173007
CREATED:20250507T162741Z
LAST-MODIFIED:20250507T162741Z
UID:10015194-1763668800-1763672400@yanaclub.com
SUMMARY:Open Arms
DESCRIPTION:Open / Discussion / How It Works
URL:https://yanaclub.com/event/open-arms/2025-11-20/
CATEGORIES:NA
END:VEVENT
BEGIN:VEVENT
DTSTART;TZID=America/New_York:20251121T090000
DTEND;TZID=America/New_York:20251121T100000
DTSTAMP:20260419T173007
CREATED:20250507T155840Z
LAST-MODIFIED:20250507T155840Z
UID:10007466-1763715600-1763719200@yanaclub.com
SUMMARY:SANS (Sober Now Sane)
DESCRIPTION:Open / Discussion
URL:https://yanaclub.com/event/sans-sober-now-sane/2025-11-21/
CATEGORIES:AA
END:VEVENT
BEGIN:VEVENT
DTSTART;TZID=America/New_York:20251121T121500
DTEND;TZID=America/New_York:20251121T131500
DTSTAMP:20260419T173007
CREATED:20250507T154857Z
LAST-MODIFIED:20250507T155521Z
UID:10001249-1763727300-1763730900@yanaclub.com
SUMMARY:No Name
DESCRIPTION:Open / Topic Discussion
URL:https://yanaclub.com/event/no-name/2025-11-21/
CATEGORIES:AA
END:VEVENT
BEGIN:VEVENT
DTSTART;TZID=America/New_York:20251121T121500
DTEND;TZID=America/New_York:20251121T131500
DTSTAMP:20260419T173007
CREATED:20250507T162126Z
LAST-MODIFIED:20250507T162126Z
UID:10014148-1763727300-1763730900@yanaclub.com
SUMMARY:Friday Luncheon AFG
DESCRIPTION:Closed / Discussion
URL:https://yanaclub.com/event/friday-luncheon-afg-2/2025-11-21/
CATEGORIES:AL-ANON
END:VEVENT
BEGIN:VEVENT
DTSTART;TZID=America/New_York:20251121T180000
DTEND;TZID=America/New_York:20251121T190000
DTSTAMP:20260419T173007
CREATED:20250507T161244Z
LAST-MODIFIED:20250507T161244Z
UID:10011793-1763748000-1763751600@yanaclub.com
SUMMARY:Young Peoples
DESCRIPTION:Open / Discussion
URL:https://yanaclub.com/event/young-peoples/2025-11-21/
CATEGORIES:AA
END:VEVENT
BEGIN:VEVENT
DTSTART;TZID=America/New_York:20251121T180000
DTEND;TZID=America/New_York:20251121T190000
DTSTAMP:20260419T173007
CREATED:20250507T161346Z
LAST-MODIFIED:20250507T161346Z
UID:10012054-1763748000-1763751600@yanaclub.com
SUMMARY:Together We Can
DESCRIPTION:Open / Discussion
URL:https://yanaclub.com/event/together-we-can/2025-11-21/
CATEGORIES:AA
END:VEVENT
BEGIN:VEVENT
DTSTART;TZID=America/New_York:20251121T200000
DTEND;TZID=America/New_York:20251121T210000
DTSTAMP:20260419T173007
CREATED:20250507T160652Z
LAST-MODIFIED:20250507T160652Z
UID:10009529-1763755200-1763758800@yanaclub.com
SUMMARY:Grupo Latino
DESCRIPTION:Open / Discussion / Spanish Language
URL:https://yanaclub.com/event/grupo-latino/2025-11-21/
CATEGORIES:AA
END:VEVENT
BEGIN:VEVENT
DTSTART;TZID=America/New_York:20251122T090000
DTEND;TZID=America/New_York:20251122T100000
DTSTAMP:20260419T173007
CREATED:20250502T104804Z
LAST-MODIFIED:20250502T104804Z
UID:10000031-1763802000-1763805600@yanaclub.com
SUMMARY:Saturday Big Book Study
DESCRIPTION:Type: O/BB
URL:https://yanaclub.com/event/saturday-big-book-study/2025-11-22/
CATEGORIES:AA
END:VEVENT
BEGIN:VEVENT
DTSTART;TZID=America/New_York:20251122T121500
DTEND;TZID=America/New_York:20251122T131500
DTSTAMP:20260419T173007
CREATED:20250507T154857Z
LAST-MODIFIED:20250507T155521Z
UID:10001250-1763813700-1763817300@yanaclub.com
SUMMARY:No Name
DESCRIPTION:Open / Topic Discussion
URL:https://yanaclub.com/event/no-name/2025-11-22/
CATEGORIES:AA
END:VEVENT
BEGIN:VEVENT
DTSTART;TZID=America/New_York:20251122T173000
DTEND;TZID=America/New_York:20251122T183000
DTSTAMP:20260419T173007
CREATED:20250507T155250Z
LAST-MODIFIED:20250507T155250Z
UID:10005260-1763832600-1763836200@yanaclub.com
SUMMARY:Serenity 1st Step
DESCRIPTION:Open / Discussion / Beginners
URL:https://yanaclub.com/event/serenity-1st-step/2025-11-22/
CATEGORIES:AA
END:VEVENT
BEGIN:VEVENT
DTSTART;TZID=America/New_York:20251122T200000
DTEND;TZID=America/New_York:20251122T210000
DTSTAMP:20260419T173007
CREATED:20250507T160652Z
LAST-MODIFIED:20250507T160652Z
UID:10009530-1763841600-1763845200@yanaclub.com
SUMMARY:Grupo Latino
DESCRIPTION:Open / Discussion / Spanish Language
URL:https://yanaclub.com/event/grupo-latino/2025-11-22/
CATEGORIES:AA
END:VEVENT
BEGIN:VEVENT
DTSTART;TZID=America/New_York:20251123T080000
DTEND;TZID=America/New_York:20251123T090000
DTSTAMP:20260419T173007
CREATED:20250507T163100Z
LAST-MODIFIED:20250507T163100Z
UID:10015718-1763884800-1763888400@yanaclub.com
SUMMARY:YANA Sunday Breakfast
DESCRIPTION:
URL:https://yanaclub.com/event/yana-sunday-breakfast/2025-11-23/
CATEGORIES:Recurring YANA Events
END:VEVENT
END:VCALENDAR