BEGIN:VCALENDAR
VERSION:2.0
PRODID:-//YANA Club of Hilton Head Island - ECPv6.11.2//NONSGML v1.0//EN
CALSCALE:GREGORIAN
METHOD:PUBLISH
X-WR-CALNAME:YANA Club of Hilton Head Island
X-ORIGINAL-URL:https://yanaclub.com
X-WR-CALDESC:Events for YANA Club of Hilton Head Island
REFRESH-INTERVAL;VALUE=DURATION:PT1H
X-Robots-Tag:noindex
X-PUBLISHED-TTL:PT1H
BEGIN:VTIMEZONE
TZID:America/New_York
BEGIN:DAYLIGHT
TZOFFSETFROM:-0500
TZOFFSETTO:-0400
TZNAME:EDT
DTSTART:20250309T070000
END:DAYLIGHT
BEGIN:STANDARD
TZOFFSETFROM:-0400
TZOFFSETTO:-0500
TZNAME:EST
DTSTART:20251102T060000
END:STANDARD
END:VTIMEZONE
BEGIN:VEVENT
DTSTART;TZID=America/New_York:20251110T090000
DTEND;TZID=America/New_York:20251110T100000
DTSTAMP:20260421T212353
CREATED:20250507T155840Z
LAST-MODIFIED:20250507T155840Z
UID:10007457-1762765200-1762768800@yanaclub.com
SUMMARY:SANS (Sober Now Sane)
DESCRIPTION:Open / Discussion
URL:https://yanaclub.com/event/sans-sober-now-sane/2025-11-10/
CATEGORIES:AA
END:VEVENT
BEGIN:VEVENT
DTSTART;TZID=America/New_York:20251110T121500
DTEND;TZID=America/New_York:20251110T131500
DTSTAMP:20260421T212353
CREATED:20250507T154857Z
LAST-MODIFIED:20250507T155521Z
UID:10001238-1762776900-1762780500@yanaclub.com
SUMMARY:No Name
DESCRIPTION:Open / Topic Discussion
URL:https://yanaclub.com/event/no-name/2025-11-10/
CATEGORIES:AA
END:VEVENT
BEGIN:VEVENT
DTSTART;TZID=America/New_York:20251110T173000
DTEND;TZID=America/New_York:20251110T183000
DTSTAMP:20260421T212353
CREATED:20250507T155118Z
LAST-MODIFIED:20250507T155118Z
UID:10003248-1762795800-1762799400@yanaclub.com
SUMMARY:Serenity
DESCRIPTION:Open Discussion
URL:https://yanaclub.com/event/serenity/2025-11-10/
CATEGORIES:AA
END:VEVENT
BEGIN:VEVENT
DTSTART;TZID=America/New_York:20251111T090000
DTEND;TZID=America/New_York:20251111T100000
DTSTAMP:20260421T212353
CREATED:20250507T155840Z
LAST-MODIFIED:20250507T155840Z
UID:10007458-1762851600-1762855200@yanaclub.com
SUMMARY:SANS (Sober Now Sane)
DESCRIPTION:Open / Discussion
URL:https://yanaclub.com/event/sans-sober-now-sane/2025-11-11/
CATEGORIES:AA
END:VEVENT
BEGIN:VEVENT
DTSTART;TZID=America/New_York:20251111T121500
DTEND;TZID=America/New_York:20251111T131500
DTSTAMP:20260421T212353
CREATED:20250507T154857Z
LAST-MODIFIED:20250507T155521Z
UID:10001239-1762863300-1762866900@yanaclub.com
SUMMARY:No Name
DESCRIPTION:Open / Topic Discussion
URL:https://yanaclub.com/event/no-name/2025-11-11/
CATEGORIES:AA
END:VEVENT
BEGIN:VEVENT
DTSTART;TZID=America/New_York:20251111T173000
DTEND;TZID=America/New_York:20251111T183000
DTSTAMP:20260421T212353
CREATED:20250507T155118Z
LAST-MODIFIED:20250507T155118Z
UID:10003249-1762882200-1762885800@yanaclub.com
SUMMARY:Serenity
DESCRIPTION:Open Discussion
URL:https://yanaclub.com/event/serenity/2025-11-11/
CATEGORIES:AA
END:VEVENT
BEGIN:VEVENT
DTSTART;TZID=America/New_York:20251111T184500
DTEND;TZID=America/New_York:20251111T194500
DTSTAMP:20260421T212353
CREATED:20250507T163304Z
LAST-MODIFIED:20250507T163304Z
UID:10016219-1762886700-1762890300@yanaclub.com
SUMMARY:Midwinter Conference Planning
DESCRIPTION:
URL:https://yanaclub.com/event/midwinter-conference-planning/2025-11-11/
CATEGORIES:Recurring YANA Events
END:VEVENT
BEGIN:VEVENT
DTSTART;TZID=America/New_York:20251111T190000
DTEND;TZID=America/New_York:20251111T200000
DTSTAMP:20260421T212353
CREATED:20250507T160104Z
LAST-MODIFIED:20250507T160104Z
UID:10008657-1762887600-1762891200@yanaclub.com
SUMMARY:Mens Back to Basics
DESCRIPTION:Closed / Discussion / Mens
URL:https://yanaclub.com/event/mens-back-to-basics/2025-11-11/
CATEGORIES:AA
END:VEVENT
BEGIN:VEVENT
DTSTART;TZID=America/New_York:20251111T200000
DTEND;TZID=America/New_York:20251111T210000
DTSTAMP:20260421T212353
CREATED:20250507T160652Z
LAST-MODIFIED:20250507T160652Z
UID:10009523-1762891200-1762894800@yanaclub.com
SUMMARY:Grupo Latino
DESCRIPTION:Open / Discussion / Spanish Language
URL:https://yanaclub.com/event/grupo-latino/2025-11-11/
CATEGORIES:AA
END:VEVENT
BEGIN:VEVENT
DTSTART;TZID=America/New_York:20251112T070000
DTEND;TZID=America/New_York:20251112T080000
DTSTAMP:20260421T212353
CREATED:20250507T160920Z
LAST-MODIFIED:20250507T160920Z
UID:10010748-1762930800-1762934400@yanaclub.com
SUMMARY:Design for Living
DESCRIPTION:Closed / Discussion
URL:https://yanaclub.com/event/design-for-living/2025-11-12/
CATEGORIES:AA
END:VEVENT
BEGIN:VEVENT
DTSTART;TZID=America/New_York:20251112T090000
DTEND;TZID=America/New_York:20251112T100000
DTSTAMP:20260421T212353
CREATED:20250507T155840Z
LAST-MODIFIED:20250507T155840Z
UID:10007459-1762938000-1762941600@yanaclub.com
SUMMARY:SANS (Sober Now Sane)
DESCRIPTION:Open / Discussion
URL:https://yanaclub.com/event/sans-sober-now-sane/2025-11-12/
CATEGORIES:AA
END:VEVENT
BEGIN:VEVENT
DTSTART;TZID=America/New_York:20251112T121500
DTEND;TZID=America/New_York:20251112T131500
DTSTAMP:20260421T212353
CREATED:20250507T154857Z
LAST-MODIFIED:20250507T155521Z
UID:10001240-1762949700-1762953300@yanaclub.com
SUMMARY:No Name
DESCRIPTION:Open / Topic Discussion
URL:https://yanaclub.com/event/no-name/2025-11-12/
CATEGORIES:AA
END:VEVENT
BEGIN:VEVENT
DTSTART;TZID=America/New_York:20251112T173000
DTEND;TZID=America/New_York:20251112T183000
DTSTAMP:20260421T212353
CREATED:20250507T155118Z
LAST-MODIFIED:20250507T155118Z
UID:10003250-1762968600-1762972200@yanaclub.com
SUMMARY:Serenity
DESCRIPTION:Open Discussion
URL:https://yanaclub.com/event/serenity/2025-11-12/
CATEGORIES:AA
END:VEVENT
BEGIN:VEVENT
DTSTART;TZID=America/New_York:20251112T173000
DTEND;TZID=America/New_York:20251112T183000
DTSTAMP:20260421T212353
CREATED:20251027T215053Z
LAST-MODIFIED:20251027T215053Z
UID:10019243-1762968600-1762972200@yanaclub.com
SUMMARY:Keeping an Open Mind
DESCRIPTION:Midweek Al-Anon Open Discussion
URL:https://yanaclub.com/event/keeping-an-open-mind/2025-11-12/
CATEGORIES:AL-ANON,Recurring YANA Events
END:VEVENT
BEGIN:VEVENT
DTSTART;TZID=America/New_York:20251112T200000
DTEND;TZID=America/New_York:20251112T210000
DTSTAMP:20260421T212353
CREATED:20250507T160652Z
LAST-MODIFIED:20250507T160652Z
UID:10009524-1762977600-1762981200@yanaclub.com
SUMMARY:Grupo Latino
DESCRIPTION:Open / Discussion / Spanish Language
URL:https://yanaclub.com/event/grupo-latino/2025-11-12/
CATEGORIES:AA
END:VEVENT
BEGIN:VEVENT
DTSTART;TZID=America/New_York:20251113T090000
DTEND;TZID=America/New_York:20251113T100000
DTSTAMP:20260421T212353
CREATED:20250507T155840Z
LAST-MODIFIED:20250507T155840Z
UID:10007460-1763024400-1763028000@yanaclub.com
SUMMARY:SANS (Sober Now Sane)
DESCRIPTION:Open / Discussion
URL:https://yanaclub.com/event/sans-sober-now-sane/2025-11-13/
CATEGORIES:AA
END:VEVENT
BEGIN:VEVENT
DTSTART;TZID=America/New_York:20251113T121500
DTEND;TZID=America/New_York:20251113T131500
DTSTAMP:20260421T212353
CREATED:20250507T154857Z
LAST-MODIFIED:20250507T155521Z
UID:10001241-1763036100-1763039700@yanaclub.com
SUMMARY:No Name
DESCRIPTION:Open / Topic Discussion
URL:https://yanaclub.com/event/no-name/2025-11-13/
CATEGORIES:AA
END:VEVENT
BEGIN:VEVENT
DTSTART;TZID=America/New_York:20251113T173000
DTEND;TZID=America/New_York:20251113T183000
DTSTAMP:20260421T212353
CREATED:20250507T155118Z
LAST-MODIFIED:20250507T155118Z
UID:10003251-1763055000-1763058600@yanaclub.com
SUMMARY:Serenity
DESCRIPTION:Open Discussion
URL:https://yanaclub.com/event/serenity/2025-11-13/
CATEGORIES:AA
END:VEVENT
BEGIN:VEVENT
DTSTART;TZID=America/New_York:20251113T184500
DTEND;TZID=America/New_York:20251113T194500
DTSTAMP:20260421T212354
CREATED:20250507T161123Z
LAST-MODIFIED:20250507T161123Z
UID:10011270-1763059500-1763063100@yanaclub.com
SUMMARY:645 YANA Womens
DESCRIPTION:Closed / Topic Discussion / Womens
URL:https://yanaclub.com/event/645-yana-womens/2025-11-13/
CATEGORIES:AA
END:VEVENT
BEGIN:VEVENT
DTSTART;TZID=America/New_York:20251113T200000
DTEND;TZID=America/New_York:20251113T210000
DTSTAMP:20260421T212354
CREATED:20250507T162741Z
LAST-MODIFIED:20250507T162741Z
UID:10015193-1763064000-1763067600@yanaclub.com
SUMMARY:Open Arms
DESCRIPTION:Open / Discussion / How It Works
URL:https://yanaclub.com/event/open-arms/2025-11-13/
CATEGORIES:NA
END:VEVENT
BEGIN:VEVENT
DTSTART;TZID=America/New_York:20251114T090000
DTEND;TZID=America/New_York:20251114T100000
DTSTAMP:20260421T212354
CREATED:20250507T155840Z
LAST-MODIFIED:20250507T155840Z
UID:10007461-1763110800-1763114400@yanaclub.com
SUMMARY:SANS (Sober Now Sane)
DESCRIPTION:Open / Discussion
URL:https://yanaclub.com/event/sans-sober-now-sane/2025-11-14/
CATEGORIES:AA
END:VEVENT
BEGIN:VEVENT
DTSTART;TZID=America/New_York:20251114T121500
DTEND;TZID=America/New_York:20251114T131500
DTSTAMP:20260421T212354
CREATED:20250507T154857Z
LAST-MODIFIED:20250507T155521Z
UID:10001242-1763122500-1763126100@yanaclub.com
SUMMARY:No Name
DESCRIPTION:Open / Topic Discussion
URL:https://yanaclub.com/event/no-name/2025-11-14/
CATEGORIES:AA
END:VEVENT
BEGIN:VEVENT
DTSTART;TZID=America/New_York:20251114T121500
DTEND;TZID=America/New_York:20251114T131500
DTSTAMP:20260421T212354
CREATED:20250507T162126Z
LAST-MODIFIED:20250507T162126Z
UID:10014147-1763122500-1763126100@yanaclub.com
SUMMARY:Friday Luncheon AFG
DESCRIPTION:Closed / Discussion
URL:https://yanaclub.com/event/friday-luncheon-afg-2/2025-11-14/
CATEGORIES:AL-ANON
END:VEVENT
BEGIN:VEVENT
DTSTART;TZID=America/New_York:20251114T180000
DTEND;TZID=America/New_York:20251114T190000
DTSTAMP:20260421T212354
CREATED:20250507T161244Z
LAST-MODIFIED:20250507T161244Z
UID:10011792-1763143200-1763146800@yanaclub.com
SUMMARY:Young Peoples
DESCRIPTION:Open / Discussion
URL:https://yanaclub.com/event/young-peoples/2025-11-14/
CATEGORIES:AA
END:VEVENT
BEGIN:VEVENT
DTSTART;TZID=America/New_York:20251114T180000
DTEND;TZID=America/New_York:20251114T190000
DTSTAMP:20260421T212354
CREATED:20250507T161346Z
LAST-MODIFIED:20250507T161346Z
UID:10012053-1763143200-1763146800@yanaclub.com
SUMMARY:Together We Can
DESCRIPTION:Open / Discussion
URL:https://yanaclub.com/event/together-we-can/2025-11-14/
CATEGORIES:AA
END:VEVENT
BEGIN:VEVENT
DTSTART;TZID=America/New_York:20251114T200000
DTEND;TZID=America/New_York:20251114T210000
DTSTAMP:20260421T212354
CREATED:20250507T160652Z
LAST-MODIFIED:20250507T160652Z
UID:10009525-1763150400-1763154000@yanaclub.com
SUMMARY:Grupo Latino
DESCRIPTION:Open / Discussion / Spanish Language
URL:https://yanaclub.com/event/grupo-latino/2025-11-14/
CATEGORIES:AA
END:VEVENT
BEGIN:VEVENT
DTSTART;TZID=America/New_York:20251115T090000
DTEND;TZID=America/New_York:20251115T100000
DTSTAMP:20260421T212354
CREATED:20250502T104804Z
LAST-MODIFIED:20250502T104804Z
UID:10000030-1763197200-1763200800@yanaclub.com
SUMMARY:Saturday Big Book Study
DESCRIPTION:Type: O/BB
URL:https://yanaclub.com/event/saturday-big-book-study/2025-11-15/
CATEGORIES:AA
END:VEVENT
BEGIN:VEVENT
DTSTART;TZID=America/New_York:20251115T121500
DTEND;TZID=America/New_York:20251115T131500
DTSTAMP:20260421T212354
CREATED:20250507T154857Z
LAST-MODIFIED:20250507T155521Z
UID:10001243-1763208900-1763212500@yanaclub.com
SUMMARY:No Name
DESCRIPTION:Open / Topic Discussion
URL:https://yanaclub.com/event/no-name/2025-11-15/
CATEGORIES:AA
END:VEVENT
BEGIN:VEVENT
DTSTART;TZID=America/New_York:20251115T173000
DTEND;TZID=America/New_York:20251115T183000
DTSTAMP:20260421T212354
CREATED:20250507T155250Z
LAST-MODIFIED:20250507T155250Z
UID:10005259-1763227800-1763231400@yanaclub.com
SUMMARY:Serenity 1st Step
DESCRIPTION:Open / Discussion / Beginners
URL:https://yanaclub.com/event/serenity-1st-step/2025-11-15/
CATEGORIES:AA
END:VEVENT
BEGIN:VEVENT
DTSTART;TZID=America/New_York:20251115T200000
DTEND;TZID=America/New_York:20251115T210000
DTSTAMP:20260421T212354
CREATED:20250507T160652Z
LAST-MODIFIED:20250507T160652Z
UID:10009526-1763236800-1763240400@yanaclub.com
SUMMARY:Grupo Latino
DESCRIPTION:Open / Discussion / Spanish Language
URL:https://yanaclub.com/event/grupo-latino/2025-11-15/
CATEGORIES:AA
END:VEVENT
END:VCALENDAR