BEGIN:VCALENDAR
VERSION:2.0
PRODID:-//YANA Club of Hilton Head Island - ECPv6.11.2//NONSGML v1.0//EN
CALSCALE:GREGORIAN
METHOD:PUBLISH
X-WR-CALNAME:YANA Club of Hilton Head Island
X-ORIGINAL-URL:https://yanaclub.com
X-WR-CALDESC:Events for YANA Club of Hilton Head Island
REFRESH-INTERVAL;VALUE=DURATION:PT1H
X-Robots-Tag:noindex
X-PUBLISHED-TTL:PT1H
BEGIN:VTIMEZONE
TZID:America/New_York
BEGIN:DAYLIGHT
TZOFFSETFROM:-0500
TZOFFSETTO:-0400
TZNAME:EDT
DTSTART:20250309T070000
END:DAYLIGHT
BEGIN:STANDARD
TZOFFSETFROM:-0400
TZOFFSETTO:-0500
TZNAME:EST
DTSTART:20251102T060000
END:STANDARD
END:VTIMEZONE
BEGIN:VEVENT
DTSTART;TZID=America/New_York:20251020T090000
DTEND;TZID=America/New_York:20251020T100000
DTSTAMP:20260420T015012
CREATED:20250507T155840Z
LAST-MODIFIED:20250507T155840Z
UID:10007442-1760950800-1760954400@yanaclub.com
SUMMARY:SANS (Sober Now Sane)
DESCRIPTION:Open / Discussion
URL:https://yanaclub.com/event/sans-sober-now-sane/2025-10-20/
CATEGORIES:AA
END:VEVENT
BEGIN:VEVENT
DTSTART;TZID=America/New_York:20251020T121500
DTEND;TZID=America/New_York:20251020T131500
DTSTAMP:20260420T015012
CREATED:20250507T154857Z
LAST-MODIFIED:20250507T155521Z
UID:10001217-1760962500-1760966100@yanaclub.com
SUMMARY:No Name
DESCRIPTION:Open / Topic Discussion
URL:https://yanaclub.com/event/no-name/2025-10-20/
CATEGORIES:AA
END:VEVENT
BEGIN:VEVENT
DTSTART;TZID=America/New_York:20251020T173000
DTEND;TZID=America/New_York:20251020T183000
DTSTAMP:20260420T015012
CREATED:20250507T155118Z
LAST-MODIFIED:20250507T155118Z
UID:10003236-1760981400-1760985000@yanaclub.com
SUMMARY:Serenity
DESCRIPTION:Open Discussion
URL:https://yanaclub.com/event/serenity/2025-10-20/
CATEGORIES:AA
END:VEVENT
BEGIN:VEVENT
DTSTART;TZID=America/New_York:20251021T090000
DTEND;TZID=America/New_York:20251021T100000
DTSTAMP:20260420T015012
CREATED:20250507T155840Z
LAST-MODIFIED:20250507T155840Z
UID:10007443-1761037200-1761040800@yanaclub.com
SUMMARY:SANS (Sober Now Sane)
DESCRIPTION:Open / Discussion
URL:https://yanaclub.com/event/sans-sober-now-sane/2025-10-21/
CATEGORIES:AA
END:VEVENT
BEGIN:VEVENT
DTSTART;TZID=America/New_York:20251021T121500
DTEND;TZID=America/New_York:20251021T131500
DTSTAMP:20260420T015012
CREATED:20250507T154857Z
LAST-MODIFIED:20250507T155521Z
UID:10001218-1761048900-1761052500@yanaclub.com
SUMMARY:No Name
DESCRIPTION:Open / Topic Discussion
URL:https://yanaclub.com/event/no-name/2025-10-21/
CATEGORIES:AA
END:VEVENT
BEGIN:VEVENT
DTSTART;TZID=America/New_York:20251021T173000
DTEND;TZID=America/New_York:20251021T183000
DTSTAMP:20260420T015012
CREATED:20250507T155118Z
LAST-MODIFIED:20250507T155118Z
UID:10003237-1761067800-1761071400@yanaclub.com
SUMMARY:Serenity
DESCRIPTION:Open Discussion
URL:https://yanaclub.com/event/serenity/2025-10-21/
CATEGORIES:AA
END:VEVENT
BEGIN:VEVENT
DTSTART;TZID=America/New_York:20251021T190000
DTEND;TZID=America/New_York:20251021T200000
DTSTAMP:20260420T015012
CREATED:20250507T160104Z
LAST-MODIFIED:20250507T160104Z
UID:10008654-1761073200-1761076800@yanaclub.com
SUMMARY:Mens Back to Basics
DESCRIPTION:Closed / Discussion / Mens
URL:https://yanaclub.com/event/mens-back-to-basics/2025-10-21/
CATEGORIES:AA
END:VEVENT
BEGIN:VEVENT
DTSTART;TZID=America/New_York:20251021T200000
DTEND;TZID=America/New_York:20251021T210000
DTSTAMP:20260420T015012
CREATED:20250507T160652Z
LAST-MODIFIED:20250507T160652Z
UID:10009511-1761076800-1761080400@yanaclub.com
SUMMARY:Grupo Latino
DESCRIPTION:Open / Discussion / Spanish Language
URL:https://yanaclub.com/event/grupo-latino/2025-10-21/
CATEGORIES:AA
END:VEVENT
BEGIN:VEVENT
DTSTART;TZID=America/New_York:20251022T070000
DTEND;TZID=America/New_York:20251022T080000
DTSTAMP:20260420T015012
CREATED:20250507T160920Z
LAST-MODIFIED:20250507T160920Z
UID:10010745-1761116400-1761120000@yanaclub.com
SUMMARY:Design for Living
DESCRIPTION:Closed / Discussion
URL:https://yanaclub.com/event/design-for-living/2025-10-22/
CATEGORIES:AA
END:VEVENT
BEGIN:VEVENT
DTSTART;TZID=America/New_York:20251022T090000
DTEND;TZID=America/New_York:20251022T100000
DTSTAMP:20260420T015012
CREATED:20250507T155840Z
LAST-MODIFIED:20250507T155840Z
UID:10007444-1761123600-1761127200@yanaclub.com
SUMMARY:SANS (Sober Now Sane)
DESCRIPTION:Open / Discussion
URL:https://yanaclub.com/event/sans-sober-now-sane/2025-10-22/
CATEGORIES:AA
END:VEVENT
BEGIN:VEVENT
DTSTART;TZID=America/New_York:20251022T121500
DTEND;TZID=America/New_York:20251022T131500
DTSTAMP:20260420T015012
CREATED:20250507T154857Z
LAST-MODIFIED:20250507T155521Z
UID:10001219-1761135300-1761138900@yanaclub.com
SUMMARY:No Name
DESCRIPTION:Open / Topic Discussion
URL:https://yanaclub.com/event/no-name/2025-10-22/
CATEGORIES:AA
END:VEVENT
BEGIN:VEVENT
DTSTART;TZID=America/New_York:20251022T173000
DTEND;TZID=America/New_York:20251022T183000
DTSTAMP:20260420T015012
CREATED:20250507T155118Z
LAST-MODIFIED:20250507T155118Z
UID:10003238-1761154200-1761157800@yanaclub.com
SUMMARY:Serenity
DESCRIPTION:Open Discussion
URL:https://yanaclub.com/event/serenity/2025-10-22/
CATEGORIES:AA
END:VEVENT
BEGIN:VEVENT
DTSTART;TZID=America/New_York:20251022T173000
DTEND;TZID=America/New_York:20251022T183000
DTSTAMP:20260420T015012
CREATED:20251027T215053Z
LAST-MODIFIED:20251027T215053Z
UID:10019240-1761154200-1761157800@yanaclub.com
SUMMARY:Keeping an Open Mind
DESCRIPTION:Midweek Al-Anon Open Discussion
URL:https://yanaclub.com/event/keeping-an-open-mind/2025-10-22/
CATEGORIES:AL-ANON,Recurring YANA Events
END:VEVENT
BEGIN:VEVENT
DTSTART;TZID=America/New_York:20251022T200000
DTEND;TZID=America/New_York:20251022T210000
DTSTAMP:20260420T015012
CREATED:20250507T160652Z
LAST-MODIFIED:20250507T160652Z
UID:10009512-1761163200-1761166800@yanaclub.com
SUMMARY:Grupo Latino
DESCRIPTION:Open / Discussion / Spanish Language
URL:https://yanaclub.com/event/grupo-latino/2025-10-22/
CATEGORIES:AA
END:VEVENT
BEGIN:VEVENT
DTSTART;TZID=America/New_York:20251023T090000
DTEND;TZID=America/New_York:20251023T100000
DTSTAMP:20260420T015012
CREATED:20250507T155840Z
LAST-MODIFIED:20250507T155840Z
UID:10007445-1761210000-1761213600@yanaclub.com
SUMMARY:SANS (Sober Now Sane)
DESCRIPTION:Open / Discussion
URL:https://yanaclub.com/event/sans-sober-now-sane/2025-10-23/
CATEGORIES:AA
END:VEVENT
BEGIN:VEVENT
DTSTART;TZID=America/New_York:20251023T121500
DTEND;TZID=America/New_York:20251023T131500
DTSTAMP:20260420T015012
CREATED:20250507T154857Z
LAST-MODIFIED:20250507T155521Z
UID:10001220-1761221700-1761225300@yanaclub.com
SUMMARY:No Name
DESCRIPTION:Open / Topic Discussion
URL:https://yanaclub.com/event/no-name/2025-10-23/
CATEGORIES:AA
END:VEVENT
BEGIN:VEVENT
DTSTART;TZID=America/New_York:20251023T173000
DTEND;TZID=America/New_York:20251023T183000
DTSTAMP:20260420T015012
CREATED:20250507T155118Z
LAST-MODIFIED:20250507T155118Z
UID:10003239-1761240600-1761244200@yanaclub.com
SUMMARY:Serenity
DESCRIPTION:Open Discussion
URL:https://yanaclub.com/event/serenity/2025-10-23/
CATEGORIES:AA
END:VEVENT
BEGIN:VEVENT
DTSTART;TZID=America/New_York:20251023T184500
DTEND;TZID=America/New_York:20251023T194500
DTSTAMP:20260420T015012
CREATED:20250507T161123Z
LAST-MODIFIED:20250507T161123Z
UID:10011267-1761245100-1761248700@yanaclub.com
SUMMARY:645 YANA Womens
DESCRIPTION:Closed / Topic Discussion / Womens
URL:https://yanaclub.com/event/645-yana-womens/2025-10-23/
CATEGORIES:AA
END:VEVENT
BEGIN:VEVENT
DTSTART;TZID=America/New_York:20251023T200000
DTEND;TZID=America/New_York:20251023T210000
DTSTAMP:20260420T015012
CREATED:20250507T162741Z
LAST-MODIFIED:20250507T162741Z
UID:10015190-1761249600-1761253200@yanaclub.com
SUMMARY:Open Arms
DESCRIPTION:Open / Discussion / How It Works
URL:https://yanaclub.com/event/open-arms/2025-10-23/
CATEGORIES:NA
END:VEVENT
BEGIN:VEVENT
DTSTART;TZID=America/New_York:20251024T090000
DTEND;TZID=America/New_York:20251024T100000
DTSTAMP:20260420T015012
CREATED:20250507T155840Z
LAST-MODIFIED:20250507T155840Z
UID:10007446-1761296400-1761300000@yanaclub.com
SUMMARY:SANS (Sober Now Sane)
DESCRIPTION:Open / Discussion
URL:https://yanaclub.com/event/sans-sober-now-sane/2025-10-24/
CATEGORIES:AA
END:VEVENT
BEGIN:VEVENT
DTSTART;TZID=America/New_York:20251024T121500
DTEND;TZID=America/New_York:20251024T131500
DTSTAMP:20260420T015012
CREATED:20250507T154857Z
LAST-MODIFIED:20250507T155521Z
UID:10001221-1761308100-1761311700@yanaclub.com
SUMMARY:No Name
DESCRIPTION:Open / Topic Discussion
URL:https://yanaclub.com/event/no-name/2025-10-24/
CATEGORIES:AA
END:VEVENT
BEGIN:VEVENT
DTSTART;TZID=America/New_York:20251024T121500
DTEND;TZID=America/New_York:20251024T131500
DTSTAMP:20260420T015012
CREATED:20250507T162126Z
LAST-MODIFIED:20250507T162126Z
UID:10014144-1761308100-1761311700@yanaclub.com
SUMMARY:Friday Luncheon AFG
DESCRIPTION:Closed / Discussion
URL:https://yanaclub.com/event/friday-luncheon-afg-2/2025-10-24/
CATEGORIES:AL-ANON
END:VEVENT
BEGIN:VEVENT
DTSTART;TZID=America/New_York:20251024T180000
DTEND;TZID=America/New_York:20251024T190000
DTSTAMP:20260420T015012
CREATED:20250507T161244Z
LAST-MODIFIED:20250507T161244Z
UID:10011789-1761328800-1761332400@yanaclub.com
SUMMARY:Young Peoples
DESCRIPTION:Open / Discussion
URL:https://yanaclub.com/event/young-peoples/2025-10-24/
CATEGORIES:AA
END:VEVENT
BEGIN:VEVENT
DTSTART;TZID=America/New_York:20251024T180000
DTEND;TZID=America/New_York:20251024T190000
DTSTAMP:20260420T015012
CREATED:20250507T161346Z
LAST-MODIFIED:20250507T161346Z
UID:10012050-1761328800-1761332400@yanaclub.com
SUMMARY:Together We Can
DESCRIPTION:Open / Discussion
URL:https://yanaclub.com/event/together-we-can/2025-10-24/
CATEGORIES:AA
END:VEVENT
BEGIN:VEVENT
DTSTART;TZID=America/New_York:20251024T200000
DTEND;TZID=America/New_York:20251024T210000
DTSTAMP:20260420T015012
CREATED:20250507T160652Z
LAST-MODIFIED:20250507T160652Z
UID:10009513-1761336000-1761339600@yanaclub.com
SUMMARY:Grupo Latino
DESCRIPTION:Open / Discussion / Spanish Language
URL:https://yanaclub.com/event/grupo-latino/2025-10-24/
CATEGORIES:AA
END:VEVENT
BEGIN:VEVENT
DTSTART;TZID=America/New_York:20251025T090000
DTEND;TZID=America/New_York:20251025T100000
DTSTAMP:20260420T015012
CREATED:20250502T104804Z
LAST-MODIFIED:20250502T104804Z
UID:10000027-1761382800-1761386400@yanaclub.com
SUMMARY:Saturday Big Book Study
DESCRIPTION:Type: O/BB
URL:https://yanaclub.com/event/saturday-big-book-study/2025-10-25/
CATEGORIES:AA
END:VEVENT
BEGIN:VEVENT
DTSTART;TZID=America/New_York:20251025T121500
DTEND;TZID=America/New_York:20251025T131500
DTSTAMP:20260420T015012
CREATED:20250507T154857Z
LAST-MODIFIED:20250507T155521Z
UID:10001222-1761394500-1761398100@yanaclub.com
SUMMARY:No Name
DESCRIPTION:Open / Topic Discussion
URL:https://yanaclub.com/event/no-name/2025-10-25/
CATEGORIES:AA
END:VEVENT
BEGIN:VEVENT
DTSTART;TZID=America/New_York:20251025T173000
DTEND;TZID=America/New_York:20251025T183000
DTSTAMP:20260420T015012
CREATED:20250507T155250Z
LAST-MODIFIED:20250507T155250Z
UID:10005256-1761413400-1761417000@yanaclub.com
SUMMARY:Serenity 1st Step
DESCRIPTION:Open / Discussion / Beginners
URL:https://yanaclub.com/event/serenity-1st-step/2025-10-25/
CATEGORIES:AA
END:VEVENT
BEGIN:VEVENT
DTSTART;TZID=America/New_York:20251025T200000
DTEND;TZID=America/New_York:20251025T210000
DTSTAMP:20260420T015012
CREATED:20250507T160652Z
LAST-MODIFIED:20250507T160652Z
UID:10009514-1761422400-1761426000@yanaclub.com
SUMMARY:Grupo Latino
DESCRIPTION:Open / Discussion / Spanish Language
URL:https://yanaclub.com/event/grupo-latino/2025-10-25/
CATEGORIES:AA
END:VEVENT
BEGIN:VEVENT
DTSTART;TZID=America/New_York:20251026T080000
DTEND;TZID=America/New_York:20251026T090000
DTSTAMP:20260420T015012
CREATED:20250507T163100Z
LAST-MODIFIED:20250507T163100Z
UID:10015714-1761465600-1761469200@yanaclub.com
SUMMARY:YANA Sunday Breakfast
DESCRIPTION:
URL:https://yanaclub.com/event/yana-sunday-breakfast/2025-10-26/
CATEGORIES:Recurring YANA Events
END:VEVENT
END:VCALENDAR