BEGIN:VCALENDAR
VERSION:2.0
PRODID:-//YANA Club of Hilton Head Island - ECPv6.11.2//NONSGML v1.0//EN
CALSCALE:GREGORIAN
METHOD:PUBLISH
X-ORIGINAL-URL:https://yanaclub.com
X-WR-CALDESC:Events for YANA Club of Hilton Head Island
REFRESH-INTERVAL;VALUE=DURATION:PT1H
X-Robots-Tag:noindex
X-PUBLISHED-TTL:PT1H
BEGIN:VTIMEZONE
TZID:America/New_York
BEGIN:DAYLIGHT
TZOFFSETFROM:-0500
TZOFFSETTO:-0400
TZNAME:EDT
DTSTART:20250309T070000
END:DAYLIGHT
BEGIN:STANDARD
TZOFFSETFROM:-0400
TZOFFSETTO:-0500
TZNAME:EST
DTSTART:20251102T060000
END:STANDARD
END:VTIMEZONE
BEGIN:VEVENT
DTSTART;TZID=America/New_York:20251013T090000
DTEND;TZID=America/New_York:20251013T100000
DTSTAMP:20260419T222313
CREATED:20250507T155840Z
LAST-MODIFIED:20250507T155840Z
UID:10007437-1760346000-1760349600@yanaclub.com
SUMMARY:SANS (Sober Now Sane)
DESCRIPTION:Open / Discussion
URL:https://yanaclub.com/event/sans-sober-now-sane/2025-10-13/
CATEGORIES:AA
END:VEVENT
BEGIN:VEVENT
DTSTART;TZID=America/New_York:20251013T121500
DTEND;TZID=America/New_York:20251013T131500
DTSTAMP:20260419T222313
CREATED:20250507T154857Z
LAST-MODIFIED:20250507T155521Z
UID:10001210-1760357700-1760361300@yanaclub.com
SUMMARY:No Name
DESCRIPTION:Open / Topic Discussion
URL:https://yanaclub.com/event/no-name/2025-10-13/
CATEGORIES:AA
END:VEVENT
BEGIN:VEVENT
DTSTART;TZID=America/New_York:20251013T173000
DTEND;TZID=America/New_York:20251013T183000
DTSTAMP:20260419T222313
CREATED:20250507T155118Z
LAST-MODIFIED:20250507T155118Z
UID:10003232-1760376600-1760380200@yanaclub.com
SUMMARY:Serenity
DESCRIPTION:Open Discussion
URL:https://yanaclub.com/event/serenity/2025-10-13/
CATEGORIES:AA
END:VEVENT
BEGIN:VEVENT
DTSTART;TZID=America/New_York:20251014T090000
DTEND;TZID=America/New_York:20251014T100000
DTSTAMP:20260419T222313
CREATED:20250507T155840Z
LAST-MODIFIED:20250507T155840Z
UID:10007438-1760432400-1760436000@yanaclub.com
SUMMARY:SANS (Sober Now Sane)
DESCRIPTION:Open / Discussion
URL:https://yanaclub.com/event/sans-sober-now-sane/2025-10-14/
CATEGORIES:AA
END:VEVENT
BEGIN:VEVENT
DTSTART;TZID=America/New_York:20251014T121500
DTEND;TZID=America/New_York:20251014T131500
DTSTAMP:20260419T222313
CREATED:20250507T154857Z
LAST-MODIFIED:20250507T155521Z
UID:10001211-1760444100-1760447700@yanaclub.com
SUMMARY:No Name
DESCRIPTION:Open / Topic Discussion
URL:https://yanaclub.com/event/no-name/2025-10-14/
CATEGORIES:AA
END:VEVENT
BEGIN:VEVENT
DTSTART;TZID=America/New_York:20251014T173000
DTEND;TZID=America/New_York:20251014T183000
DTSTAMP:20260419T222313
CREATED:20250507T155118Z
LAST-MODIFIED:20250507T155118Z
UID:10003233-1760463000-1760466600@yanaclub.com
SUMMARY:Serenity
DESCRIPTION:Open Discussion
URL:https://yanaclub.com/event/serenity/2025-10-14/
CATEGORIES:AA
END:VEVENT
BEGIN:VEVENT
DTSTART;TZID=America/New_York:20251014T184500
DTEND;TZID=America/New_York:20251014T194500
DTSTAMP:20260419T222314
CREATED:20250507T163304Z
LAST-MODIFIED:20250507T163304Z
UID:10016218-1760467500-1760471100@yanaclub.com
SUMMARY:Midwinter Conference Planning
DESCRIPTION:
URL:https://yanaclub.com/event/midwinter-conference-planning/2025-10-14/
CATEGORIES:Recurring YANA Events
END:VEVENT
BEGIN:VEVENT
DTSTART;TZID=America/New_York:20251014T190000
DTEND;TZID=America/New_York:20251014T200000
DTSTAMP:20260419T222314
CREATED:20250507T160104Z
LAST-MODIFIED:20250507T160104Z
UID:10008653-1760468400-1760472000@yanaclub.com
SUMMARY:Mens Back to Basics
DESCRIPTION:Closed / Discussion / Mens
URL:https://yanaclub.com/event/mens-back-to-basics/2025-10-14/
CATEGORIES:AA
END:VEVENT
BEGIN:VEVENT
DTSTART;TZID=America/New_York:20251014T200000
DTEND;TZID=America/New_York:20251014T210000
DTSTAMP:20260419T222314
CREATED:20250507T160652Z
LAST-MODIFIED:20250507T160652Z
UID:10009507-1760472000-1760475600@yanaclub.com
SUMMARY:Grupo Latino
DESCRIPTION:Open / Discussion / Spanish Language
URL:https://yanaclub.com/event/grupo-latino/2025-10-14/
CATEGORIES:AA
END:VEVENT
BEGIN:VEVENT
DTSTART;TZID=America/New_York:20251015T070000
DTEND;TZID=America/New_York:20251015T080000
DTSTAMP:20260419T222314
CREATED:20250507T160920Z
LAST-MODIFIED:20250507T160920Z
UID:10010744-1760511600-1760515200@yanaclub.com
SUMMARY:Design for Living
DESCRIPTION:Closed / Discussion
URL:https://yanaclub.com/event/design-for-living/2025-10-15/
CATEGORIES:AA
END:VEVENT
BEGIN:VEVENT
DTSTART;TZID=America/New_York:20251015T090000
DTEND;TZID=America/New_York:20251015T100000
DTSTAMP:20260419T222314
CREATED:20250507T155840Z
LAST-MODIFIED:20250507T155840Z
UID:10007439-1760518800-1760522400@yanaclub.com
SUMMARY:SANS (Sober Now Sane)
DESCRIPTION:Open / Discussion
URL:https://yanaclub.com/event/sans-sober-now-sane/2025-10-15/
CATEGORIES:AA
END:VEVENT
BEGIN:VEVENT
DTSTART;TZID=America/New_York:20251015T121500
DTEND;TZID=America/New_York:20251015T131500
DTSTAMP:20260419T222314
CREATED:20250507T154857Z
LAST-MODIFIED:20250507T155521Z
UID:10001212-1760530500-1760534100@yanaclub.com
SUMMARY:No Name
DESCRIPTION:Open / Topic Discussion
URL:https://yanaclub.com/event/no-name/2025-10-15/
CATEGORIES:AA
END:VEVENT
BEGIN:VEVENT
DTSTART;TZID=America/New_York:20251015T173000
DTEND;TZID=America/New_York:20251015T183000
DTSTAMP:20260419T222314
CREATED:20250507T155118Z
LAST-MODIFIED:20250507T155118Z
UID:10003234-1760549400-1760553000@yanaclub.com
SUMMARY:Serenity
DESCRIPTION:Open Discussion
URL:https://yanaclub.com/event/serenity/2025-10-15/
CATEGORIES:AA
END:VEVENT
BEGIN:VEVENT
DTSTART;TZID=America/New_York:20251015T173000
DTEND;TZID=America/New_York:20251015T183000
DTSTAMP:20260419T222314
CREATED:20251027T215053Z
LAST-MODIFIED:20251027T215053Z
UID:10019239-1760549400-1760553000@yanaclub.com
SUMMARY:Keeping an Open Mind
DESCRIPTION:Midweek Al-Anon Open Discussion
URL:https://yanaclub.com/event/keeping-an-open-mind/2025-10-15/
CATEGORIES:AL-ANON,Recurring YANA Events
END:VEVENT
BEGIN:VEVENT
DTSTART;TZID=America/New_York:20251015T200000
DTEND;TZID=America/New_York:20251015T210000
DTSTAMP:20260419T222314
CREATED:20250507T160652Z
LAST-MODIFIED:20250507T160652Z
UID:10009508-1760558400-1760562000@yanaclub.com
SUMMARY:Grupo Latino
DESCRIPTION:Open / Discussion / Spanish Language
URL:https://yanaclub.com/event/grupo-latino/2025-10-15/
CATEGORIES:AA
END:VEVENT
BEGIN:VEVENT
DTSTART;TZID=America/New_York:20251016T090000
DTEND;TZID=America/New_York:20251016T100000
DTSTAMP:20260419T222314
CREATED:20250507T155840Z
LAST-MODIFIED:20250507T155840Z
UID:10007440-1760605200-1760608800@yanaclub.com
SUMMARY:SANS (Sober Now Sane)
DESCRIPTION:Open / Discussion
URL:https://yanaclub.com/event/sans-sober-now-sane/2025-10-16/
CATEGORIES:AA
END:VEVENT
BEGIN:VEVENT
DTSTART;TZID=America/New_York:20251016T121500
DTEND;TZID=America/New_York:20251016T131500
DTSTAMP:20260419T222314
CREATED:20250507T154857Z
LAST-MODIFIED:20250507T155521Z
UID:10001213-1760616900-1760620500@yanaclub.com
SUMMARY:No Name
DESCRIPTION:Open / Topic Discussion
URL:https://yanaclub.com/event/no-name/2025-10-16/
CATEGORIES:AA
END:VEVENT
BEGIN:VEVENT
DTSTART;TZID=America/New_York:20251016T173000
DTEND;TZID=America/New_York:20251016T183000
DTSTAMP:20260419T222314
CREATED:20250507T155118Z
LAST-MODIFIED:20250507T155118Z
UID:10003235-1760635800-1760639400@yanaclub.com
SUMMARY:Serenity
DESCRIPTION:Open Discussion
URL:https://yanaclub.com/event/serenity/2025-10-16/
CATEGORIES:AA
END:VEVENT
BEGIN:VEVENT
DTSTART;TZID=America/New_York:20251016T184500
DTEND;TZID=America/New_York:20251016T194500
DTSTAMP:20260419T222314
CREATED:20250507T161123Z
LAST-MODIFIED:20250507T161123Z
UID:10011266-1760640300-1760643900@yanaclub.com
SUMMARY:645 YANA Womens
DESCRIPTION:Closed / Topic Discussion / Womens
URL:https://yanaclub.com/event/645-yana-womens/2025-10-16/
CATEGORIES:AA
END:VEVENT
BEGIN:VEVENT
DTSTART;TZID=America/New_York:20251016T200000
DTEND;TZID=America/New_York:20251016T210000
DTSTAMP:20260419T222314
CREATED:20250507T162741Z
LAST-MODIFIED:20250507T162741Z
UID:10015189-1760644800-1760648400@yanaclub.com
SUMMARY:Open Arms
DESCRIPTION:Open / Discussion / How It Works
URL:https://yanaclub.com/event/open-arms/2025-10-16/
CATEGORIES:NA
END:VEVENT
BEGIN:VEVENT
DTSTART;TZID=America/New_York:20251017T090000
DTEND;TZID=America/New_York:20251017T100000
DTSTAMP:20260419T222314
CREATED:20250507T155840Z
LAST-MODIFIED:20250507T155840Z
UID:10007441-1760691600-1760695200@yanaclub.com
SUMMARY:SANS (Sober Now Sane)
DESCRIPTION:Open / Discussion
URL:https://yanaclub.com/event/sans-sober-now-sane/2025-10-17/
CATEGORIES:AA
END:VEVENT
BEGIN:VEVENT
DTSTART;TZID=America/New_York:20251017T121500
DTEND;TZID=America/New_York:20251017T131500
DTSTAMP:20260419T222314
CREATED:20250507T154857Z
LAST-MODIFIED:20250507T155521Z
UID:10001214-1760703300-1760706900@yanaclub.com
SUMMARY:No Name
DESCRIPTION:Open / Topic Discussion
URL:https://yanaclub.com/event/no-name/2025-10-17/
CATEGORIES:AA
END:VEVENT
BEGIN:VEVENT
DTSTART;TZID=America/New_York:20251017T121500
DTEND;TZID=America/New_York:20251017T131500
DTSTAMP:20260419T222314
CREATED:20250507T162126Z
LAST-MODIFIED:20250507T162126Z
UID:10014143-1760703300-1760706900@yanaclub.com
SUMMARY:Friday Luncheon AFG
DESCRIPTION:Closed / Discussion
URL:https://yanaclub.com/event/friday-luncheon-afg-2/2025-10-17/
CATEGORIES:AL-ANON
END:VEVENT
BEGIN:VEVENT
DTSTART;TZID=America/New_York:20251017T180000
DTEND;TZID=America/New_York:20251017T190000
DTSTAMP:20260419T222314
CREATED:20250507T161244Z
LAST-MODIFIED:20250507T161244Z
UID:10011788-1760724000-1760727600@yanaclub.com
SUMMARY:Young Peoples
DESCRIPTION:Open / Discussion
URL:https://yanaclub.com/event/young-peoples/2025-10-17/
CATEGORIES:AA
END:VEVENT
BEGIN:VEVENT
DTSTART;TZID=America/New_York:20251017T180000
DTEND;TZID=America/New_York:20251017T190000
DTSTAMP:20260419T222314
CREATED:20250507T161346Z
LAST-MODIFIED:20250507T161346Z
UID:10012049-1760724000-1760727600@yanaclub.com
SUMMARY:Together We Can
DESCRIPTION:Open / Discussion
URL:https://yanaclub.com/event/together-we-can/2025-10-17/
CATEGORIES:AA
END:VEVENT
BEGIN:VEVENT
DTSTART;TZID=America/New_York:20251017T200000
DTEND;TZID=America/New_York:20251017T210000
DTSTAMP:20260419T222314
CREATED:20250507T160652Z
LAST-MODIFIED:20250507T160652Z
UID:10009509-1760731200-1760734800@yanaclub.com
SUMMARY:Grupo Latino
DESCRIPTION:Open / Discussion / Spanish Language
URL:https://yanaclub.com/event/grupo-latino/2025-10-17/
CATEGORIES:AA
END:VEVENT
BEGIN:VEVENT
DTSTART;TZID=America/New_York:20251018T090000
DTEND;TZID=America/New_York:20251018T100000
DTSTAMP:20260419T222314
CREATED:20250502T104804Z
LAST-MODIFIED:20250502T104804Z
UID:10000026-1760778000-1760781600@yanaclub.com
SUMMARY:Saturday Big Book Study
DESCRIPTION:Type: O/BB
URL:https://yanaclub.com/event/saturday-big-book-study/2025-10-18/
CATEGORIES:AA
END:VEVENT
BEGIN:VEVENT
DTSTART;TZID=America/New_York:20251018T121500
DTEND;TZID=America/New_York:20251018T131500
DTSTAMP:20260419T222314
CREATED:20250507T154857Z
LAST-MODIFIED:20250507T155521Z
UID:10001215-1760789700-1760793300@yanaclub.com
SUMMARY:No Name
DESCRIPTION:Open / Topic Discussion
URL:https://yanaclub.com/event/no-name/2025-10-18/
CATEGORIES:AA
END:VEVENT
BEGIN:VEVENT
DTSTART;TZID=America/New_York:20251018T173000
DTEND;TZID=America/New_York:20251018T183000
DTSTAMP:20260419T222314
CREATED:20250507T155250Z
LAST-MODIFIED:20250507T155250Z
UID:10005255-1760808600-1760812200@yanaclub.com
SUMMARY:Serenity 1st Step
DESCRIPTION:Open / Discussion / Beginners
URL:https://yanaclub.com/event/serenity-1st-step/2025-10-18/
CATEGORIES:AA
END:VEVENT
BEGIN:VEVENT
DTSTART;TZID=America/New_York:20251018T200000
DTEND;TZID=America/New_York:20251018T210000
DTSTAMP:20260419T222314
CREATED:20250507T160652Z
LAST-MODIFIED:20250507T160652Z
UID:10009510-1760817600-1760821200@yanaclub.com
SUMMARY:Grupo Latino
DESCRIPTION:Open / Discussion / Spanish Language
URL:https://yanaclub.com/event/grupo-latino/2025-10-18/
CATEGORIES:AA
END:VEVENT
END:VCALENDAR