BEGIN:VCALENDAR
VERSION:2.0
PRODID:-//YANA Club of Hilton Head Island - ECPv6.11.2//NONSGML v1.0//EN
CALSCALE:GREGORIAN
METHOD:PUBLISH
X-WR-CALNAME:YANA Club of Hilton Head Island
X-ORIGINAL-URL:https://yanaclub.com
X-WR-CALDESC:Events for YANA Club of Hilton Head Island
REFRESH-INTERVAL;VALUE=DURATION:PT1H
X-Robots-Tag:noindex
X-PUBLISHED-TTL:PT1H
BEGIN:VTIMEZONE
TZID:America/New_York
BEGIN:DAYLIGHT
TZOFFSETFROM:-0500
TZOFFSETTO:-0400
TZNAME:EDT
DTSTART:20250309T070000
END:DAYLIGHT
BEGIN:STANDARD
TZOFFSETFROM:-0400
TZOFFSETTO:-0500
TZNAME:EST
DTSTART:20251102T060000
END:STANDARD
END:VTIMEZONE
BEGIN:VEVENT
DTSTART;TZID=America/New_York:20250929T090000
DTEND;TZID=America/New_York:20250929T100000
DTSTAMP:20260419T191842
CREATED:20250507T155840Z
LAST-MODIFIED:20250507T155840Z
UID:10007427-1759136400-1759140000@yanaclub.com
SUMMARY:SANS (Sober Now Sane)
DESCRIPTION:Open / Discussion
URL:https://yanaclub.com/event/sans-sober-now-sane/2025-09-29/
CATEGORIES:AA
END:VEVENT
BEGIN:VEVENT
DTSTART;TZID=America/New_York:20250929T121500
DTEND;TZID=America/New_York:20250929T131500
DTSTAMP:20260419T191842
CREATED:20250507T154857Z
LAST-MODIFIED:20250507T155521Z
UID:10001196-1759148100-1759151700@yanaclub.com
SUMMARY:No Name
DESCRIPTION:Open / Topic Discussion
URL:https://yanaclub.com/event/no-name/2025-09-29/
CATEGORIES:AA
END:VEVENT
BEGIN:VEVENT
DTSTART;TZID=America/New_York:20250929T173000
DTEND;TZID=America/New_York:20250929T183000
DTSTAMP:20260419T191842
CREATED:20250507T155118Z
LAST-MODIFIED:20250507T155118Z
UID:10003224-1759167000-1759170600@yanaclub.com
SUMMARY:Serenity
DESCRIPTION:Open Discussion
URL:https://yanaclub.com/event/serenity/2025-09-29/
CATEGORIES:AA
END:VEVENT
BEGIN:VEVENT
DTSTART;TZID=America/New_York:20250930T090000
DTEND;TZID=America/New_York:20250930T100000
DTSTAMP:20260419T191842
CREATED:20250507T155840Z
LAST-MODIFIED:20250507T155840Z
UID:10007428-1759222800-1759226400@yanaclub.com
SUMMARY:SANS (Sober Now Sane)
DESCRIPTION:Open / Discussion
URL:https://yanaclub.com/event/sans-sober-now-sane/2025-09-30/
CATEGORIES:AA
END:VEVENT
BEGIN:VEVENT
DTSTART;TZID=America/New_York:20250930T121500
DTEND;TZID=America/New_York:20250930T131500
DTSTAMP:20260419T191842
CREATED:20250507T154857Z
LAST-MODIFIED:20250507T155521Z
UID:10001197-1759234500-1759238100@yanaclub.com
SUMMARY:No Name
DESCRIPTION:Open / Topic Discussion
URL:https://yanaclub.com/event/no-name/2025-09-30/
CATEGORIES:AA
END:VEVENT
BEGIN:VEVENT
DTSTART;TZID=America/New_York:20250930T173000
DTEND;TZID=America/New_York:20250930T183000
DTSTAMP:20260419T191842
CREATED:20250507T155118Z
LAST-MODIFIED:20250507T155118Z
UID:10003225-1759253400-1759257000@yanaclub.com
SUMMARY:Serenity
DESCRIPTION:Open Discussion
URL:https://yanaclub.com/event/serenity/2025-09-30/
CATEGORIES:AA
END:VEVENT
BEGIN:VEVENT
DTSTART;TZID=America/New_York:20250930T190000
DTEND;TZID=America/New_York:20250930T200000
DTSTAMP:20260419T191842
CREATED:20250507T160104Z
LAST-MODIFIED:20250507T160104Z
UID:10008651-1759258800-1759262400@yanaclub.com
SUMMARY:Mens Back to Basics
DESCRIPTION:Closed / Discussion / Mens
URL:https://yanaclub.com/event/mens-back-to-basics/2025-09-30/
CATEGORIES:AA
END:VEVENT
BEGIN:VEVENT
DTSTART;TZID=America/New_York:20250930T200000
DTEND;TZID=America/New_York:20250930T210000
DTSTAMP:20260419T191842
CREATED:20250507T160652Z
LAST-MODIFIED:20250507T160652Z
UID:10009499-1759262400-1759266000@yanaclub.com
SUMMARY:Grupo Latino
DESCRIPTION:Open / Discussion / Spanish Language
URL:https://yanaclub.com/event/grupo-latino/2025-09-30/
CATEGORIES:AA
END:VEVENT
BEGIN:VEVENT
DTSTART;TZID=America/New_York:20251001T070000
DTEND;TZID=America/New_York:20251001T080000
DTSTAMP:20260419T191842
CREATED:20250507T160920Z
LAST-MODIFIED:20250507T160920Z
UID:10010742-1759302000-1759305600@yanaclub.com
SUMMARY:Design for Living
DESCRIPTION:Closed / Discussion
URL:https://yanaclub.com/event/design-for-living/2025-10-01/
CATEGORIES:AA
END:VEVENT
BEGIN:VEVENT
DTSTART;TZID=America/New_York:20251001T090000
DTEND;TZID=America/New_York:20251001T100000
DTSTAMP:20260419T191842
CREATED:20250507T155840Z
LAST-MODIFIED:20250507T155840Z
UID:10007429-1759309200-1759312800@yanaclub.com
SUMMARY:SANS (Sober Now Sane)
DESCRIPTION:Open / Discussion
URL:https://yanaclub.com/event/sans-sober-now-sane/2025-10-01/
CATEGORIES:AA
END:VEVENT
BEGIN:VEVENT
DTSTART;TZID=America/New_York:20251001T121500
DTEND;TZID=America/New_York:20251001T131500
DTSTAMP:20260419T191842
CREATED:20250507T154857Z
LAST-MODIFIED:20250507T155521Z
UID:10001198-1759320900-1759324500@yanaclub.com
SUMMARY:No Name
DESCRIPTION:Open / Topic Discussion
URL:https://yanaclub.com/event/no-name/2025-10-01/
CATEGORIES:AA
END:VEVENT
BEGIN:VEVENT
DTSTART;TZID=America/New_York:20251001T173000
DTEND;TZID=America/New_York:20251001T183000
DTSTAMP:20260419T191842
CREATED:20250507T155118Z
LAST-MODIFIED:20250507T155118Z
UID:10003226-1759339800-1759343400@yanaclub.com
SUMMARY:Serenity
DESCRIPTION:Open Discussion
URL:https://yanaclub.com/event/serenity/2025-10-01/
CATEGORIES:AA
END:VEVENT
BEGIN:VEVENT
DTSTART;TZID=America/New_York:20251001T190000
DTEND;TZID=America/New_York:20251001T200000
DTSTAMP:20260419T191842
CREATED:20250507T163407Z
LAST-MODIFIED:20250507T163407Z
UID:10016540-1759345200-1759348800@yanaclub.com
SUMMARY:YANA Board of Directors
DESCRIPTION:
URL:https://yanaclub.com/event/yana-board-of-directors/2025-10-01/
CATEGORIES:Recurring YANA Events
END:VEVENT
BEGIN:VEVENT
DTSTART;TZID=America/New_York:20251001T200000
DTEND;TZID=America/New_York:20251001T210000
DTSTAMP:20260419T191842
CREATED:20250507T160652Z
LAST-MODIFIED:20250507T160652Z
UID:10009500-1759348800-1759352400@yanaclub.com
SUMMARY:Grupo Latino
DESCRIPTION:Open / Discussion / Spanish Language
URL:https://yanaclub.com/event/grupo-latino/2025-10-01/
CATEGORIES:AA
END:VEVENT
BEGIN:VEVENT
DTSTART;TZID=America/New_York:20251002T090000
DTEND;TZID=America/New_York:20251002T100000
DTSTAMP:20260419T191842
CREATED:20250507T155840Z
LAST-MODIFIED:20250507T155840Z
UID:10007430-1759395600-1759399200@yanaclub.com
SUMMARY:SANS (Sober Now Sane)
DESCRIPTION:Open / Discussion
URL:https://yanaclub.com/event/sans-sober-now-sane/2025-10-02/
CATEGORIES:AA
END:VEVENT
BEGIN:VEVENT
DTSTART;TZID=America/New_York:20251002T121500
DTEND;TZID=America/New_York:20251002T131500
DTSTAMP:20260419T191842
CREATED:20250507T154857Z
LAST-MODIFIED:20250507T155521Z
UID:10001199-1759407300-1759410900@yanaclub.com
SUMMARY:No Name
DESCRIPTION:Open / Topic Discussion
URL:https://yanaclub.com/event/no-name/2025-10-02/
CATEGORIES:AA
END:VEVENT
BEGIN:VEVENT
DTSTART;TZID=America/New_York:20251002T173000
DTEND;TZID=America/New_York:20251002T183000
DTSTAMP:20260419T191842
CREATED:20250507T155118Z
LAST-MODIFIED:20250507T155118Z
UID:10003227-1759426200-1759429800@yanaclub.com
SUMMARY:Serenity
DESCRIPTION:Open Discussion
URL:https://yanaclub.com/event/serenity/2025-10-02/
CATEGORIES:AA
END:VEVENT
BEGIN:VEVENT
DTSTART;TZID=America/New_York:20251002T184500
DTEND;TZID=America/New_York:20251002T194500
DTSTAMP:20260419T191842
CREATED:20250507T161123Z
LAST-MODIFIED:20250507T161123Z
UID:10011264-1759430700-1759434300@yanaclub.com
SUMMARY:645 YANA Womens
DESCRIPTION:Closed / Topic Discussion / Womens
URL:https://yanaclub.com/event/645-yana-womens/2025-10-02/
CATEGORIES:AA
END:VEVENT
BEGIN:VEVENT
DTSTART;TZID=America/New_York:20251002T200000
DTEND;TZID=America/New_York:20251002T210000
DTSTAMP:20260419T191842
CREATED:20250507T162741Z
LAST-MODIFIED:20250507T162741Z
UID:10015187-1759435200-1759438800@yanaclub.com
SUMMARY:Open Arms
DESCRIPTION:Open / Discussion / How It Works
URL:https://yanaclub.com/event/open-arms/2025-10-02/
CATEGORIES:NA
END:VEVENT
BEGIN:VEVENT
DTSTART;TZID=America/New_York:20251003T090000
DTEND;TZID=America/New_York:20251003T100000
DTSTAMP:20260419T191842
CREATED:20250507T155840Z
LAST-MODIFIED:20250507T155840Z
UID:10007431-1759482000-1759485600@yanaclub.com
SUMMARY:SANS (Sober Now Sane)
DESCRIPTION:Open / Discussion
URL:https://yanaclub.com/event/sans-sober-now-sane/2025-10-03/
CATEGORIES:AA
END:VEVENT
BEGIN:VEVENT
DTSTART;TZID=America/New_York:20251003T121500
DTEND;TZID=America/New_York:20251003T131500
DTSTAMP:20260419T191842
CREATED:20250507T154857Z
LAST-MODIFIED:20250507T155521Z
UID:10001200-1759493700-1759497300@yanaclub.com
SUMMARY:No Name
DESCRIPTION:Open / Topic Discussion
URL:https://yanaclub.com/event/no-name/2025-10-03/
CATEGORIES:AA
END:VEVENT
BEGIN:VEVENT
DTSTART;TZID=America/New_York:20251003T121500
DTEND;TZID=America/New_York:20251003T131500
DTSTAMP:20260419T191842
CREATED:20250507T162126Z
LAST-MODIFIED:20250507T162126Z
UID:10014141-1759493700-1759497300@yanaclub.com
SUMMARY:Friday Luncheon AFG
DESCRIPTION:Closed / Discussion
URL:https://yanaclub.com/event/friday-luncheon-afg-2/2025-10-03/
CATEGORIES:AL-ANON
END:VEVENT
BEGIN:VEVENT
DTSTART;TZID=America/New_York:20251003T180000
DTEND;TZID=America/New_York:20251003T190000
DTSTAMP:20260419T191842
CREATED:20250507T161244Z
LAST-MODIFIED:20250507T161244Z
UID:10011786-1759514400-1759518000@yanaclub.com
SUMMARY:Young Peoples
DESCRIPTION:Open / Discussion
URL:https://yanaclub.com/event/young-peoples/2025-10-03/
CATEGORIES:AA
END:VEVENT
BEGIN:VEVENT
DTSTART;TZID=America/New_York:20251003T180000
DTEND;TZID=America/New_York:20251003T190000
DTSTAMP:20260419T191842
CREATED:20250507T161346Z
LAST-MODIFIED:20250507T161346Z
UID:10012047-1759514400-1759518000@yanaclub.com
SUMMARY:Together We Can
DESCRIPTION:Open / Discussion
URL:https://yanaclub.com/event/together-we-can/2025-10-03/
CATEGORIES:AA
END:VEVENT
BEGIN:VEVENT
DTSTART;TZID=America/New_York:20251003T200000
DTEND;TZID=America/New_York:20251003T210000
DTSTAMP:20260419T191842
CREATED:20250507T160652Z
LAST-MODIFIED:20250507T160652Z
UID:10009501-1759521600-1759525200@yanaclub.com
SUMMARY:Grupo Latino
DESCRIPTION:Open / Discussion / Spanish Language
URL:https://yanaclub.com/event/grupo-latino/2025-10-03/
CATEGORIES:AA
END:VEVENT
BEGIN:VEVENT
DTSTART;TZID=America/New_York:20251004T090000
DTEND;TZID=America/New_York:20251004T100000
DTSTAMP:20260419T191842
CREATED:20250502T104804Z
LAST-MODIFIED:20250502T104804Z
UID:10000024-1759568400-1759572000@yanaclub.com
SUMMARY:Saturday Big Book Study
DESCRIPTION:Type: O/BB
URL:https://yanaclub.com/event/saturday-big-book-study/2025-10-04/
CATEGORIES:AA
END:VEVENT
BEGIN:VEVENT
DTSTART;TZID=America/New_York:20251004T121500
DTEND;TZID=America/New_York:20251004T131500
DTSTAMP:20260419T191842
CREATED:20250507T154857Z
LAST-MODIFIED:20250507T155521Z
UID:10001201-1759580100-1759583700@yanaclub.com
SUMMARY:No Name
DESCRIPTION:Open / Topic Discussion
URL:https://yanaclub.com/event/no-name/2025-10-04/
CATEGORIES:AA
END:VEVENT
BEGIN:VEVENT
DTSTART;TZID=America/New_York:20251004T173000
DTEND;TZID=America/New_York:20251004T183000
DTSTAMP:20260419T191842
CREATED:20250507T155250Z
LAST-MODIFIED:20250507T155250Z
UID:10005253-1759599000-1759602600@yanaclub.com
SUMMARY:Serenity 1st Step
DESCRIPTION:Open / Discussion / Beginners
URL:https://yanaclub.com/event/serenity-1st-step/2025-10-04/
CATEGORIES:AA
END:VEVENT
BEGIN:VEVENT
DTSTART;TZID=America/New_York:20251004T200000
DTEND;TZID=America/New_York:20251004T210000
DTSTAMP:20260419T191842
CREATED:20250507T160652Z
LAST-MODIFIED:20250507T160652Z
UID:10009502-1759608000-1759611600@yanaclub.com
SUMMARY:Grupo Latino
DESCRIPTION:Open / Discussion / Spanish Language
URL:https://yanaclub.com/event/grupo-latino/2025-10-04/
CATEGORIES:AA
END:VEVENT
BEGIN:VEVENT
DTSTART;TZID=America/New_York:20251005T080000
DTEND;TZID=America/New_York:20251005T090000
DTSTAMP:20260419T191842
CREATED:20250507T163100Z
LAST-MODIFIED:20250507T163100Z
UID:10015711-1759651200-1759654800@yanaclub.com
SUMMARY:YANA Sunday Breakfast
DESCRIPTION:
URL:https://yanaclub.com/event/yana-sunday-breakfast/2025-10-05/
CATEGORIES:Recurring YANA Events
END:VEVENT
END:VCALENDAR