BEGIN:VCALENDAR
VERSION:2.0
PRODID:-//YANA Club of Hilton Head Island - ECPv6.11.2//NONSGML v1.0//EN
CALSCALE:GREGORIAN
METHOD:PUBLISH
X-ORIGINAL-URL:https://yanaclub.com
X-WR-CALDESC:Events for YANA Club of Hilton Head Island
REFRESH-INTERVAL;VALUE=DURATION:PT1H
X-Robots-Tag:noindex
X-PUBLISHED-TTL:PT1H
BEGIN:VTIMEZONE
TZID:America/New_York
BEGIN:DAYLIGHT
TZOFFSETFROM:-0500
TZOFFSETTO:-0400
TZNAME:EDT
DTSTART:20250309T070000
END:DAYLIGHT
BEGIN:STANDARD
TZOFFSETFROM:-0400
TZOFFSETTO:-0500
TZNAME:EST
DTSTART:20251102T060000
END:STANDARD
END:VTIMEZONE
BEGIN:VEVENT
DTSTART;TZID=America/New_York:20250922T090000
DTEND;TZID=America/New_York:20250922T100000
DTSTAMP:20260421T224711
CREATED:20250507T155840Z
LAST-MODIFIED:20250507T155840Z
UID:10007422-1758531600-1758535200@yanaclub.com
SUMMARY:SANS (Sober Now Sane)
DESCRIPTION:Open / Discussion
URL:https://yanaclub.com/event/sans-sober-now-sane/2025-09-22/
CATEGORIES:AA
END:VEVENT
BEGIN:VEVENT
DTSTART;TZID=America/New_York:20250922T121500
DTEND;TZID=America/New_York:20250922T131500
DTSTAMP:20260421T224711
CREATED:20250507T154857Z
LAST-MODIFIED:20250507T155521Z
UID:10001189-1758543300-1758546900@yanaclub.com
SUMMARY:No Name
DESCRIPTION:Open / Topic Discussion
URL:https://yanaclub.com/event/no-name/2025-09-22/
CATEGORIES:AA
END:VEVENT
BEGIN:VEVENT
DTSTART;TZID=America/New_York:20250922T173000
DTEND;TZID=America/New_York:20250922T183000
DTSTAMP:20260421T224711
CREATED:20250507T155118Z
LAST-MODIFIED:20250507T155118Z
UID:10003220-1758562200-1758565800@yanaclub.com
SUMMARY:Serenity
DESCRIPTION:Open Discussion
URL:https://yanaclub.com/event/serenity/2025-09-22/
CATEGORIES:AA
END:VEVENT
BEGIN:VEVENT
DTSTART;TZID=America/New_York:20250923T090000
DTEND;TZID=America/New_York:20250923T100000
DTSTAMP:20260421T224711
CREATED:20250507T155840Z
LAST-MODIFIED:20250507T155840Z
UID:10007423-1758618000-1758621600@yanaclub.com
SUMMARY:SANS (Sober Now Sane)
DESCRIPTION:Open / Discussion
URL:https://yanaclub.com/event/sans-sober-now-sane/2025-09-23/
CATEGORIES:AA
END:VEVENT
BEGIN:VEVENT
DTSTART;TZID=America/New_York:20250923T121500
DTEND;TZID=America/New_York:20250923T131500
DTSTAMP:20260421T224711
CREATED:20250507T154857Z
LAST-MODIFIED:20250507T155521Z
UID:10001190-1758629700-1758633300@yanaclub.com
SUMMARY:No Name
DESCRIPTION:Open / Topic Discussion
URL:https://yanaclub.com/event/no-name/2025-09-23/
CATEGORIES:AA
END:VEVENT
BEGIN:VEVENT
DTSTART;TZID=America/New_York:20250923T173000
DTEND;TZID=America/New_York:20250923T183000
DTSTAMP:20260421T224711
CREATED:20250507T155118Z
LAST-MODIFIED:20250507T155118Z
UID:10003221-1758648600-1758652200@yanaclub.com
SUMMARY:Serenity
DESCRIPTION:Open Discussion
URL:https://yanaclub.com/event/serenity/2025-09-23/
CATEGORIES:AA
END:VEVENT
BEGIN:VEVENT
DTSTART;TZID=America/New_York:20250923T190000
DTEND;TZID=America/New_York:20250923T200000
DTSTAMP:20260421T224711
CREATED:20250507T160104Z
LAST-MODIFIED:20250507T160104Z
UID:10008650-1758654000-1758657600@yanaclub.com
SUMMARY:Mens Back to Basics
DESCRIPTION:Closed / Discussion / Mens
URL:https://yanaclub.com/event/mens-back-to-basics/2025-09-23/
CATEGORIES:AA
END:VEVENT
BEGIN:VEVENT
DTSTART;TZID=America/New_York:20250923T200000
DTEND;TZID=America/New_York:20250923T210000
DTSTAMP:20260421T224711
CREATED:20250507T160652Z
LAST-MODIFIED:20250507T160652Z
UID:10009495-1758657600-1758661200@yanaclub.com
SUMMARY:Grupo Latino
DESCRIPTION:Open / Discussion / Spanish Language
URL:https://yanaclub.com/event/grupo-latino/2025-09-23/
CATEGORIES:AA
END:VEVENT
BEGIN:VEVENT
DTSTART;TZID=America/New_York:20250924T070000
DTEND;TZID=America/New_York:20250924T080000
DTSTAMP:20260421T224711
CREATED:20250507T160920Z
LAST-MODIFIED:20250507T160920Z
UID:10010741-1758697200-1758700800@yanaclub.com
SUMMARY:Design for Living
DESCRIPTION:Closed / Discussion
URL:https://yanaclub.com/event/design-for-living/2025-09-24/
CATEGORIES:AA
END:VEVENT
BEGIN:VEVENT
DTSTART;TZID=America/New_York:20250924T090000
DTEND;TZID=America/New_York:20250924T100000
DTSTAMP:20260421T224711
CREATED:20250507T155840Z
LAST-MODIFIED:20250507T155840Z
UID:10007424-1758704400-1758708000@yanaclub.com
SUMMARY:SANS (Sober Now Sane)
DESCRIPTION:Open / Discussion
URL:https://yanaclub.com/event/sans-sober-now-sane/2025-09-24/
CATEGORIES:AA
END:VEVENT
BEGIN:VEVENT
DTSTART;TZID=America/New_York:20250924T121500
DTEND;TZID=America/New_York:20250924T131500
DTSTAMP:20260421T224711
CREATED:20250507T154857Z
LAST-MODIFIED:20250507T155521Z
UID:10001191-1758716100-1758719700@yanaclub.com
SUMMARY:No Name
DESCRIPTION:Open / Topic Discussion
URL:https://yanaclub.com/event/no-name/2025-09-24/
CATEGORIES:AA
END:VEVENT
BEGIN:VEVENT
DTSTART;TZID=America/New_York:20250924T173000
DTEND;TZID=America/New_York:20250924T183000
DTSTAMP:20260421T224711
CREATED:20250507T155118Z
LAST-MODIFIED:20250507T155118Z
UID:10003222-1758735000-1758738600@yanaclub.com
SUMMARY:Serenity
DESCRIPTION:Open Discussion
URL:https://yanaclub.com/event/serenity/2025-09-24/
CATEGORIES:AA
END:VEVENT
BEGIN:VEVENT
DTSTART;TZID=America/New_York:20250924T200000
DTEND;TZID=America/New_York:20250924T210000
DTSTAMP:20260421T224711
CREATED:20250507T160652Z
LAST-MODIFIED:20250507T160652Z
UID:10009496-1758744000-1758747600@yanaclub.com
SUMMARY:Grupo Latino
DESCRIPTION:Open / Discussion / Spanish Language
URL:https://yanaclub.com/event/grupo-latino/2025-09-24/
CATEGORIES:AA
END:VEVENT
BEGIN:VEVENT
DTSTART;TZID=America/New_York:20250925T090000
DTEND;TZID=America/New_York:20250925T100000
DTSTAMP:20260421T224711
CREATED:20250507T155840Z
LAST-MODIFIED:20250507T155840Z
UID:10007425-1758790800-1758794400@yanaclub.com
SUMMARY:SANS (Sober Now Sane)
DESCRIPTION:Open / Discussion
URL:https://yanaclub.com/event/sans-sober-now-sane/2025-09-25/
CATEGORIES:AA
END:VEVENT
BEGIN:VEVENT
DTSTART;TZID=America/New_York:20250925T121500
DTEND;TZID=America/New_York:20250925T131500
DTSTAMP:20260421T224711
CREATED:20250507T154857Z
LAST-MODIFIED:20250507T155521Z
UID:10001192-1758802500-1758806100@yanaclub.com
SUMMARY:No Name
DESCRIPTION:Open / Topic Discussion
URL:https://yanaclub.com/event/no-name/2025-09-25/
CATEGORIES:AA
END:VEVENT
BEGIN:VEVENT
DTSTART;TZID=America/New_York:20250925T173000
DTEND;TZID=America/New_York:20250925T183000
DTSTAMP:20260421T224711
CREATED:20250507T155118Z
LAST-MODIFIED:20250507T155118Z
UID:10003223-1758821400-1758825000@yanaclub.com
SUMMARY:Serenity
DESCRIPTION:Open Discussion
URL:https://yanaclub.com/event/serenity/2025-09-25/
CATEGORIES:AA
END:VEVENT
BEGIN:VEVENT
DTSTART;TZID=America/New_York:20250925T184500
DTEND;TZID=America/New_York:20250925T194500
DTSTAMP:20260421T224711
CREATED:20250507T161123Z
LAST-MODIFIED:20250507T161123Z
UID:10011263-1758825900-1758829500@yanaclub.com
SUMMARY:645 YANA Womens
DESCRIPTION:Closed / Topic Discussion / Womens
URL:https://yanaclub.com/event/645-yana-womens/2025-09-25/
CATEGORIES:AA
END:VEVENT
BEGIN:VEVENT
DTSTART;TZID=America/New_York:20250925T200000
DTEND;TZID=America/New_York:20250925T210000
DTSTAMP:20260421T224711
CREATED:20250507T162741Z
LAST-MODIFIED:20250507T162741Z
UID:10015186-1758830400-1758834000@yanaclub.com
SUMMARY:Open Arms
DESCRIPTION:Open / Discussion / How It Works
URL:https://yanaclub.com/event/open-arms/2025-09-25/
CATEGORIES:NA
END:VEVENT
BEGIN:VEVENT
DTSTART;TZID=America/New_York:20250926T090000
DTEND;TZID=America/New_York:20250926T100000
DTSTAMP:20260421T224711
CREATED:20250507T155840Z
LAST-MODIFIED:20250507T155840Z
UID:10007426-1758877200-1758880800@yanaclub.com
SUMMARY:SANS (Sober Now Sane)
DESCRIPTION:Open / Discussion
URL:https://yanaclub.com/event/sans-sober-now-sane/2025-09-26/
CATEGORIES:AA
END:VEVENT
BEGIN:VEVENT
DTSTART;TZID=America/New_York:20250926T121500
DTEND;TZID=America/New_York:20250926T131500
DTSTAMP:20260421T224711
CREATED:20250507T154857Z
LAST-MODIFIED:20250507T155521Z
UID:10001193-1758888900-1758892500@yanaclub.com
SUMMARY:No Name
DESCRIPTION:Open / Topic Discussion
URL:https://yanaclub.com/event/no-name/2025-09-26/
CATEGORIES:AA
END:VEVENT
BEGIN:VEVENT
DTSTART;TZID=America/New_York:20250926T121500
DTEND;TZID=America/New_York:20250926T131500
DTSTAMP:20260421T224711
CREATED:20250507T162126Z
LAST-MODIFIED:20250507T162126Z
UID:10014140-1758888900-1758892500@yanaclub.com
SUMMARY:Friday Luncheon AFG
DESCRIPTION:Closed / Discussion
URL:https://yanaclub.com/event/friday-luncheon-afg-2/2025-09-26/
CATEGORIES:AL-ANON
END:VEVENT
BEGIN:VEVENT
DTSTART;TZID=America/New_York:20250926T180000
DTEND;TZID=America/New_York:20250926T190000
DTSTAMP:20260421T224711
CREATED:20250507T161244Z
LAST-MODIFIED:20250507T161244Z
UID:10011785-1758909600-1758913200@yanaclub.com
SUMMARY:Young Peoples
DESCRIPTION:Open / Discussion
URL:https://yanaclub.com/event/young-peoples/2025-09-26/
CATEGORIES:AA
END:VEVENT
BEGIN:VEVENT
DTSTART;TZID=America/New_York:20250926T180000
DTEND;TZID=America/New_York:20250926T190000
DTSTAMP:20260421T224711
CREATED:20250507T161346Z
LAST-MODIFIED:20250507T161346Z
UID:10012046-1758909600-1758913200@yanaclub.com
SUMMARY:Together We Can
DESCRIPTION:Open / Discussion
URL:https://yanaclub.com/event/together-we-can/2025-09-26/
CATEGORIES:AA
END:VEVENT
BEGIN:VEVENT
DTSTART;TZID=America/New_York:20250926T200000
DTEND;TZID=America/New_York:20250926T210000
DTSTAMP:20260421T224711
CREATED:20250507T160652Z
LAST-MODIFIED:20250507T160652Z
UID:10009497-1758916800-1758920400@yanaclub.com
SUMMARY:Grupo Latino
DESCRIPTION:Open / Discussion / Spanish Language
URL:https://yanaclub.com/event/grupo-latino/2025-09-26/
CATEGORIES:AA
END:VEVENT
BEGIN:VEVENT
DTSTART;TZID=America/New_York:20250927T090000
DTEND;TZID=America/New_York:20250927T100000
DTSTAMP:20260421T224711
CREATED:20250502T104804Z
LAST-MODIFIED:20250502T104804Z
UID:10000023-1758963600-1758967200@yanaclub.com
SUMMARY:Saturday Big Book Study
DESCRIPTION:Type: O/BB
URL:https://yanaclub.com/event/saturday-big-book-study/2025-09-27/
CATEGORIES:AA
END:VEVENT
BEGIN:VEVENT
DTSTART;TZID=America/New_York:20250927T121500
DTEND;TZID=America/New_York:20250927T131500
DTSTAMP:20260421T224711
CREATED:20250507T154857Z
LAST-MODIFIED:20250507T155521Z
UID:10001194-1758975300-1758978900@yanaclub.com
SUMMARY:No Name
DESCRIPTION:Open / Topic Discussion
URL:https://yanaclub.com/event/no-name/2025-09-27/
CATEGORIES:AA
END:VEVENT
BEGIN:VEVENT
DTSTART;TZID=America/New_York:20250927T173000
DTEND;TZID=America/New_York:20250927T183000
DTSTAMP:20260421T224711
CREATED:20250507T155250Z
LAST-MODIFIED:20250507T155250Z
UID:10005252-1758994200-1758997800@yanaclub.com
SUMMARY:Serenity 1st Step
DESCRIPTION:Open / Discussion / Beginners
URL:https://yanaclub.com/event/serenity-1st-step/2025-09-27/
CATEGORIES:AA
END:VEVENT
BEGIN:VEVENT
DTSTART;TZID=America/New_York:20250927T200000
DTEND;TZID=America/New_York:20250927T210000
DTSTAMP:20260421T224711
CREATED:20250507T160652Z
LAST-MODIFIED:20250507T160652Z
UID:10009498-1759003200-1759006800@yanaclub.com
SUMMARY:Grupo Latino
DESCRIPTION:Open / Discussion / Spanish Language
URL:https://yanaclub.com/event/grupo-latino/2025-09-27/
CATEGORIES:AA
END:VEVENT
BEGIN:VEVENT
DTSTART;TZID=America/New_York:20250928T080000
DTEND;TZID=America/New_York:20250928T090000
DTSTAMP:20260421T224711
CREATED:20250507T163100Z
LAST-MODIFIED:20250507T163100Z
UID:10015710-1759046400-1759050000@yanaclub.com
SUMMARY:YANA Sunday Breakfast
DESCRIPTION:
URL:https://yanaclub.com/event/yana-sunday-breakfast/2025-09-28/
CATEGORIES:Recurring YANA Events
END:VEVENT
BEGIN:VEVENT
DTSTART;TZID=America/New_York:20250928T090000
DTEND;TZID=America/New_York:20250928T100000
DTSTAMP:20260421T224711
CREATED:20250507T161539Z
LAST-MODIFIED:20250507T161540Z
UID:10012307-1759050000-1759053600@yanaclub.com
SUMMARY:Breakfast Club
DESCRIPTION:Open /  Speaker Meeting
URL:https://yanaclub.com/event/breakfast-club-2/2025-09-28/
CATEGORIES:AA
END:VEVENT
END:VCALENDAR