BEGIN:VCALENDAR
VERSION:2.0
PRODID:-//YANA Club of Hilton Head Island - ECPv6.11.2//NONSGML v1.0//EN
CALSCALE:GREGORIAN
METHOD:PUBLISH
X-ORIGINAL-URL:https://yanaclub.com
X-WR-CALDESC:Events for YANA Club of Hilton Head Island
REFRESH-INTERVAL;VALUE=DURATION:PT1H
X-Robots-Tag:noindex
X-PUBLISHED-TTL:PT1H
BEGIN:VTIMEZONE
TZID:America/New_York
BEGIN:DAYLIGHT
TZOFFSETFROM:-0500
TZOFFSETTO:-0400
TZNAME:EDT
DTSTART:20250309T070000
END:DAYLIGHT
BEGIN:STANDARD
TZOFFSETFROM:-0400
TZOFFSETTO:-0500
TZNAME:EST
DTSTART:20251102T060000
END:STANDARD
END:VTIMEZONE
BEGIN:VEVENT
DTSTART;TZID=America/New_York:20250915T090000
DTEND;TZID=America/New_York:20250915T100000
DTSTAMP:20260421T211038
CREATED:20250507T155840Z
LAST-MODIFIED:20250507T155840Z
UID:10007417-1757926800-1757930400@yanaclub.com
SUMMARY:SANS (Sober Now Sane)
DESCRIPTION:Open / Discussion
URL:https://yanaclub.com/event/sans-sober-now-sane/2025-09-15/
CATEGORIES:AA
END:VEVENT
BEGIN:VEVENT
DTSTART;TZID=America/New_York:20250915T121500
DTEND;TZID=America/New_York:20250915T131500
DTSTAMP:20260421T211038
CREATED:20250507T154857Z
LAST-MODIFIED:20250507T155521Z
UID:10001182-1757938500-1757942100@yanaclub.com
SUMMARY:No Name
DESCRIPTION:Open / Topic Discussion
URL:https://yanaclub.com/event/no-name/2025-09-15/
CATEGORIES:AA
END:VEVENT
BEGIN:VEVENT
DTSTART;TZID=America/New_York:20250915T173000
DTEND;TZID=America/New_York:20250915T183000
DTSTAMP:20260421T211038
CREATED:20250507T155118Z
LAST-MODIFIED:20250507T155118Z
UID:10003216-1757957400-1757961000@yanaclub.com
SUMMARY:Serenity
DESCRIPTION:Open Discussion
URL:https://yanaclub.com/event/serenity/2025-09-15/
CATEGORIES:AA
END:VEVENT
BEGIN:VEVENT
DTSTART;TZID=America/New_York:20250916T090000
DTEND;TZID=America/New_York:20250916T100000
DTSTAMP:20260421T211038
CREATED:20250507T155840Z
LAST-MODIFIED:20250507T155840Z
UID:10007418-1758013200-1758016800@yanaclub.com
SUMMARY:SANS (Sober Now Sane)
DESCRIPTION:Open / Discussion
URL:https://yanaclub.com/event/sans-sober-now-sane/2025-09-16/
CATEGORIES:AA
END:VEVENT
BEGIN:VEVENT
DTSTART;TZID=America/New_York:20250916T121500
DTEND;TZID=America/New_York:20250916T131500
DTSTAMP:20260421T211038
CREATED:20250507T154857Z
LAST-MODIFIED:20250507T155521Z
UID:10001183-1758024900-1758028500@yanaclub.com
SUMMARY:No Name
DESCRIPTION:Open / Topic Discussion
URL:https://yanaclub.com/event/no-name/2025-09-16/
CATEGORIES:AA
END:VEVENT
BEGIN:VEVENT
DTSTART;TZID=America/New_York:20250916T173000
DTEND;TZID=America/New_York:20250916T183000
DTSTAMP:20260421T211038
CREATED:20250507T155118Z
LAST-MODIFIED:20250507T155118Z
UID:10003217-1758043800-1758047400@yanaclub.com
SUMMARY:Serenity
DESCRIPTION:Open Discussion
URL:https://yanaclub.com/event/serenity/2025-09-16/
CATEGORIES:AA
END:VEVENT
BEGIN:VEVENT
DTSTART;TZID=America/New_York:20250916T190000
DTEND;TZID=America/New_York:20250916T200000
DTSTAMP:20260421T211038
CREATED:20250507T160104Z
LAST-MODIFIED:20250507T160104Z
UID:10008649-1758049200-1758052800@yanaclub.com
SUMMARY:Mens Back to Basics
DESCRIPTION:Closed / Discussion / Mens
URL:https://yanaclub.com/event/mens-back-to-basics/2025-09-16/
CATEGORIES:AA
END:VEVENT
BEGIN:VEVENT
DTSTART;TZID=America/New_York:20250916T200000
DTEND;TZID=America/New_York:20250916T210000
DTSTAMP:20260421T211038
CREATED:20250507T160652Z
LAST-MODIFIED:20250507T160652Z
UID:10009491-1758052800-1758056400@yanaclub.com
SUMMARY:Grupo Latino
DESCRIPTION:Open / Discussion / Spanish Language
URL:https://yanaclub.com/event/grupo-latino/2025-09-16/
CATEGORIES:AA
END:VEVENT
BEGIN:VEVENT
DTSTART;TZID=America/New_York:20250917T070000
DTEND;TZID=America/New_York:20250917T080000
DTSTAMP:20260421T211038
CREATED:20250507T160920Z
LAST-MODIFIED:20250507T160920Z
UID:10010740-1758092400-1758096000@yanaclub.com
SUMMARY:Design for Living
DESCRIPTION:Closed / Discussion
URL:https://yanaclub.com/event/design-for-living/2025-09-17/
CATEGORIES:AA
END:VEVENT
BEGIN:VEVENT
DTSTART;TZID=America/New_York:20250917T090000
DTEND;TZID=America/New_York:20250917T100000
DTSTAMP:20260421T211038
CREATED:20250507T155840Z
LAST-MODIFIED:20250507T155840Z
UID:10007419-1758099600-1758103200@yanaclub.com
SUMMARY:SANS (Sober Now Sane)
DESCRIPTION:Open / Discussion
URL:https://yanaclub.com/event/sans-sober-now-sane/2025-09-17/
CATEGORIES:AA
END:VEVENT
BEGIN:VEVENT
DTSTART;TZID=America/New_York:20250917T121500
DTEND;TZID=America/New_York:20250917T131500
DTSTAMP:20260421T211038
CREATED:20250507T154857Z
LAST-MODIFIED:20250507T155521Z
UID:10001184-1758111300-1758114900@yanaclub.com
SUMMARY:No Name
DESCRIPTION:Open / Topic Discussion
URL:https://yanaclub.com/event/no-name/2025-09-17/
CATEGORIES:AA
END:VEVENT
BEGIN:VEVENT
DTSTART;TZID=America/New_York:20250917T173000
DTEND;TZID=America/New_York:20250917T183000
DTSTAMP:20260421T211038
CREATED:20250507T155118Z
LAST-MODIFIED:20250507T155118Z
UID:10003218-1758130200-1758133800@yanaclub.com
SUMMARY:Serenity
DESCRIPTION:Open Discussion
URL:https://yanaclub.com/event/serenity/2025-09-17/
CATEGORIES:AA
END:VEVENT
BEGIN:VEVENT
DTSTART;TZID=America/New_York:20250917T200000
DTEND;TZID=America/New_York:20250917T210000
DTSTAMP:20260421T211038
CREATED:20250507T160652Z
LAST-MODIFIED:20250507T160652Z
UID:10009492-1758139200-1758142800@yanaclub.com
SUMMARY:Grupo Latino
DESCRIPTION:Open / Discussion / Spanish Language
URL:https://yanaclub.com/event/grupo-latino/2025-09-17/
CATEGORIES:AA
END:VEVENT
BEGIN:VEVENT
DTSTART;TZID=America/New_York:20250918T090000
DTEND;TZID=America/New_York:20250918T100000
DTSTAMP:20260421T211038
CREATED:20250507T155840Z
LAST-MODIFIED:20250507T155840Z
UID:10007420-1758186000-1758189600@yanaclub.com
SUMMARY:SANS (Sober Now Sane)
DESCRIPTION:Open / Discussion
URL:https://yanaclub.com/event/sans-sober-now-sane/2025-09-18/
CATEGORIES:AA
END:VEVENT
BEGIN:VEVENT
DTSTART;TZID=America/New_York:20250918T121500
DTEND;TZID=America/New_York:20250918T131500
DTSTAMP:20260421T211038
CREATED:20250507T154857Z
LAST-MODIFIED:20250507T155521Z
UID:10001185-1758197700-1758201300@yanaclub.com
SUMMARY:No Name
DESCRIPTION:Open / Topic Discussion
URL:https://yanaclub.com/event/no-name/2025-09-18/
CATEGORIES:AA
END:VEVENT
BEGIN:VEVENT
DTSTART;TZID=America/New_York:20250918T173000
DTEND;TZID=America/New_York:20250918T183000
DTSTAMP:20260421T211038
CREATED:20250507T155118Z
LAST-MODIFIED:20250507T155118Z
UID:10003219-1758216600-1758220200@yanaclub.com
SUMMARY:Serenity
DESCRIPTION:Open Discussion
URL:https://yanaclub.com/event/serenity/2025-09-18/
CATEGORIES:AA
END:VEVENT
BEGIN:VEVENT
DTSTART;TZID=America/New_York:20250918T184500
DTEND;TZID=America/New_York:20250918T194500
DTSTAMP:20260421T211038
CREATED:20250507T161123Z
LAST-MODIFIED:20250507T161123Z
UID:10011262-1758221100-1758224700@yanaclub.com
SUMMARY:645 YANA Womens
DESCRIPTION:Closed / Topic Discussion / Womens
URL:https://yanaclub.com/event/645-yana-womens/2025-09-18/
CATEGORIES:AA
END:VEVENT
BEGIN:VEVENT
DTSTART;TZID=America/New_York:20250918T200000
DTEND;TZID=America/New_York:20250918T210000
DTSTAMP:20260421T211038
CREATED:20250507T162741Z
LAST-MODIFIED:20250507T162741Z
UID:10015185-1758225600-1758229200@yanaclub.com
SUMMARY:Open Arms
DESCRIPTION:Open / Discussion / How It Works
URL:https://yanaclub.com/event/open-arms/2025-09-18/
CATEGORIES:NA
END:VEVENT
BEGIN:VEVENT
DTSTART;TZID=America/New_York:20250919T090000
DTEND;TZID=America/New_York:20250919T100000
DTSTAMP:20260421T211038
CREATED:20250507T155840Z
LAST-MODIFIED:20250507T155840Z
UID:10007421-1758272400-1758276000@yanaclub.com
SUMMARY:SANS (Sober Now Sane)
DESCRIPTION:Open / Discussion
URL:https://yanaclub.com/event/sans-sober-now-sane/2025-09-19/
CATEGORIES:AA
END:VEVENT
BEGIN:VEVENT
DTSTART;TZID=America/New_York:20250919T121500
DTEND;TZID=America/New_York:20250919T131500
DTSTAMP:20260421T211038
CREATED:20250507T154857Z
LAST-MODIFIED:20250507T155521Z
UID:10001186-1758284100-1758287700@yanaclub.com
SUMMARY:No Name
DESCRIPTION:Open / Topic Discussion
URL:https://yanaclub.com/event/no-name/2025-09-19/
CATEGORIES:AA
END:VEVENT
BEGIN:VEVENT
DTSTART;TZID=America/New_York:20250919T121500
DTEND;TZID=America/New_York:20250919T131500
DTSTAMP:20260421T211038
CREATED:20250507T162126Z
LAST-MODIFIED:20250507T162126Z
UID:10014139-1758284100-1758287700@yanaclub.com
SUMMARY:Friday Luncheon AFG
DESCRIPTION:Closed / Discussion
URL:https://yanaclub.com/event/friday-luncheon-afg-2/2025-09-19/
CATEGORIES:AL-ANON
END:VEVENT
BEGIN:VEVENT
DTSTART;TZID=America/New_York:20250919T180000
DTEND;TZID=America/New_York:20250919T190000
DTSTAMP:20260421T211038
CREATED:20250507T161244Z
LAST-MODIFIED:20250507T161244Z
UID:10011784-1758304800-1758308400@yanaclub.com
SUMMARY:Young Peoples
DESCRIPTION:Open / Discussion
URL:https://yanaclub.com/event/young-peoples/2025-09-19/
CATEGORIES:AA
END:VEVENT
BEGIN:VEVENT
DTSTART;TZID=America/New_York:20250919T180000
DTEND;TZID=America/New_York:20250919T190000
DTSTAMP:20260421T211038
CREATED:20250507T161346Z
LAST-MODIFIED:20250507T161346Z
UID:10012045-1758304800-1758308400@yanaclub.com
SUMMARY:Together We Can
DESCRIPTION:Open / Discussion
URL:https://yanaclub.com/event/together-we-can/2025-09-19/
CATEGORIES:AA
END:VEVENT
BEGIN:VEVENT
DTSTART;TZID=America/New_York:20250919T200000
DTEND;TZID=America/New_York:20250919T210000
DTSTAMP:20260421T211038
CREATED:20250507T160652Z
LAST-MODIFIED:20250507T160652Z
UID:10009493-1758312000-1758315600@yanaclub.com
SUMMARY:Grupo Latino
DESCRIPTION:Open / Discussion / Spanish Language
URL:https://yanaclub.com/event/grupo-latino/2025-09-19/
CATEGORIES:AA
END:VEVENT
BEGIN:VEVENT
DTSTART;TZID=America/New_York:20250920T090000
DTEND;TZID=America/New_York:20250920T100000
DTSTAMP:20260421T211038
CREATED:20250502T104804Z
LAST-MODIFIED:20250502T104804Z
UID:10000022-1758358800-1758362400@yanaclub.com
SUMMARY:Saturday Big Book Study
DESCRIPTION:Type: O/BB
URL:https://yanaclub.com/event/saturday-big-book-study/2025-09-20/
CATEGORIES:AA
END:VEVENT
BEGIN:VEVENT
DTSTART;TZID=America/New_York:20250920T121500
DTEND;TZID=America/New_York:20250920T131500
DTSTAMP:20260421T211038
CREATED:20250507T154857Z
LAST-MODIFIED:20250507T155521Z
UID:10001187-1758370500-1758374100@yanaclub.com
SUMMARY:No Name
DESCRIPTION:Open / Topic Discussion
URL:https://yanaclub.com/event/no-name/2025-09-20/
CATEGORIES:AA
END:VEVENT
BEGIN:VEVENT
DTSTART;TZID=America/New_York:20250920T173000
DTEND;TZID=America/New_York:20250920T183000
DTSTAMP:20260421T211038
CREATED:20250507T155250Z
LAST-MODIFIED:20250507T155250Z
UID:10005251-1758389400-1758393000@yanaclub.com
SUMMARY:Serenity 1st Step
DESCRIPTION:Open / Discussion / Beginners
URL:https://yanaclub.com/event/serenity-1st-step/2025-09-20/
CATEGORIES:AA
END:VEVENT
BEGIN:VEVENT
DTSTART;TZID=America/New_York:20250920T200000
DTEND;TZID=America/New_York:20250920T210000
DTSTAMP:20260421T211038
CREATED:20250507T160652Z
LAST-MODIFIED:20250507T160652Z
UID:10009494-1758398400-1758402000@yanaclub.com
SUMMARY:Grupo Latino
DESCRIPTION:Open / Discussion / Spanish Language
URL:https://yanaclub.com/event/grupo-latino/2025-09-20/
CATEGORIES:AA
END:VEVENT
BEGIN:VEVENT
DTSTART;TZID=America/New_York:20250921T080000
DTEND;TZID=America/New_York:20250921T090000
DTSTAMP:20260421T211038
CREATED:20250507T163100Z
LAST-MODIFIED:20250507T163100Z
UID:10015709-1758441600-1758445200@yanaclub.com
SUMMARY:YANA Sunday Breakfast
DESCRIPTION:
URL:https://yanaclub.com/event/yana-sunday-breakfast/2025-09-21/
CATEGORIES:Recurring YANA Events
END:VEVENT
BEGIN:VEVENT
DTSTART;TZID=America/New_York:20250921T090000
DTEND;TZID=America/New_York:20250921T100000
DTSTAMP:20260421T211038
CREATED:20250507T161539Z
LAST-MODIFIED:20250507T161540Z
UID:10012306-1758445200-1758448800@yanaclub.com
SUMMARY:Breakfast Club
DESCRIPTION:Open /  Speaker Meeting
URL:https://yanaclub.com/event/breakfast-club-2/2025-09-21/
CATEGORIES:AA
END:VEVENT
END:VCALENDAR