BEGIN:VCALENDAR
VERSION:2.0
PRODID:-//YANA Club of Hilton Head Island - ECPv6.11.2//NONSGML v1.0//EN
CALSCALE:GREGORIAN
METHOD:PUBLISH
X-ORIGINAL-URL:https://yanaclub.com
X-WR-CALDESC:Events for YANA Club of Hilton Head Island
REFRESH-INTERVAL;VALUE=DURATION:PT1H
X-Robots-Tag:noindex
X-PUBLISHED-TTL:PT1H
BEGIN:VTIMEZONE
TZID:America/New_York
BEGIN:DAYLIGHT
TZOFFSETFROM:-0500
TZOFFSETTO:-0400
TZNAME:EDT
DTSTART:20250309T070000
END:DAYLIGHT
BEGIN:STANDARD
TZOFFSETFROM:-0400
TZOFFSETTO:-0500
TZNAME:EST
DTSTART:20251102T060000
END:STANDARD
END:VTIMEZONE
BEGIN:VEVENT
DTSTART;TZID=America/New_York:20250804T090000
DTEND;TZID=America/New_York:20250804T100000
DTSTAMP:20260422T123145
CREATED:20250507T155840Z
LAST-MODIFIED:20250507T155840Z
UID:10007387-1754298000-1754301600@yanaclub.com
SUMMARY:SANS (Sober Now Sane)
DESCRIPTION:Open / Discussion
URL:https://yanaclub.com/event/sans-sober-now-sane/2025-08-04/
CATEGORIES:AA
END:VEVENT
BEGIN:VEVENT
DTSTART;TZID=America/New_York:20250804T121500
DTEND;TZID=America/New_York:20250804T131500
DTSTAMP:20260422T123145
CREATED:20250507T154857Z
LAST-MODIFIED:20250507T155521Z
UID:10001140-1754309700-1754313300@yanaclub.com
SUMMARY:No Name
DESCRIPTION:Open / Topic Discussion
URL:https://yanaclub.com/event/no-name/2025-08-04/
CATEGORIES:AA
END:VEVENT
BEGIN:VEVENT
DTSTART;TZID=America/New_York:20250804T173000
DTEND;TZID=America/New_York:20250804T183000
DTSTAMP:20260422T123145
CREATED:20250507T155118Z
LAST-MODIFIED:20250507T155118Z
UID:10003192-1754328600-1754332200@yanaclub.com
SUMMARY:Serenity
DESCRIPTION:Open Discussion
URL:https://yanaclub.com/event/serenity/2025-08-04/
CATEGORIES:AA
END:VEVENT
BEGIN:VEVENT
DTSTART;TZID=America/New_York:20250805T090000
DTEND;TZID=America/New_York:20250805T100000
DTSTAMP:20260422T123145
CREATED:20250507T155840Z
LAST-MODIFIED:20250507T155840Z
UID:10007388-1754384400-1754388000@yanaclub.com
SUMMARY:SANS (Sober Now Sane)
DESCRIPTION:Open / Discussion
URL:https://yanaclub.com/event/sans-sober-now-sane/2025-08-05/
CATEGORIES:AA
END:VEVENT
BEGIN:VEVENT
DTSTART;TZID=America/New_York:20250805T121500
DTEND;TZID=America/New_York:20250805T131500
DTSTAMP:20260422T123145
CREATED:20250507T154857Z
LAST-MODIFIED:20250507T155521Z
UID:10001141-1754396100-1754399700@yanaclub.com
SUMMARY:No Name
DESCRIPTION:Open / Topic Discussion
URL:https://yanaclub.com/event/no-name/2025-08-05/
CATEGORIES:AA
END:VEVENT
BEGIN:VEVENT
DTSTART;TZID=America/New_York:20250805T173000
DTEND;TZID=America/New_York:20250805T183000
DTSTAMP:20260422T123145
CREATED:20250507T155118Z
LAST-MODIFIED:20250507T155118Z
UID:10003193-1754415000-1754418600@yanaclub.com
SUMMARY:Serenity
DESCRIPTION:Open Discussion
URL:https://yanaclub.com/event/serenity/2025-08-05/
CATEGORIES:AA
END:VEVENT
BEGIN:VEVENT
DTSTART;TZID=America/New_York:20250805T190000
DTEND;TZID=America/New_York:20250805T200000
DTSTAMP:20260422T123145
CREATED:20250507T160104Z
LAST-MODIFIED:20250507T160104Z
UID:10008643-1754420400-1754424000@yanaclub.com
SUMMARY:Mens Back to Basics
DESCRIPTION:Closed / Discussion / Mens
URL:https://yanaclub.com/event/mens-back-to-basics/2025-08-05/
CATEGORIES:AA
END:VEVENT
BEGIN:VEVENT
DTSTART;TZID=America/New_York:20250805T200000
DTEND;TZID=America/New_York:20250805T210000
DTSTAMP:20260422T123145
CREATED:20250507T160652Z
LAST-MODIFIED:20250507T160652Z
UID:10009467-1754424000-1754427600@yanaclub.com
SUMMARY:Grupo Latino
DESCRIPTION:Open / Discussion / Spanish Language
URL:https://yanaclub.com/event/grupo-latino/2025-08-05/
CATEGORIES:AA
END:VEVENT
BEGIN:VEVENT
DTSTART;TZID=America/New_York:20250806T070000
DTEND;TZID=America/New_York:20250806T080000
DTSTAMP:20260422T123145
CREATED:20250507T160920Z
LAST-MODIFIED:20250507T160920Z
UID:10010734-1754463600-1754467200@yanaclub.com
SUMMARY:Design for Living
DESCRIPTION:Closed / Discussion
URL:https://yanaclub.com/event/design-for-living/2025-08-06/
CATEGORIES:AA
END:VEVENT
BEGIN:VEVENT
DTSTART;TZID=America/New_York:20250806T090000
DTEND;TZID=America/New_York:20250806T100000
DTSTAMP:20260422T123145
CREATED:20250507T155840Z
LAST-MODIFIED:20250507T155840Z
UID:10007389-1754470800-1754474400@yanaclub.com
SUMMARY:SANS (Sober Now Sane)
DESCRIPTION:Open / Discussion
URL:https://yanaclub.com/event/sans-sober-now-sane/2025-08-06/
CATEGORIES:AA
END:VEVENT
BEGIN:VEVENT
DTSTART;TZID=America/New_York:20250806T121500
DTEND;TZID=America/New_York:20250806T131500
DTSTAMP:20260422T123145
CREATED:20250507T154857Z
LAST-MODIFIED:20250507T155521Z
UID:10001142-1754482500-1754486100@yanaclub.com
SUMMARY:No Name
DESCRIPTION:Open / Topic Discussion
URL:https://yanaclub.com/event/no-name/2025-08-06/
CATEGORIES:AA
END:VEVENT
BEGIN:VEVENT
DTSTART;TZID=America/New_York:20250806T173000
DTEND;TZID=America/New_York:20250806T183000
DTSTAMP:20260422T123145
CREATED:20250507T155118Z
LAST-MODIFIED:20250507T155118Z
UID:10003194-1754501400-1754505000@yanaclub.com
SUMMARY:Serenity
DESCRIPTION:Open Discussion
URL:https://yanaclub.com/event/serenity/2025-08-06/
CATEGORIES:AA
END:VEVENT
BEGIN:VEVENT
DTSTART;TZID=America/New_York:20250806T190000
DTEND;TZID=America/New_York:20250806T200000
DTSTAMP:20260422T123145
CREATED:20250507T163407Z
LAST-MODIFIED:20250507T163407Z
UID:10016538-1754506800-1754510400@yanaclub.com
SUMMARY:YANA Board of Directors
DESCRIPTION:
URL:https://yanaclub.com/event/yana-board-of-directors/2025-08-06/
CATEGORIES:Recurring YANA Events
END:VEVENT
BEGIN:VEVENT
DTSTART;TZID=America/New_York:20250806T200000
DTEND;TZID=America/New_York:20250806T210000
DTSTAMP:20260422T123145
CREATED:20250507T160652Z
LAST-MODIFIED:20250507T160652Z
UID:10009468-1754510400-1754514000@yanaclub.com
SUMMARY:Grupo Latino
DESCRIPTION:Open / Discussion / Spanish Language
URL:https://yanaclub.com/event/grupo-latino/2025-08-06/
CATEGORIES:AA
END:VEVENT
BEGIN:VEVENT
DTSTART;TZID=America/New_York:20250807T090000
DTEND;TZID=America/New_York:20250807T100000
DTSTAMP:20260422T123145
CREATED:20250507T155840Z
LAST-MODIFIED:20250507T155840Z
UID:10007390-1754557200-1754560800@yanaclub.com
SUMMARY:SANS (Sober Now Sane)
DESCRIPTION:Open / Discussion
URL:https://yanaclub.com/event/sans-sober-now-sane/2025-08-07/
CATEGORIES:AA
END:VEVENT
BEGIN:VEVENT
DTSTART;TZID=America/New_York:20250807T121500
DTEND;TZID=America/New_York:20250807T131500
DTSTAMP:20260422T123145
CREATED:20250507T154857Z
LAST-MODIFIED:20250507T155521Z
UID:10001143-1754568900-1754572500@yanaclub.com
SUMMARY:No Name
DESCRIPTION:Open / Topic Discussion
URL:https://yanaclub.com/event/no-name/2025-08-07/
CATEGORIES:AA
END:VEVENT
BEGIN:VEVENT
DTSTART;TZID=America/New_York:20250807T173000
DTEND;TZID=America/New_York:20250807T183000
DTSTAMP:20260422T123145
CREATED:20250507T155118Z
LAST-MODIFIED:20250507T155118Z
UID:10003195-1754587800-1754591400@yanaclub.com
SUMMARY:Serenity
DESCRIPTION:Open Discussion
URL:https://yanaclub.com/event/serenity/2025-08-07/
CATEGORIES:AA
END:VEVENT
BEGIN:VEVENT
DTSTART;TZID=America/New_York:20250807T184500
DTEND;TZID=America/New_York:20250807T194500
DTSTAMP:20260422T123145
CREATED:20250507T161123Z
LAST-MODIFIED:20250507T161123Z
UID:10011256-1754592300-1754595900@yanaclub.com
SUMMARY:645 YANA Womens
DESCRIPTION:Closed / Topic Discussion / Womens
URL:https://yanaclub.com/event/645-yana-womens/2025-08-07/
CATEGORIES:AA
END:VEVENT
BEGIN:VEVENT
DTSTART;TZID=America/New_York:20250807T200000
DTEND;TZID=America/New_York:20250807T210000
DTSTAMP:20260422T123145
CREATED:20250507T162741Z
LAST-MODIFIED:20250507T162741Z
UID:10015179-1754596800-1754600400@yanaclub.com
SUMMARY:Open Arms
DESCRIPTION:Open / Discussion / How It Works
URL:https://yanaclub.com/event/open-arms/2025-08-07/
CATEGORIES:NA
END:VEVENT
BEGIN:VEVENT
DTSTART;TZID=America/New_York:20250808T090000
DTEND;TZID=America/New_York:20250808T100000
DTSTAMP:20260422T123145
CREATED:20250507T155840Z
LAST-MODIFIED:20250507T155840Z
UID:10007391-1754643600-1754647200@yanaclub.com
SUMMARY:SANS (Sober Now Sane)
DESCRIPTION:Open / Discussion
URL:https://yanaclub.com/event/sans-sober-now-sane/2025-08-08/
CATEGORIES:AA
END:VEVENT
BEGIN:VEVENT
DTSTART;TZID=America/New_York:20250808T121500
DTEND;TZID=America/New_York:20250808T131500
DTSTAMP:20260422T123145
CREATED:20250507T154857Z
LAST-MODIFIED:20250507T155521Z
UID:10001144-1754655300-1754658900@yanaclub.com
SUMMARY:No Name
DESCRIPTION:Open / Topic Discussion
URL:https://yanaclub.com/event/no-name/2025-08-08/
CATEGORIES:AA
END:VEVENT
BEGIN:VEVENT
DTSTART;TZID=America/New_York:20250808T121500
DTEND;TZID=America/New_York:20250808T131500
DTSTAMP:20260422T123145
CREATED:20250507T162126Z
LAST-MODIFIED:20250507T162126Z
UID:10014133-1754655300-1754658900@yanaclub.com
SUMMARY:Friday Luncheon AFG
DESCRIPTION:Closed / Discussion
URL:https://yanaclub.com/event/friday-luncheon-afg-2/2025-08-08/
CATEGORIES:AL-ANON
END:VEVENT
BEGIN:VEVENT
DTSTART;TZID=America/New_York:20250808T180000
DTEND;TZID=America/New_York:20250808T190000
DTSTAMP:20260422T123145
CREATED:20250507T161244Z
LAST-MODIFIED:20250507T161244Z
UID:10011778-1754676000-1754679600@yanaclub.com
SUMMARY:Young Peoples
DESCRIPTION:Open / Discussion
URL:https://yanaclub.com/event/young-peoples/2025-08-08/
CATEGORIES:AA
END:VEVENT
BEGIN:VEVENT
DTSTART;TZID=America/New_York:20250808T180000
DTEND;TZID=America/New_York:20250808T190000
DTSTAMP:20260422T123145
CREATED:20250507T161346Z
LAST-MODIFIED:20250507T161346Z
UID:10012039-1754676000-1754679600@yanaclub.com
SUMMARY:Together We Can
DESCRIPTION:Open / Discussion
URL:https://yanaclub.com/event/together-we-can/2025-08-08/
CATEGORIES:AA
END:VEVENT
BEGIN:VEVENT
DTSTART;TZID=America/New_York:20250808T200000
DTEND;TZID=America/New_York:20250808T210000
DTSTAMP:20260422T123145
CREATED:20250507T160652Z
LAST-MODIFIED:20250507T160652Z
UID:10009469-1754683200-1754686800@yanaclub.com
SUMMARY:Grupo Latino
DESCRIPTION:Open / Discussion / Spanish Language
URL:https://yanaclub.com/event/grupo-latino/2025-08-08/
CATEGORIES:AA
END:VEVENT
BEGIN:VEVENT
DTSTART;TZID=America/New_York:20250809T090000
DTEND;TZID=America/New_York:20250809T100000
DTSTAMP:20260422T123145
CREATED:20250502T104804Z
LAST-MODIFIED:20250502T104804Z
UID:10000016-1754730000-1754733600@yanaclub.com
SUMMARY:Saturday Big Book Study
DESCRIPTION:Type: O/BB
URL:https://yanaclub.com/event/saturday-big-book-study/2025-08-09/
CATEGORIES:AA
END:VEVENT
BEGIN:VEVENT
DTSTART;TZID=America/New_York:20250809T121500
DTEND;TZID=America/New_York:20250809T131500
DTSTAMP:20260422T123145
CREATED:20250507T154857Z
LAST-MODIFIED:20250507T155521Z
UID:10001145-1754741700-1754745300@yanaclub.com
SUMMARY:No Name
DESCRIPTION:Open / Topic Discussion
URL:https://yanaclub.com/event/no-name/2025-08-09/
CATEGORIES:AA
END:VEVENT
BEGIN:VEVENT
DTSTART;TZID=America/New_York:20250809T173000
DTEND;TZID=America/New_York:20250809T183000
DTSTAMP:20260422T123145
CREATED:20250507T155250Z
LAST-MODIFIED:20250507T155250Z
UID:10005245-1754760600-1754764200@yanaclub.com
SUMMARY:Serenity 1st Step
DESCRIPTION:Open / Discussion / Beginners
URL:https://yanaclub.com/event/serenity-1st-step/2025-08-09/
CATEGORIES:AA
END:VEVENT
BEGIN:VEVENT
DTSTART;TZID=America/New_York:20250809T200000
DTEND;TZID=America/New_York:20250809T210000
DTSTAMP:20260422T123145
CREATED:20250507T160652Z
LAST-MODIFIED:20250507T160652Z
UID:10009470-1754769600-1754773200@yanaclub.com
SUMMARY:Grupo Latino
DESCRIPTION:Open / Discussion / Spanish Language
URL:https://yanaclub.com/event/grupo-latino/2025-08-09/
CATEGORIES:AA
END:VEVENT
BEGIN:VEVENT
DTSTART;TZID=America/New_York:20250810T080000
DTEND;TZID=America/New_York:20250810T090000
DTSTAMP:20260422T123145
CREATED:20250507T163100Z
LAST-MODIFIED:20250507T163100Z
UID:10015703-1754812800-1754816400@yanaclub.com
SUMMARY:YANA Sunday Breakfast
DESCRIPTION:
URL:https://yanaclub.com/event/yana-sunday-breakfast/2025-08-10/
CATEGORIES:Recurring YANA Events
END:VEVENT
END:VCALENDAR