BEGIN:VCALENDAR
VERSION:2.0
PRODID:-//YANA Club of Hilton Head Island - ECPv6.11.2//NONSGML v1.0//EN
CALSCALE:GREGORIAN
METHOD:PUBLISH
X-ORIGINAL-URL:https://yanaclub.com
X-WR-CALDESC:Events for YANA Club of Hilton Head Island
REFRESH-INTERVAL;VALUE=DURATION:PT1H
X-Robots-Tag:noindex
X-PUBLISHED-TTL:PT1H
BEGIN:VTIMEZONE
TZID:America/New_York
BEGIN:DAYLIGHT
TZOFFSETFROM:-0500
TZOFFSETTO:-0400
TZNAME:EDT
DTSTART:20250309T070000
END:DAYLIGHT
BEGIN:STANDARD
TZOFFSETFROM:-0400
TZOFFSETTO:-0500
TZNAME:EST
DTSTART:20251102T060000
END:STANDARD
END:VTIMEZONE
BEGIN:VEVENT
DTSTART;TZID=America/New_York:20250714T090000
DTEND;TZID=America/New_York:20250714T100000
DTSTAMP:20260422T065232
CREATED:20250507T155840Z
LAST-MODIFIED:20250507T155840Z
UID:10007372-1752483600-1752487200@yanaclub.com
SUMMARY:SANS (Sober Now Sane)
DESCRIPTION:Open / Discussion
URL:https://yanaclub.com/event/sans-sober-now-sane/2025-07-14/
CATEGORIES:AA
END:VEVENT
BEGIN:VEVENT
DTSTART;TZID=America/New_York:20250714T121500
DTEND;TZID=America/New_York:20250714T131500
DTSTAMP:20260422T065232
CREATED:20250507T154857Z
LAST-MODIFIED:20250507T155521Z
UID:10001119-1752495300-1752498900@yanaclub.com
SUMMARY:No Name
DESCRIPTION:Open / Topic Discussion
URL:https://yanaclub.com/event/no-name/2025-07-14/
CATEGORIES:AA
END:VEVENT
BEGIN:VEVENT
DTSTART;TZID=America/New_York:20250714T173000
DTEND;TZID=America/New_York:20250714T183000
DTSTAMP:20260422T065232
CREATED:20250507T155118Z
LAST-MODIFIED:20250507T155118Z
UID:10003180-1752514200-1752517800@yanaclub.com
SUMMARY:Serenity
DESCRIPTION:Open Discussion
URL:https://yanaclub.com/event/serenity/2025-07-14/
CATEGORIES:AA
END:VEVENT
BEGIN:VEVENT
DTSTART;TZID=America/New_York:20250715T090000
DTEND;TZID=America/New_York:20250715T100000
DTSTAMP:20260422T065232
CREATED:20250507T155840Z
LAST-MODIFIED:20250507T155840Z
UID:10007373-1752570000-1752573600@yanaclub.com
SUMMARY:SANS (Sober Now Sane)
DESCRIPTION:Open / Discussion
URL:https://yanaclub.com/event/sans-sober-now-sane/2025-07-15/
CATEGORIES:AA
END:VEVENT
BEGIN:VEVENT
DTSTART;TZID=America/New_York:20250715T121500
DTEND;TZID=America/New_York:20250715T131500
DTSTAMP:20260422T065232
CREATED:20250507T154857Z
LAST-MODIFIED:20250507T155521Z
UID:10001120-1752581700-1752585300@yanaclub.com
SUMMARY:No Name
DESCRIPTION:Open / Topic Discussion
URL:https://yanaclub.com/event/no-name/2025-07-15/
CATEGORIES:AA
END:VEVENT
BEGIN:VEVENT
DTSTART;TZID=America/New_York:20250715T173000
DTEND;TZID=America/New_York:20250715T183000
DTSTAMP:20260422T065232
CREATED:20250507T155118Z
LAST-MODIFIED:20250507T155118Z
UID:10003181-1752600600-1752604200@yanaclub.com
SUMMARY:Serenity
DESCRIPTION:Open Discussion
URL:https://yanaclub.com/event/serenity/2025-07-15/
CATEGORIES:AA
END:VEVENT
BEGIN:VEVENT
DTSTART;TZID=America/New_York:20250715T190000
DTEND;TZID=America/New_York:20250715T200000
DTSTAMP:20260422T065232
CREATED:20250507T160104Z
LAST-MODIFIED:20250507T160104Z
UID:10008640-1752606000-1752609600@yanaclub.com
SUMMARY:Mens Back to Basics
DESCRIPTION:Closed / Discussion / Mens
URL:https://yanaclub.com/event/mens-back-to-basics/2025-07-15/
CATEGORIES:AA
END:VEVENT
BEGIN:VEVENT
DTSTART;TZID=America/New_York:20250715T200000
DTEND;TZID=America/New_York:20250715T210000
DTSTAMP:20260422T065232
CREATED:20250507T160652Z
LAST-MODIFIED:20250507T160652Z
UID:10009455-1752609600-1752613200@yanaclub.com
SUMMARY:Grupo Latino
DESCRIPTION:Open / Discussion / Spanish Language
URL:https://yanaclub.com/event/grupo-latino/2025-07-15/
CATEGORIES:AA
END:VEVENT
BEGIN:VEVENT
DTSTART;TZID=America/New_York:20250716T070000
DTEND;TZID=America/New_York:20250716T080000
DTSTAMP:20260422T065232
CREATED:20250507T160920Z
LAST-MODIFIED:20250507T160920Z
UID:10010731-1752649200-1752652800@yanaclub.com
SUMMARY:Design for Living
DESCRIPTION:Closed / Discussion
URL:https://yanaclub.com/event/design-for-living/2025-07-16/
CATEGORIES:AA
END:VEVENT
BEGIN:VEVENT
DTSTART;TZID=America/New_York:20250716T090000
DTEND;TZID=America/New_York:20250716T100000
DTSTAMP:20260422T065232
CREATED:20250507T155840Z
LAST-MODIFIED:20250507T155840Z
UID:10007374-1752656400-1752660000@yanaclub.com
SUMMARY:SANS (Sober Now Sane)
DESCRIPTION:Open / Discussion
URL:https://yanaclub.com/event/sans-sober-now-sane/2025-07-16/
CATEGORIES:AA
END:VEVENT
BEGIN:VEVENT
DTSTART;TZID=America/New_York:20250716T121500
DTEND;TZID=America/New_York:20250716T131500
DTSTAMP:20260422T065232
CREATED:20250507T154857Z
LAST-MODIFIED:20250507T155521Z
UID:10001121-1752668100-1752671700@yanaclub.com
SUMMARY:No Name
DESCRIPTION:Open / Topic Discussion
URL:https://yanaclub.com/event/no-name/2025-07-16/
CATEGORIES:AA
END:VEVENT
BEGIN:VEVENT
DTSTART;TZID=America/New_York:20250716T173000
DTEND;TZID=America/New_York:20250716T183000
DTSTAMP:20260422T065232
CREATED:20250507T155118Z
LAST-MODIFIED:20250507T155118Z
UID:10003182-1752687000-1752690600@yanaclub.com
SUMMARY:Serenity
DESCRIPTION:Open Discussion
URL:https://yanaclub.com/event/serenity/2025-07-16/
CATEGORIES:AA
END:VEVENT
BEGIN:VEVENT
DTSTART;TZID=America/New_York:20250716T200000
DTEND;TZID=America/New_York:20250716T210000
DTSTAMP:20260422T065232
CREATED:20250507T160652Z
LAST-MODIFIED:20250507T160652Z
UID:10009456-1752696000-1752699600@yanaclub.com
SUMMARY:Grupo Latino
DESCRIPTION:Open / Discussion / Spanish Language
URL:https://yanaclub.com/event/grupo-latino/2025-07-16/
CATEGORIES:AA
END:VEVENT
BEGIN:VEVENT
DTSTART;TZID=America/New_York:20250717T090000
DTEND;TZID=America/New_York:20250717T100000
DTSTAMP:20260422T065232
CREATED:20250507T155840Z
LAST-MODIFIED:20250507T155840Z
UID:10007375-1752742800-1752746400@yanaclub.com
SUMMARY:SANS (Sober Now Sane)
DESCRIPTION:Open / Discussion
URL:https://yanaclub.com/event/sans-sober-now-sane/2025-07-17/
CATEGORIES:AA
END:VEVENT
BEGIN:VEVENT
DTSTART;TZID=America/New_York:20250717T121500
DTEND;TZID=America/New_York:20250717T131500
DTSTAMP:20260422T065232
CREATED:20250507T154857Z
LAST-MODIFIED:20250507T155521Z
UID:10001122-1752754500-1752758100@yanaclub.com
SUMMARY:No Name
DESCRIPTION:Open / Topic Discussion
URL:https://yanaclub.com/event/no-name/2025-07-17/
CATEGORIES:AA
END:VEVENT
BEGIN:VEVENT
DTSTART;TZID=America/New_York:20250717T173000
DTEND;TZID=America/New_York:20250717T183000
DTSTAMP:20260422T065232
CREATED:20250507T155118Z
LAST-MODIFIED:20250507T155118Z
UID:10003183-1752773400-1752777000@yanaclub.com
SUMMARY:Serenity
DESCRIPTION:Open Discussion
URL:https://yanaclub.com/event/serenity/2025-07-17/
CATEGORIES:AA
END:VEVENT
BEGIN:VEVENT
DTSTART;TZID=America/New_York:20250717T184500
DTEND;TZID=America/New_York:20250717T194500
DTSTAMP:20260422T065232
CREATED:20250507T161123Z
LAST-MODIFIED:20250507T161123Z
UID:10011253-1752777900-1752781500@yanaclub.com
SUMMARY:645 YANA Womens
DESCRIPTION:Closed / Topic Discussion / Womens
URL:https://yanaclub.com/event/645-yana-womens/2025-07-17/
CATEGORIES:AA
END:VEVENT
BEGIN:VEVENT
DTSTART;TZID=America/New_York:20250717T200000
DTEND;TZID=America/New_York:20250717T210000
DTSTAMP:20260422T065232
CREATED:20250507T162741Z
LAST-MODIFIED:20250507T162741Z
UID:10015176-1752782400-1752786000@yanaclub.com
SUMMARY:Open Arms
DESCRIPTION:Open / Discussion / How It Works
URL:https://yanaclub.com/event/open-arms/2025-07-17/
CATEGORIES:NA
END:VEVENT
BEGIN:VEVENT
DTSTART;TZID=America/New_York:20250718T090000
DTEND;TZID=America/New_York:20250718T100000
DTSTAMP:20260422T065232
CREATED:20250507T155840Z
LAST-MODIFIED:20250507T155840Z
UID:10007376-1752829200-1752832800@yanaclub.com
SUMMARY:SANS (Sober Now Sane)
DESCRIPTION:Open / Discussion
URL:https://yanaclub.com/event/sans-sober-now-sane/2025-07-18/
CATEGORIES:AA
END:VEVENT
BEGIN:VEVENT
DTSTART;TZID=America/New_York:20250718T121500
DTEND;TZID=America/New_York:20250718T131500
DTSTAMP:20260422T065232
CREATED:20250507T154857Z
LAST-MODIFIED:20250507T155521Z
UID:10001123-1752840900-1752844500@yanaclub.com
SUMMARY:No Name
DESCRIPTION:Open / Topic Discussion
URL:https://yanaclub.com/event/no-name/2025-07-18/
CATEGORIES:AA
END:VEVENT
BEGIN:VEVENT
DTSTART;TZID=America/New_York:20250718T121500
DTEND;TZID=America/New_York:20250718T131500
DTSTAMP:20260422T065232
CREATED:20250507T162126Z
LAST-MODIFIED:20250507T162126Z
UID:10014130-1752840900-1752844500@yanaclub.com
SUMMARY:Friday Luncheon AFG
DESCRIPTION:Closed / Discussion
URL:https://yanaclub.com/event/friday-luncheon-afg-2/2025-07-18/
CATEGORIES:AL-ANON
END:VEVENT
BEGIN:VEVENT
DTSTART;TZID=America/New_York:20250718T180000
DTEND;TZID=America/New_York:20250718T190000
DTSTAMP:20260422T065232
CREATED:20250507T161244Z
LAST-MODIFIED:20250507T161244Z
UID:10011775-1752861600-1752865200@yanaclub.com
SUMMARY:Young Peoples
DESCRIPTION:Open / Discussion
URL:https://yanaclub.com/event/young-peoples/2025-07-18/
CATEGORIES:AA
END:VEVENT
BEGIN:VEVENT
DTSTART;TZID=America/New_York:20250718T180000
DTEND;TZID=America/New_York:20250718T190000
DTSTAMP:20260422T065232
CREATED:20250507T161346Z
LAST-MODIFIED:20250507T161346Z
UID:10012036-1752861600-1752865200@yanaclub.com
SUMMARY:Together We Can
DESCRIPTION:Open / Discussion
URL:https://yanaclub.com/event/together-we-can/2025-07-18/
CATEGORIES:AA
END:VEVENT
BEGIN:VEVENT
DTSTART;TZID=America/New_York:20250718T200000
DTEND;TZID=America/New_York:20250718T210000
DTSTAMP:20260422T065232
CREATED:20250507T160652Z
LAST-MODIFIED:20250507T160652Z
UID:10009457-1752868800-1752872400@yanaclub.com
SUMMARY:Grupo Latino
DESCRIPTION:Open / Discussion / Spanish Language
URL:https://yanaclub.com/event/grupo-latino/2025-07-18/
CATEGORIES:AA
END:VEVENT
BEGIN:VEVENT
DTSTART;TZID=America/New_York:20250719T090000
DTEND;TZID=America/New_York:20250719T100000
DTSTAMP:20260422T065232
CREATED:20250502T104804Z
LAST-MODIFIED:20250502T104804Z
UID:10000013-1752915600-1752919200@yanaclub.com
SUMMARY:Saturday Big Book Study
DESCRIPTION:Type: O/BB
URL:https://yanaclub.com/event/saturday-big-book-study/2025-07-19/
CATEGORIES:AA
END:VEVENT
BEGIN:VEVENT
DTSTART;TZID=America/New_York:20250719T121500
DTEND;TZID=America/New_York:20250719T131500
DTSTAMP:20260422T065232
CREATED:20250507T154857Z
LAST-MODIFIED:20250507T155521Z
UID:10001124-1752927300-1752930900@yanaclub.com
SUMMARY:No Name
DESCRIPTION:Open / Topic Discussion
URL:https://yanaclub.com/event/no-name/2025-07-19/
CATEGORIES:AA
END:VEVENT
BEGIN:VEVENT
DTSTART;TZID=America/New_York:20250719T173000
DTEND;TZID=America/New_York:20250719T183000
DTSTAMP:20260422T065232
CREATED:20250507T155250Z
LAST-MODIFIED:20250507T155250Z
UID:10005242-1752946200-1752949800@yanaclub.com
SUMMARY:Serenity 1st Step
DESCRIPTION:Open / Discussion / Beginners
URL:https://yanaclub.com/event/serenity-1st-step/2025-07-19/
CATEGORIES:AA
END:VEVENT
BEGIN:VEVENT
DTSTART;TZID=America/New_York:20250719T200000
DTEND;TZID=America/New_York:20250719T210000
DTSTAMP:20260422T065232
CREATED:20250507T160652Z
LAST-MODIFIED:20250507T160652Z
UID:10009458-1752955200-1752958800@yanaclub.com
SUMMARY:Grupo Latino
DESCRIPTION:Open / Discussion / Spanish Language
URL:https://yanaclub.com/event/grupo-latino/2025-07-19/
CATEGORIES:AA
END:VEVENT
BEGIN:VEVENT
DTSTART;TZID=America/New_York:20250720T080000
DTEND;TZID=America/New_York:20250720T090000
DTSTAMP:20260422T065232
CREATED:20250507T163100Z
LAST-MODIFIED:20250507T163100Z
UID:10015700-1752998400-1753002000@yanaclub.com
SUMMARY:YANA Sunday Breakfast
DESCRIPTION:
URL:https://yanaclub.com/event/yana-sunday-breakfast/2025-07-20/
CATEGORIES:Recurring YANA Events
END:VEVENT
BEGIN:VEVENT
DTSTART;TZID=America/New_York:20250720T090000
DTEND;TZID=America/New_York:20250720T100000
DTSTAMP:20260422T065232
CREATED:20250507T161539Z
LAST-MODIFIED:20250507T161540Z
UID:10012297-1753002000-1753005600@yanaclub.com
SUMMARY:Breakfast Club
DESCRIPTION:Open /  Speaker Meeting
URL:https://yanaclub.com/event/breakfast-club-2/2025-07-20/
CATEGORIES:AA
END:VEVENT
END:VCALENDAR