BEGIN:VCALENDAR
VERSION:2.0
PRODID:-//YANA Club of Hilton Head Island - ECPv6.11.2//NONSGML v1.0//EN
CALSCALE:GREGORIAN
METHOD:PUBLISH
X-ORIGINAL-URL:https://yanaclub.com
X-WR-CALDESC:Events for YANA Club of Hilton Head Island
REFRESH-INTERVAL;VALUE=DURATION:PT1H
X-Robots-Tag:noindex
X-PUBLISHED-TTL:PT1H
BEGIN:VTIMEZONE
TZID:America/New_York
BEGIN:DAYLIGHT
TZOFFSETFROM:-0500
TZOFFSETTO:-0400
TZNAME:EDT
DTSTART:20280312T070000
END:DAYLIGHT
BEGIN:STANDARD
TZOFFSETFROM:-0400
TZOFFSETTO:-0500
TZNAME:EST
DTSTART:20281105T060000
END:STANDARD
END:VTIMEZONE
BEGIN:VEVENT
DTSTART;TZID=America/New_York:20281001T080000
DTEND;TZID=America/New_York:20281001T090000
DTSTAMP:20260425T071234
CREATED:20250507T163100Z
LAST-MODIFIED:20250507T163100Z
UID:10015867-1854000000-1854003600@yanaclub.com
SUMMARY:YANA Sunday Breakfast
DESCRIPTION:
URL:https://yanaclub.com/event/yana-sunday-breakfast/2028-10-01/
CATEGORIES:Recurring YANA Events
END:VEVENT
BEGIN:VEVENT
DTSTART;TZID=America/New_York:20281001T090000
DTEND;TZID=America/New_York:20281001T100000
DTSTAMP:20260425T071234
CREATED:20250507T161539Z
LAST-MODIFIED:20250507T161540Z
UID:10012464-1854003600-1854007200@yanaclub.com
SUMMARY:Breakfast Club
DESCRIPTION:Open /  Speaker Meeting
URL:https://yanaclub.com/event/breakfast-club-2/2028-10-01/
CATEGORIES:AA
END:VEVENT
BEGIN:VEVENT
DTSTART;TZID=America/New_York:20281001T121500
DTEND;TZID=America/New_York:20281001T131500
DTSTAMP:20260425T071234
CREATED:20250507T154857Z
LAST-MODIFIED:20250507T155521Z
UID:10002294-1854015300-1854018900@yanaclub.com
SUMMARY:No Name
DESCRIPTION:Open / Topic Discussion
URL:https://yanaclub.com/event/no-name/2028-10-01/
CATEGORIES:AA
END:VEVENT
BEGIN:VEVENT
DTSTART;TZID=America/New_York:20281001T140000
DTEND;TZID=America/New_York:20281001T140000
DTSTAMP:20260425T071234
CREATED:20250507T161804Z
LAST-MODIFIED:20250507T161804Z
UID:10012988-1854021600-1854021600@yanaclub.com
SUMMARY:Hilton Head ACA
DESCRIPTION:Open / Discussion
URL:https://yanaclub.com/event/hilton-head-aca/2028-10-01/
CATEGORIES:ACA
END:VEVENT
BEGIN:VEVENT
DTSTART;TZID=America/New_York:20281001T153000
DTEND;TZID=America/New_York:20281001T163000
DTSTAMP:20260425T071234
CREATED:20250708T225544Z
LAST-MODIFIED:20251118T002430Z
UID:10017298-1854027000-1854030600@yanaclub.com
SUMMARY:Carolina Recovery MARA
DESCRIPTION:Open Literature Discussion
URL:https://yanaclub.com/event/carolina-mara/2028-10-01/
CATEGORIES:MARA
END:VEVENT
BEGIN:VEVENT
DTSTART;TZID=America/New_York:20281001T183000
DTEND;TZID=America/New_York:20281001T193000
DTSTAMP:20260425T071234
CREATED:20250507T161940Z
LAST-MODIFIED:20250507T161940Z
UID:10013512-1854037800-1854041400@yanaclub.com
SUMMARY:Principles Above Personalities
DESCRIPTION:Closed / Discussion
URL:https://yanaclub.com/event/principles-above-personalities/2028-10-01/
CATEGORIES:AL-ANON
END:VEVENT
BEGIN:VEVENT
DTSTART;TZID=America/New_York:20281001T200000
DTEND;TZID=America/New_York:20281001T210000
DTSTAMP:20260425T071234
CREATED:20250507T162245Z
LAST-MODIFIED:20250513T163108Z
UID:10016774-1854043200-1854046800@yanaclub.com
SUMMARY:Open Arms
DESCRIPTION:
URL:https://yanaclub.com/event/crockpot-meeting-2/2028-10-01/
CATEGORIES:NA
END:VEVENT
BEGIN:VEVENT
DTSTART;TZID=America/New_York:20281002T090000
DTEND;TZID=America/New_York:20281002T100000
DTSTAMP:20260425T071234
CREATED:20250507T155840Z
LAST-MODIFIED:20250507T155840Z
UID:10008212-1854090000-1854093600@yanaclub.com
SUMMARY:SANS (Sober Now Sane)
DESCRIPTION:Open / Discussion
URL:https://yanaclub.com/event/sans-sober-now-sane/2028-10-02/
CATEGORIES:AA
END:VEVENT
BEGIN:VEVENT
DTSTART;TZID=America/New_York:20281002T121500
DTEND;TZID=America/New_York:20281002T131500
DTSTAMP:20260425T071234
CREATED:20250507T154857Z
LAST-MODIFIED:20250507T155521Z
UID:10002295-1854101700-1854105300@yanaclub.com
SUMMARY:No Name
DESCRIPTION:Open / Topic Discussion
URL:https://yanaclub.com/event/no-name/2028-10-02/
CATEGORIES:AA
END:VEVENT
BEGIN:VEVENT
DTSTART;TZID=America/New_York:20281002T173000
DTEND;TZID=America/New_York:20281002T183000
DTSTAMP:20260425T071234
CREATED:20250507T155118Z
LAST-MODIFIED:20250507T155118Z
UID:10003852-1854120600-1854124200@yanaclub.com
SUMMARY:Serenity
DESCRIPTION:Open Discussion
URL:https://yanaclub.com/event/serenity/2028-10-02/
CATEGORIES:AA
END:VEVENT
BEGIN:VEVENT
DTSTART;TZID=America/New_York:20281003T090000
DTEND;TZID=America/New_York:20281003T100000
DTSTAMP:20260425T071234
CREATED:20250507T155840Z
LAST-MODIFIED:20250507T155840Z
UID:10008213-1854176400-1854180000@yanaclub.com
SUMMARY:SANS (Sober Now Sane)
DESCRIPTION:Open / Discussion
URL:https://yanaclub.com/event/sans-sober-now-sane/2028-10-03/
CATEGORIES:AA
END:VEVENT
BEGIN:VEVENT
DTSTART;TZID=America/New_York:20281003T121500
DTEND;TZID=America/New_York:20281003T131500
DTSTAMP:20260425T071234
CREATED:20250507T154857Z
LAST-MODIFIED:20250507T155521Z
UID:10002296-1854188100-1854191700@yanaclub.com
SUMMARY:No Name
DESCRIPTION:Open / Topic Discussion
URL:https://yanaclub.com/event/no-name/2028-10-03/
CATEGORIES:AA
END:VEVENT
BEGIN:VEVENT
DTSTART;TZID=America/New_York:20281003T173000
DTEND;TZID=America/New_York:20281003T183000
DTSTAMP:20260425T071234
CREATED:20250507T155118Z
LAST-MODIFIED:20250507T155118Z
UID:10003853-1854207000-1854210600@yanaclub.com
SUMMARY:Serenity
DESCRIPTION:Open Discussion
URL:https://yanaclub.com/event/serenity/2028-10-03/
CATEGORIES:AA
END:VEVENT
BEGIN:VEVENT
DTSTART;TZID=America/New_York:20281003T190000
DTEND;TZID=America/New_York:20281003T200000
DTSTAMP:20260425T071234
CREATED:20250507T160104Z
LAST-MODIFIED:20250507T160104Z
UID:10008808-1854212400-1854216000@yanaclub.com
SUMMARY:Mens Back to Basics
DESCRIPTION:Closed / Discussion / Mens
URL:https://yanaclub.com/event/mens-back-to-basics/2028-10-03/
CATEGORIES:AA
END:VEVENT
BEGIN:VEVENT
DTSTART;TZID=America/New_York:20281003T200000
DTEND;TZID=America/New_York:20281003T210000
DTSTAMP:20260425T071234
CREATED:20250507T160652Z
LAST-MODIFIED:20250507T160652Z
UID:10010127-1854216000-1854219600@yanaclub.com
SUMMARY:Grupo Latino
DESCRIPTION:Open / Discussion / Spanish Language
URL:https://yanaclub.com/event/grupo-latino/2028-10-03/
CATEGORIES:AA
END:VEVENT
BEGIN:VEVENT
DTSTART;TZID=America/New_York:20281004T070000
DTEND;TZID=America/New_York:20281004T080000
DTSTAMP:20260425T071234
CREATED:20250507T160920Z
LAST-MODIFIED:20250507T160920Z
UID:10010899-1854255600-1854259200@yanaclub.com
SUMMARY:Design for Living
DESCRIPTION:Closed / Discussion
URL:https://yanaclub.com/event/design-for-living/2028-10-04/
CATEGORIES:AA
END:VEVENT
BEGIN:VEVENT
DTSTART;TZID=America/New_York:20281004T090000
DTEND;TZID=America/New_York:20281004T100000
DTSTAMP:20260425T071234
CREATED:20250507T155840Z
LAST-MODIFIED:20250507T155840Z
UID:10008214-1854262800-1854266400@yanaclub.com
SUMMARY:SANS (Sober Now Sane)
DESCRIPTION:Open / Discussion
URL:https://yanaclub.com/event/sans-sober-now-sane/2028-10-04/
CATEGORIES:AA
END:VEVENT
BEGIN:VEVENT
DTSTART;TZID=America/New_York:20281004T121500
DTEND;TZID=America/New_York:20281004T131500
DTSTAMP:20260425T071234
CREATED:20250507T154857Z
LAST-MODIFIED:20250507T155521Z
UID:10002297-1854274500-1854278100@yanaclub.com
SUMMARY:No Name
DESCRIPTION:Open / Topic Discussion
URL:https://yanaclub.com/event/no-name/2028-10-04/
CATEGORIES:AA
END:VEVENT
BEGIN:VEVENT
DTSTART;TZID=America/New_York:20281004T173000
DTEND;TZID=America/New_York:20281004T183000
DTSTAMP:20260425T071234
CREATED:20250507T155118Z
LAST-MODIFIED:20250507T155118Z
UID:10003854-1854293400-1854297000@yanaclub.com
SUMMARY:Serenity
DESCRIPTION:Open Discussion
URL:https://yanaclub.com/event/serenity/2028-10-04/
CATEGORIES:AA
END:VEVENT
BEGIN:VEVENT
DTSTART;TZID=America/New_York:20281004T173000
DTEND;TZID=America/New_York:20281004T183000
DTSTAMP:20260425T071234
CREATED:20251027T215053Z
LAST-MODIFIED:20251027T215053Z
UID:10019394-1854293400-1854297000@yanaclub.com
SUMMARY:Keeping an Open Mind
DESCRIPTION:Midweek Al-Anon Open Discussion
URL:https://yanaclub.com/event/keeping-an-open-mind/2028-10-04/
CATEGORIES:AL-ANON,Recurring YANA Events
END:VEVENT
BEGIN:VEVENT
DTSTART;TZID=America/New_York:20281004T190000
DTEND;TZID=America/New_York:20281004T200000
DTSTAMP:20260425T071234
CREATED:20250507T163407Z
LAST-MODIFIED:20250507T163407Z
UID:10016576-1854298800-1854302400@yanaclub.com
SUMMARY:YANA Board of Directors
DESCRIPTION:
URL:https://yanaclub.com/event/yana-board-of-directors/2028-10-04/
CATEGORIES:Recurring YANA Events
END:VEVENT
BEGIN:VEVENT
DTSTART;TZID=America/New_York:20281004T200000
DTEND;TZID=America/New_York:20281004T210000
DTSTAMP:20260425T071234
CREATED:20250507T160652Z
LAST-MODIFIED:20250507T160652Z
UID:10010128-1854302400-1854306000@yanaclub.com
SUMMARY:Grupo Latino
DESCRIPTION:Open / Discussion / Spanish Language
URL:https://yanaclub.com/event/grupo-latino/2028-10-04/
CATEGORIES:AA
END:VEVENT
BEGIN:VEVENT
DTSTART;TZID=America/New_York:20281005T090000
DTEND;TZID=America/New_York:20281005T100000
DTSTAMP:20260425T071234
CREATED:20250507T155840Z
LAST-MODIFIED:20250507T155840Z
UID:10008215-1854349200-1854352800@yanaclub.com
SUMMARY:SANS (Sober Now Sane)
DESCRIPTION:Open / Discussion
URL:https://yanaclub.com/event/sans-sober-now-sane/2028-10-05/
CATEGORIES:AA
END:VEVENT
BEGIN:VEVENT
DTSTART;TZID=America/New_York:20281005T121500
DTEND;TZID=America/New_York:20281005T131500
DTSTAMP:20260425T071234
CREATED:20250507T154857Z
LAST-MODIFIED:20250507T155521Z
UID:10002298-1854360900-1854364500@yanaclub.com
SUMMARY:No Name
DESCRIPTION:Open / Topic Discussion
URL:https://yanaclub.com/event/no-name/2028-10-05/
CATEGORIES:AA
END:VEVENT
BEGIN:VEVENT
DTSTART;TZID=America/New_York:20281005T173000
DTEND;TZID=America/New_York:20281005T183000
DTSTAMP:20260425T071234
CREATED:20250507T155118Z
LAST-MODIFIED:20250507T155118Z
UID:10003855-1854379800-1854383400@yanaclub.com
SUMMARY:Serenity
DESCRIPTION:Open Discussion
URL:https://yanaclub.com/event/serenity/2028-10-05/
CATEGORIES:AA
END:VEVENT
BEGIN:VEVENT
DTSTART;TZID=America/New_York:20281005T184500
DTEND;TZID=America/New_York:20281005T194500
DTSTAMP:20260425T071234
CREATED:20250507T161123Z
LAST-MODIFIED:20250507T161123Z
UID:10011421-1854384300-1854387900@yanaclub.com
SUMMARY:645 YANA Womens
DESCRIPTION:Closed / Topic Discussion / Womens
URL:https://yanaclub.com/event/645-yana-womens/2028-10-05/
CATEGORIES:AA
END:VEVENT
BEGIN:VEVENT
DTSTART;TZID=America/New_York:20281005T200000
DTEND;TZID=America/New_York:20281005T210000
DTSTAMP:20260425T071234
CREATED:20250507T162741Z
LAST-MODIFIED:20250507T162741Z
UID:10015344-1854388800-1854392400@yanaclub.com
SUMMARY:Open Arms
DESCRIPTION:Open / Discussion / How It Works
URL:https://yanaclub.com/event/open-arms/2028-10-05/
CATEGORIES:NA
END:VEVENT
BEGIN:VEVENT
DTSTART;TZID=America/New_York:20281006T090000
DTEND;TZID=America/New_York:20281006T100000
DTSTAMP:20260425T071234
CREATED:20250507T155840Z
LAST-MODIFIED:20250507T155840Z
UID:10008216-1854435600-1854439200@yanaclub.com
SUMMARY:SANS (Sober Now Sane)
DESCRIPTION:Open / Discussion
URL:https://yanaclub.com/event/sans-sober-now-sane/2028-10-06/
CATEGORIES:AA
END:VEVENT
BEGIN:VEVENT
DTSTART;TZID=America/New_York:20281006T121500
DTEND;TZID=America/New_York:20281006T131500
DTSTAMP:20260425T071234
CREATED:20250507T154857Z
LAST-MODIFIED:20250507T155521Z
UID:10002299-1854447300-1854450900@yanaclub.com
SUMMARY:No Name
DESCRIPTION:Open / Topic Discussion
URL:https://yanaclub.com/event/no-name/2028-10-06/
CATEGORIES:AA
END:VEVENT
BEGIN:VEVENT
DTSTART;TZID=America/New_York:20281006T121500
DTEND;TZID=America/New_York:20281006T131500
DTSTAMP:20260425T071234
CREATED:20250507T162126Z
LAST-MODIFIED:20250507T162126Z
UID:10014298-1854447300-1854450900@yanaclub.com
SUMMARY:Friday Luncheon AFG
DESCRIPTION:Closed / Discussion
URL:https://yanaclub.com/event/friday-luncheon-afg-2/2028-10-06/
CATEGORIES:AL-ANON
END:VEVENT
END:VCALENDAR