BEGIN:VCALENDAR
VERSION:2.0
PRODID:-//YANA Club of Hilton Head Island - ECPv6.11.2//NONSGML v1.0//EN
CALSCALE:GREGORIAN
METHOD:PUBLISH
X-ORIGINAL-URL:https://yanaclub.com
X-WR-CALDESC:Events for YANA Club of Hilton Head Island
REFRESH-INTERVAL;VALUE=DURATION:PT1H
X-Robots-Tag:noindex
X-PUBLISHED-TTL:PT1H
BEGIN:VTIMEZONE
TZID:America/New_York
BEGIN:DAYLIGHT
TZOFFSETFROM:-0500
TZOFFSETTO:-0400
TZNAME:EDT
DTSTART:20250309T070000
END:DAYLIGHT
BEGIN:STANDARD
TZOFFSETFROM:-0400
TZOFFSETTO:-0500
TZNAME:EST
DTSTART:20251102T060000
END:STANDARD
END:VTIMEZONE
BEGIN:VEVENT
DTSTART;TZID=America/New_York:20251101T090000
DTEND;TZID=America/New_York:20251101T100000
DTSTAMP:20260421T062705
CREATED:20250502T104804Z
LAST-MODIFIED:20250502T104804Z
UID:10000028-1761987600-1761991200@yanaclub.com
SUMMARY:Saturday Big Book Study
DESCRIPTION:Type: O/BB
URL:https://yanaclub.com/event/saturday-big-book-study/2025-11-01/
CATEGORIES:AA
END:VEVENT
BEGIN:VEVENT
DTSTART;TZID=America/New_York:20251101T121500
DTEND;TZID=America/New_York:20251101T131500
DTSTAMP:20260421T062705
CREATED:20250507T154857Z
LAST-MODIFIED:20250507T155521Z
UID:10001229-1761999300-1762002900@yanaclub.com
SUMMARY:No Name
DESCRIPTION:Open / Topic Discussion
URL:https://yanaclub.com/event/no-name/2025-11-01/
CATEGORIES:AA
END:VEVENT
BEGIN:VEVENT
DTSTART;TZID=America/New_York:20251101T173000
DTEND;TZID=America/New_York:20251101T183000
DTSTAMP:20260421T062705
CREATED:20250507T155250Z
LAST-MODIFIED:20250507T155250Z
UID:10005257-1762018200-1762021800@yanaclub.com
SUMMARY:Serenity 1st Step
DESCRIPTION:Open / Discussion / Beginners
URL:https://yanaclub.com/event/serenity-1st-step/2025-11-01/
CATEGORIES:AA
END:VEVENT
BEGIN:VEVENT
DTSTART;TZID=America/New_York:20251101T200000
DTEND;TZID=America/New_York:20251101T210000
DTSTAMP:20260421T062705
CREATED:20250507T160652Z
LAST-MODIFIED:20250507T160652Z
UID:10009518-1762027200-1762030800@yanaclub.com
SUMMARY:Grupo Latino
DESCRIPTION:Open / Discussion / Spanish Language
URL:https://yanaclub.com/event/grupo-latino/2025-11-01/
CATEGORIES:AA
END:VEVENT
BEGIN:VEVENT
DTSTART;TZID=America/New_York:20251102T080000
DTEND;TZID=America/New_York:20251102T090000
DTSTAMP:20260421T062705
CREATED:20250507T163100Z
LAST-MODIFIED:20250507T163100Z
UID:10015715-1762070400-1762074000@yanaclub.com
SUMMARY:YANA Sunday Breakfast
DESCRIPTION:
URL:https://yanaclub.com/event/yana-sunday-breakfast/2025-11-02/
CATEGORIES:Recurring YANA Events
END:VEVENT
BEGIN:VEVENT
DTSTART;TZID=America/New_York:20251102T090000
DTEND;TZID=America/New_York:20251102T100000
DTSTAMP:20260421T062705
CREATED:20250507T161539Z
LAST-MODIFIED:20250507T161540Z
UID:10012312-1762074000-1762077600@yanaclub.com
SUMMARY:Breakfast Club
DESCRIPTION:Open /  Speaker Meeting
URL:https://yanaclub.com/event/breakfast-club-2/2025-11-02/
CATEGORIES:AA
END:VEVENT
BEGIN:VEVENT
DTSTART;TZID=America/New_York:20251102T121500
DTEND;TZID=America/New_York:20251102T131500
DTSTAMP:20260421T062705
CREATED:20250507T154857Z
LAST-MODIFIED:20250507T155521Z
UID:10001230-1762085700-1762089300@yanaclub.com
SUMMARY:No Name
DESCRIPTION:Open / Topic Discussion
URL:https://yanaclub.com/event/no-name/2025-11-02/
CATEGORIES:AA
END:VEVENT
BEGIN:VEVENT
DTSTART;TZID=America/New_York:20251102T140000
DTEND;TZID=America/New_York:20251102T140000
DTSTAMP:20260421T062705
CREATED:20250507T161804Z
LAST-MODIFIED:20250507T161804Z
UID:10012836-1762092000-1762092000@yanaclub.com
SUMMARY:Hilton Head ACA
DESCRIPTION:Open / Discussion
URL:https://yanaclub.com/event/hilton-head-aca/2025-11-02/
CATEGORIES:ACA
END:VEVENT
BEGIN:VEVENT
DTSTART;TZID=America/New_York:20251102T153000
DTEND;TZID=America/New_York:20251102T163000
DTSTAMP:20260421T062705
CREATED:20250708T225544Z
LAST-MODIFIED:20251118T002430Z
UID:10017146-1762097400-1762101000@yanaclub.com
SUMMARY:Carolina Recovery MARA
DESCRIPTION:Open Literature Discussion
URL:https://yanaclub.com/event/carolina-mara/2025-11-02/
CATEGORIES:MARA
END:VEVENT
BEGIN:VEVENT
DTSTART;TZID=America/New_York:20251102T183000
DTEND;TZID=America/New_York:20251102T193000
DTSTAMP:20260421T062705
CREATED:20250507T161940Z
LAST-MODIFIED:20250507T161940Z
UID:10013360-1762108200-1762111800@yanaclub.com
SUMMARY:Principles Above Personalities
DESCRIPTION:Closed / Discussion
URL:https://yanaclub.com/event/principles-above-personalities/2025-11-02/
CATEGORIES:AL-ANON
END:VEVENT
BEGIN:VEVENT
DTSTART;TZID=America/New_York:20251102T200000
DTEND;TZID=America/New_York:20251102T210000
DTSTAMP:20260421T062705
CREATED:20250507T162245Z
LAST-MODIFIED:20250513T163108Z
UID:10016622-1762113600-1762117200@yanaclub.com
SUMMARY:Open Arms
DESCRIPTION:
URL:https://yanaclub.com/event/crockpot-meeting-2/2025-11-02/
CATEGORIES:NA
END:VEVENT
BEGIN:VEVENT
DTSTART;TZID=America/New_York:20251103T090000
DTEND;TZID=America/New_York:20251103T100000
DTSTAMP:20260421T062705
CREATED:20250507T155840Z
LAST-MODIFIED:20250507T155840Z
UID:10007452-1762160400-1762164000@yanaclub.com
SUMMARY:SANS (Sober Now Sane)
DESCRIPTION:Open / Discussion
URL:https://yanaclub.com/event/sans-sober-now-sane/2025-11-03/
CATEGORIES:AA
END:VEVENT
BEGIN:VEVENT
DTSTART;TZID=America/New_York:20251103T121500
DTEND;TZID=America/New_York:20251103T131500
DTSTAMP:20260421T062705
CREATED:20250507T154857Z
LAST-MODIFIED:20250507T155521Z
UID:10001231-1762172100-1762175700@yanaclub.com
SUMMARY:No Name
DESCRIPTION:Open / Topic Discussion
URL:https://yanaclub.com/event/no-name/2025-11-03/
CATEGORIES:AA
END:VEVENT
BEGIN:VEVENT
DTSTART;TZID=America/New_York:20251103T173000
DTEND;TZID=America/New_York:20251103T183000
DTSTAMP:20260421T062705
CREATED:20250507T155118Z
LAST-MODIFIED:20250507T155118Z
UID:10003244-1762191000-1762194600@yanaclub.com
SUMMARY:Serenity
DESCRIPTION:Open Discussion
URL:https://yanaclub.com/event/serenity/2025-11-03/
CATEGORIES:AA
END:VEVENT
BEGIN:VEVENT
DTSTART;TZID=America/New_York:20251104T090000
DTEND;TZID=America/New_York:20251104T100000
DTSTAMP:20260421T062705
CREATED:20250507T155840Z
LAST-MODIFIED:20250507T155840Z
UID:10007453-1762246800-1762250400@yanaclub.com
SUMMARY:SANS (Sober Now Sane)
DESCRIPTION:Open / Discussion
URL:https://yanaclub.com/event/sans-sober-now-sane/2025-11-04/
CATEGORIES:AA
END:VEVENT
BEGIN:VEVENT
DTSTART;TZID=America/New_York:20251104T121500
DTEND;TZID=America/New_York:20251104T131500
DTSTAMP:20260421T062705
CREATED:20250507T154857Z
LAST-MODIFIED:20250507T155521Z
UID:10001232-1762258500-1762262100@yanaclub.com
SUMMARY:No Name
DESCRIPTION:Open / Topic Discussion
URL:https://yanaclub.com/event/no-name/2025-11-04/
CATEGORIES:AA
END:VEVENT
BEGIN:VEVENT
DTSTART;TZID=America/New_York:20251104T173000
DTEND;TZID=America/New_York:20251104T183000
DTSTAMP:20260421T062705
CREATED:20250507T155118Z
LAST-MODIFIED:20250507T155118Z
UID:10003245-1762277400-1762281000@yanaclub.com
SUMMARY:Serenity
DESCRIPTION:Open Discussion
URL:https://yanaclub.com/event/serenity/2025-11-04/
CATEGORIES:AA
END:VEVENT
BEGIN:VEVENT
DTSTART;TZID=America/New_York:20251104T190000
DTEND;TZID=America/New_York:20251104T200000
DTSTAMP:20260421T062705
CREATED:20250507T160104Z
LAST-MODIFIED:20250507T160104Z
UID:10008656-1762282800-1762286400@yanaclub.com
SUMMARY:Mens Back to Basics
DESCRIPTION:Closed / Discussion / Mens
URL:https://yanaclub.com/event/mens-back-to-basics/2025-11-04/
CATEGORIES:AA
END:VEVENT
BEGIN:VEVENT
DTSTART;TZID=America/New_York:20251104T200000
DTEND;TZID=America/New_York:20251104T210000
DTSTAMP:20260421T062705
CREATED:20250507T160652Z
LAST-MODIFIED:20250507T160652Z
UID:10009519-1762286400-1762290000@yanaclub.com
SUMMARY:Grupo Latino
DESCRIPTION:Open / Discussion / Spanish Language
URL:https://yanaclub.com/event/grupo-latino/2025-11-04/
CATEGORIES:AA
END:VEVENT
BEGIN:VEVENT
DTSTART;TZID=America/New_York:20251105T070000
DTEND;TZID=America/New_York:20251105T080000
DTSTAMP:20260421T062705
CREATED:20250507T160920Z
LAST-MODIFIED:20250507T160920Z
UID:10010747-1762326000-1762329600@yanaclub.com
SUMMARY:Design for Living
DESCRIPTION:Closed / Discussion
URL:https://yanaclub.com/event/design-for-living/2025-11-05/
CATEGORIES:AA
END:VEVENT
BEGIN:VEVENT
DTSTART;TZID=America/New_York:20251105T090000
DTEND;TZID=America/New_York:20251105T100000
DTSTAMP:20260421T062705
CREATED:20250507T155840Z
LAST-MODIFIED:20250507T155840Z
UID:10007454-1762333200-1762336800@yanaclub.com
SUMMARY:SANS (Sober Now Sane)
DESCRIPTION:Open / Discussion
URL:https://yanaclub.com/event/sans-sober-now-sane/2025-11-05/
CATEGORIES:AA
END:VEVENT
BEGIN:VEVENT
DTSTART;TZID=America/New_York:20251105T121500
DTEND;TZID=America/New_York:20251105T131500
DTSTAMP:20260421T062705
CREATED:20250507T154857Z
LAST-MODIFIED:20250507T155521Z
UID:10001233-1762344900-1762348500@yanaclub.com
SUMMARY:No Name
DESCRIPTION:Open / Topic Discussion
URL:https://yanaclub.com/event/no-name/2025-11-05/
CATEGORIES:AA
END:VEVENT
BEGIN:VEVENT
DTSTART;TZID=America/New_York:20251105T173000
DTEND;TZID=America/New_York:20251105T183000
DTSTAMP:20260421T062705
CREATED:20250507T155118Z
LAST-MODIFIED:20250507T155118Z
UID:10003246-1762363800-1762367400@yanaclub.com
SUMMARY:Serenity
DESCRIPTION:Open Discussion
URL:https://yanaclub.com/event/serenity/2025-11-05/
CATEGORIES:AA
END:VEVENT
BEGIN:VEVENT
DTSTART;TZID=America/New_York:20251105T173000
DTEND;TZID=America/New_York:20251105T183000
DTSTAMP:20260421T062705
CREATED:20251027T215053Z
LAST-MODIFIED:20251027T215053Z
UID:10019242-1762363800-1762367400@yanaclub.com
SUMMARY:Keeping an Open Mind
DESCRIPTION:Midweek Al-Anon Open Discussion
URL:https://yanaclub.com/event/keeping-an-open-mind/2025-11-05/
CATEGORIES:AL-ANON,Recurring YANA Events
END:VEVENT
BEGIN:VEVENT
DTSTART;TZID=America/New_York:20251105T190000
DTEND;TZID=America/New_York:20251105T200000
DTSTAMP:20260421T062705
CREATED:20250507T163407Z
LAST-MODIFIED:20250507T163407Z
UID:10016541-1762369200-1762372800@yanaclub.com
SUMMARY:YANA Board of Directors
DESCRIPTION:
URL:https://yanaclub.com/event/yana-board-of-directors/2025-11-05/
CATEGORIES:Recurring YANA Events
END:VEVENT
BEGIN:VEVENT
DTSTART;TZID=America/New_York:20251105T200000
DTEND;TZID=America/New_York:20251105T210000
DTSTAMP:20260421T062705
CREATED:20250507T160652Z
LAST-MODIFIED:20250507T160652Z
UID:10009520-1762372800-1762376400@yanaclub.com
SUMMARY:Grupo Latino
DESCRIPTION:Open / Discussion / Spanish Language
URL:https://yanaclub.com/event/grupo-latino/2025-11-05/
CATEGORIES:AA
END:VEVENT
BEGIN:VEVENT
DTSTART;TZID=America/New_York:20251106T090000
DTEND;TZID=America/New_York:20251106T100000
DTSTAMP:20260421T062705
CREATED:20250507T155840Z
LAST-MODIFIED:20250507T155840Z
UID:10007455-1762419600-1762423200@yanaclub.com
SUMMARY:SANS (Sober Now Sane)
DESCRIPTION:Open / Discussion
URL:https://yanaclub.com/event/sans-sober-now-sane/2025-11-06/
CATEGORIES:AA
END:VEVENT
BEGIN:VEVENT
DTSTART;TZID=America/New_York:20251106T121500
DTEND;TZID=America/New_York:20251106T131500
DTSTAMP:20260421T062705
CREATED:20250507T154857Z
LAST-MODIFIED:20250507T155521Z
UID:10001234-1762431300-1762434900@yanaclub.com
SUMMARY:No Name
DESCRIPTION:Open / Topic Discussion
URL:https://yanaclub.com/event/no-name/2025-11-06/
CATEGORIES:AA
END:VEVENT
BEGIN:VEVENT
DTSTART;TZID=America/New_York:20251106T173000
DTEND;TZID=America/New_York:20251106T183000
DTSTAMP:20260421T062705
CREATED:20250507T155118Z
LAST-MODIFIED:20250507T155118Z
UID:10003247-1762450200-1762453800@yanaclub.com
SUMMARY:Serenity
DESCRIPTION:Open Discussion
URL:https://yanaclub.com/event/serenity/2025-11-06/
CATEGORIES:AA
END:VEVENT
BEGIN:VEVENT
DTSTART;TZID=America/New_York:20251106T184500
DTEND;TZID=America/New_York:20251106T194500
DTSTAMP:20260421T062705
CREATED:20250507T161123Z
LAST-MODIFIED:20250507T161123Z
UID:10011269-1762454700-1762458300@yanaclub.com
SUMMARY:645 YANA Womens
DESCRIPTION:Closed / Topic Discussion / Womens
URL:https://yanaclub.com/event/645-yana-womens/2025-11-06/
CATEGORIES:AA
END:VEVENT
END:VCALENDAR