BEGIN:VCALENDAR
VERSION:2.0
PRODID:-//YANA Club of Hilton Head Island - ECPv6.11.2//NONSGML v1.0//EN
CALSCALE:GREGORIAN
METHOD:PUBLISH
X-WR-CALNAME:YANA Club of Hilton Head Island
X-ORIGINAL-URL:https://yanaclub.com
X-WR-CALDESC:Events for YANA Club of Hilton Head Island
REFRESH-INTERVAL;VALUE=DURATION:PT1H
X-Robots-Tag:noindex
X-PUBLISHED-TTL:PT1H
BEGIN:VTIMEZONE
TZID:America/New_York
BEGIN:DAYLIGHT
TZOFFSETFROM:-0500
TZOFFSETTO:-0400
TZNAME:EDT
DTSTART:20250309T070000
END:DAYLIGHT
BEGIN:STANDARD
TZOFFSETFROM:-0400
TZOFFSETTO:-0500
TZNAME:EST
DTSTART:20251102T060000
END:STANDARD
END:VTIMEZONE
BEGIN:VEVENT
DTSTART;TZID=America/New_York:20250803T080000
DTEND;TZID=America/New_York:20250803T090000
DTSTAMP:20260422T011415
CREATED:20250507T163100Z
LAST-MODIFIED:20250507T163100Z
UID:10015702-1754208000-1754211600@yanaclub.com
SUMMARY:YANA Sunday Breakfast
DESCRIPTION:
URL:https://yanaclub.com/event/yana-sunday-breakfast/2025-08-03/
CATEGORIES:Recurring YANA Events
END:VEVENT
BEGIN:VEVENT
DTSTART;TZID=America/New_York:20250727T080000
DTEND;TZID=America/New_York:20250727T090000
DTSTAMP:20260422T011415
CREATED:20250507T163100Z
LAST-MODIFIED:20250507T163100Z
UID:10015701-1753603200-1753606800@yanaclub.com
SUMMARY:YANA Sunday Breakfast
DESCRIPTION:
URL:https://yanaclub.com/event/yana-sunday-breakfast/2025-07-27/
CATEGORIES:Recurring YANA Events
END:VEVENT
BEGIN:VEVENT
DTSTART;TZID=America/New_York:20250720T080000
DTEND;TZID=America/New_York:20250720T090000
DTSTAMP:20260422T011415
CREATED:20250507T163100Z
LAST-MODIFIED:20250507T163100Z
UID:10015700-1752998400-1753002000@yanaclub.com
SUMMARY:YANA Sunday Breakfast
DESCRIPTION:
URL:https://yanaclub.com/event/yana-sunday-breakfast/2025-07-20/
CATEGORIES:Recurring YANA Events
END:VEVENT
BEGIN:VEVENT
DTSTART;TZID=America/New_York:20250713T080000
DTEND;TZID=America/New_York:20250713T090000
DTSTAMP:20260422T011415
CREATED:20250507T163100Z
LAST-MODIFIED:20250507T163100Z
UID:10015699-1752393600-1752397200@yanaclub.com
SUMMARY:YANA Sunday Breakfast
DESCRIPTION:
URL:https://yanaclub.com/event/yana-sunday-breakfast/2025-07-13/
CATEGORIES:Recurring YANA Events
END:VEVENT
BEGIN:VEVENT
DTSTART;TZID=America/New_York:20250708T184500
DTEND;TZID=America/New_York:20250708T194500
DTSTAMP:20260422T011415
CREATED:20250507T163304Z
LAST-MODIFIED:20250507T163304Z
UID:10016215-1752000300-1752003900@yanaclub.com
SUMMARY:Midwinter Conference Planning
DESCRIPTION:
URL:https://yanaclub.com/event/midwinter-conference-planning/2025-07-08/
CATEGORIES:Recurring YANA Events
END:VEVENT
BEGIN:VEVENT
DTSTART;TZID=America/New_York:20250706T080000
DTEND;TZID=America/New_York:20250706T090000
DTSTAMP:20260422T011415
CREATED:20250507T163100Z
LAST-MODIFIED:20250507T163100Z
UID:10015698-1751788800-1751792400@yanaclub.com
SUMMARY:YANA Sunday Breakfast
DESCRIPTION:
URL:https://yanaclub.com/event/yana-sunday-breakfast/2025-07-06/
CATEGORIES:Recurring YANA Events
END:VEVENT
BEGIN:VEVENT
DTSTART;TZID=America/New_York:20250702T190000
DTEND;TZID=America/New_York:20250702T200000
DTSTAMP:20260422T011415
CREATED:20250507T163407Z
LAST-MODIFIED:20250507T163407Z
UID:10016537-1751482800-1751486400@yanaclub.com
SUMMARY:YANA Board of Directors
DESCRIPTION:
URL:https://yanaclub.com/event/yana-board-of-directors/2025-07-02/
CATEGORIES:Recurring YANA Events
END:VEVENT
BEGIN:VEVENT
DTSTART;TZID=America/New_York:20250629T080000
DTEND;TZID=America/New_York:20250629T090000
DTSTAMP:20260422T011415
CREATED:20250507T163100Z
LAST-MODIFIED:20250507T163100Z
UID:10015697-1751184000-1751187600@yanaclub.com
SUMMARY:YANA Sunday Breakfast
DESCRIPTION:
URL:https://yanaclub.com/event/yana-sunday-breakfast/2025-06-29/
CATEGORIES:Recurring YANA Events
END:VEVENT
BEGIN:VEVENT
DTSTART;TZID=America/New_York:20250622T080000
DTEND;TZID=America/New_York:20250622T090000
DTSTAMP:20260422T011415
CREATED:20250507T163100Z
LAST-MODIFIED:20250507T163100Z
UID:10015696-1750579200-1750582800@yanaclub.com
SUMMARY:YANA Sunday Breakfast
DESCRIPTION:
URL:https://yanaclub.com/event/yana-sunday-breakfast/2025-06-22/
CATEGORIES:Recurring YANA Events
END:VEVENT
BEGIN:VEVENT
DTSTART;TZID=America/New_York:20250615T080000
DTEND;TZID=America/New_York:20250615T090000
DTSTAMP:20260422T011415
CREATED:20250507T163100Z
LAST-MODIFIED:20250507T163100Z
UID:10015695-1749974400-1749978000@yanaclub.com
SUMMARY:YANA Sunday Breakfast
DESCRIPTION:
URL:https://yanaclub.com/event/yana-sunday-breakfast/2025-06-15/
CATEGORIES:Recurring YANA Events
END:VEVENT
BEGIN:VEVENT
DTSTART;TZID=America/New_York:20250610T184500
DTEND;TZID=America/New_York:20250610T194500
DTSTAMP:20260422T011415
CREATED:20250507T163304Z
LAST-MODIFIED:20250507T163304Z
UID:10016214-1749581100-1749584700@yanaclub.com
SUMMARY:Midwinter Conference Planning
DESCRIPTION:
URL:https://yanaclub.com/event/midwinter-conference-planning/2025-06-10/
CATEGORIES:Recurring YANA Events
END:VEVENT
BEGIN:VEVENT
DTSTART;TZID=America/New_York:20250608T080000
DTEND;TZID=America/New_York:20250608T090000
DTSTAMP:20260422T011415
CREATED:20250507T163100Z
LAST-MODIFIED:20250507T163100Z
UID:10015694-1749369600-1749373200@yanaclub.com
SUMMARY:YANA Sunday Breakfast
DESCRIPTION:
URL:https://yanaclub.com/event/yana-sunday-breakfast/2025-06-08/
CATEGORIES:Recurring YANA Events
END:VEVENT
BEGIN:VEVENT
DTSTART;TZID=America/New_York:20250604T190000
DTEND;TZID=America/New_York:20250604T200000
DTSTAMP:20260422T011415
CREATED:20250507T163407Z
LAST-MODIFIED:20250507T163407Z
UID:10016536-1749063600-1749067200@yanaclub.com
SUMMARY:YANA Board of Directors
DESCRIPTION:
URL:https://yanaclub.com/event/yana-board-of-directors/2025-06-04/
CATEGORIES:Recurring YANA Events
END:VEVENT
BEGIN:VEVENT
DTSTART;TZID=America/New_York:20250601T080000
DTEND;TZID=America/New_York:20250601T090000
DTSTAMP:20260422T011415
CREATED:20250507T163100Z
LAST-MODIFIED:20250507T163100Z
UID:10015693-1748764800-1748768400@yanaclub.com
SUMMARY:YANA Sunday Breakfast
DESCRIPTION:
URL:https://yanaclub.com/event/yana-sunday-breakfast/2025-06-01/
CATEGORIES:Recurring YANA Events
END:VEVENT
BEGIN:VEVENT
DTSTART;TZID=America/New_York:20250525T080000
DTEND;TZID=America/New_York:20250525T090000
DTSTAMP:20260422T011415
CREATED:20250507T163100Z
LAST-MODIFIED:20250507T163100Z
UID:10015692-1748160000-1748163600@yanaclub.com
SUMMARY:YANA Sunday Breakfast
DESCRIPTION:
URL:https://yanaclub.com/event/yana-sunday-breakfast/2025-05-25/
CATEGORIES:Recurring YANA Events
END:VEVENT
BEGIN:VEVENT
DTSTART;TZID=America/New_York:20250518T080000
DTEND;TZID=America/New_York:20250518T090000
DTSTAMP:20260422T011415
CREATED:20250507T163100Z
LAST-MODIFIED:20250507T163100Z
UID:10015691-1747555200-1747558800@yanaclub.com
SUMMARY:YANA Sunday Breakfast
DESCRIPTION:
URL:https://yanaclub.com/event/yana-sunday-breakfast/2025-05-18/
CATEGORIES:Recurring YANA Events
END:VEVENT
BEGIN:VEVENT
DTSTART;TZID=America/New_York:20250513T184500
DTEND;TZID=America/New_York:20250513T194500
DTSTAMP:20260422T011415
CREATED:20250507T163304Z
LAST-MODIFIED:20250507T163304Z
UID:10016213-1747161900-1747165500@yanaclub.com
SUMMARY:Midwinter Conference Planning
DESCRIPTION:
URL:https://yanaclub.com/event/midwinter-conference-planning/2025-05-13/
CATEGORIES:Recurring YANA Events
END:VEVENT
BEGIN:VEVENT
DTSTART;TZID=America/New_York:20250511T080000
DTEND;TZID=America/New_York:20250511T090000
DTSTAMP:20260422T011415
CREATED:20250507T163100Z
LAST-MODIFIED:20250507T163100Z
UID:10015690-1746950400-1746954000@yanaclub.com
SUMMARY:YANA Sunday Breakfast
DESCRIPTION:
URL:https://yanaclub.com/event/yana-sunday-breakfast/2025-05-11/
CATEGORIES:Recurring YANA Events
END:VEVENT
BEGIN:VEVENT
DTSTART;TZID=America/New_York:20250507T190000
DTEND;TZID=America/New_York:20250507T200000
DTSTAMP:20260422T011415
CREATED:20250507T163407Z
LAST-MODIFIED:20250507T163407Z
UID:10016535-1746644400-1746648000@yanaclub.com
SUMMARY:YANA Board of Directors
DESCRIPTION:
URL:https://yanaclub.com/event/yana-board-of-directors/2025-05-07/
CATEGORIES:Recurring YANA Events
END:VEVENT
BEGIN:VEVENT
DTSTART;TZID=America/New_York:20250504T080000
DTEND;TZID=America/New_York:20250504T090000
DTSTAMP:20260422T011415
CREATED:20250507T163100Z
LAST-MODIFIED:20250507T163100Z
UID:10015689-1746345600-1746349200@yanaclub.com
SUMMARY:YANA Sunday Breakfast
DESCRIPTION:
URL:https://yanaclub.com/event/yana-sunday-breakfast/2025-05-04/
CATEGORIES:Recurring YANA Events
END:VEVENT
END:VCALENDAR