BEGIN:VCALENDAR
VERSION:2.0
PRODID:-//YANA Club of Hilton Head Island - ECPv6.11.2//NONSGML v1.0//EN
CALSCALE:GREGORIAN
METHOD:PUBLISH
X-ORIGINAL-URL:https://yanaclub.com
X-WR-CALDESC:Events for YANA Club of Hilton Head Island
REFRESH-INTERVAL;VALUE=DURATION:PT1H
X-Robots-Tag:noindex
X-PUBLISHED-TTL:PT1H
BEGIN:VTIMEZONE
TZID:America/New_York
BEGIN:DAYLIGHT
TZOFFSETFROM:-0500
TZOFFSETTO:-0400
TZNAME:EDT
DTSTART:20250309T070000
END:DAYLIGHT
BEGIN:STANDARD
TZOFFSETFROM:-0400
TZOFFSETTO:-0500
TZNAME:EST
DTSTART:20251102T060000
END:STANDARD
BEGIN:DAYLIGHT
TZOFFSETFROM:-0500
TZOFFSETTO:-0400
TZNAME:EDT
DTSTART:20260308T070000
END:DAYLIGHT
BEGIN:STANDARD
TZOFFSETFROM:-0400
TZOFFSETTO:-0500
TZNAME:EST
DTSTART:20261101T060000
END:STANDARD
END:VTIMEZONE
BEGIN:VEVENT
DTSTART;TZID=America/New_York:20260107T190000
DTEND;TZID=America/New_York:20260107T200000
DTSTAMP:20260421T191423
CREATED:20250507T163407Z
LAST-MODIFIED:20250507T163407Z
UID:10016543-1767812400-1767816000@yanaclub.com
SUMMARY:YANA Board of Directors
DESCRIPTION:
URL:https://yanaclub.com/event/yana-board-of-directors/2026-01-07/
CATEGORIES:Recurring YANA Events
END:VEVENT
BEGIN:VEVENT
DTSTART;TZID=America/New_York:20260107T173000
DTEND;TZID=America/New_York:20260107T183000
DTSTAMP:20260421T191423
CREATED:20251027T215053Z
LAST-MODIFIED:20251027T215053Z
UID:10019251-1767807000-1767810600@yanaclub.com
SUMMARY:Keeping an Open Mind
DESCRIPTION:Midweek Al-Anon Open Discussion
URL:https://yanaclub.com/event/keeping-an-open-mind/2026-01-07/
CATEGORIES:AL-ANON,Recurring YANA Events
END:VEVENT
BEGIN:VEVENT
DTSTART;TZID=America/New_York:20260104T080000
DTEND;TZID=America/New_York:20260104T090000
DTSTAMP:20260421T191423
CREATED:20250507T163100Z
LAST-MODIFIED:20250507T163100Z
UID:10015724-1767513600-1767517200@yanaclub.com
SUMMARY:YANA Sunday Breakfast
DESCRIPTION:
URL:https://yanaclub.com/event/yana-sunday-breakfast/2026-01-04/
CATEGORIES:Recurring YANA Events
END:VEVENT
BEGIN:VEVENT
DTSTART;TZID=America/New_York:20251231T173000
DTEND;TZID=America/New_York:20251231T183000
DTSTAMP:20260421T191423
CREATED:20251027T215053Z
LAST-MODIFIED:20251027T215053Z
UID:10019250-1767202200-1767205800@yanaclub.com
SUMMARY:Keeping an Open Mind
DESCRIPTION:Midweek Al-Anon Open Discussion
URL:https://yanaclub.com/event/keeping-an-open-mind/2025-12-31/
CATEGORIES:AL-ANON,Recurring YANA Events
END:VEVENT
BEGIN:VEVENT
DTSTART;TZID=America/New_York:20251228T080000
DTEND;TZID=America/New_York:20251228T090000
DTSTAMP:20260421T191423
CREATED:20250507T163100Z
LAST-MODIFIED:20250507T163100Z
UID:10015723-1766908800-1766912400@yanaclub.com
SUMMARY:YANA Sunday Breakfast
DESCRIPTION:
URL:https://yanaclub.com/event/yana-sunday-breakfast/2025-12-28/
CATEGORIES:Recurring YANA Events
END:VEVENT
BEGIN:VEVENT
DTSTART;TZID=America/New_York:20251224T173000
DTEND;TZID=America/New_York:20251224T183000
DTSTAMP:20260421T191423
CREATED:20251027T215053Z
LAST-MODIFIED:20251027T215053Z
UID:10019249-1766597400-1766601000@yanaclub.com
SUMMARY:Keeping an Open Mind
DESCRIPTION:Midweek Al-Anon Open Discussion
URL:https://yanaclub.com/event/keeping-an-open-mind/2025-12-24/
CATEGORIES:AL-ANON,Recurring YANA Events
END:VEVENT
BEGIN:VEVENT
DTSTART;TZID=America/New_York:20251221T080000
DTEND;TZID=America/New_York:20251221T090000
DTSTAMP:20260421T191423
CREATED:20250507T163100Z
LAST-MODIFIED:20250507T163100Z
UID:10015722-1766304000-1766307600@yanaclub.com
SUMMARY:YANA Sunday Breakfast
DESCRIPTION:
URL:https://yanaclub.com/event/yana-sunday-breakfast/2025-12-21/
CATEGORIES:Recurring YANA Events
END:VEVENT
BEGIN:VEVENT
DTSTART;TZID=America/New_York:20251217T173000
DTEND;TZID=America/New_York:20251217T183000
DTSTAMP:20260421T191423
CREATED:20251027T215053Z
LAST-MODIFIED:20251027T215053Z
UID:10019248-1765992600-1765996200@yanaclub.com
SUMMARY:Keeping an Open Mind
DESCRIPTION:Midweek Al-Anon Open Discussion
URL:https://yanaclub.com/event/keeping-an-open-mind/2025-12-17/
CATEGORIES:AL-ANON,Recurring YANA Events
END:VEVENT
BEGIN:VEVENT
DTSTART;TZID=America/New_York:20251214T080000
DTEND;TZID=America/New_York:20251214T090000
DTSTAMP:20260421T191423
CREATED:20250507T163100Z
LAST-MODIFIED:20250507T163100Z
UID:10015721-1765699200-1765702800@yanaclub.com
SUMMARY:YANA Sunday Breakfast
DESCRIPTION:
URL:https://yanaclub.com/event/yana-sunday-breakfast/2025-12-14/
CATEGORIES:Recurring YANA Events
END:VEVENT
BEGIN:VEVENT
DTSTART;TZID=America/New_York:20251210T173000
DTEND;TZID=America/New_York:20251210T183000
DTSTAMP:20260421T191423
CREATED:20251027T215053Z
LAST-MODIFIED:20251027T215053Z
UID:10019247-1765387800-1765391400@yanaclub.com
SUMMARY:Keeping an Open Mind
DESCRIPTION:Midweek Al-Anon Open Discussion
URL:https://yanaclub.com/event/keeping-an-open-mind/2025-12-10/
CATEGORIES:AL-ANON,Recurring YANA Events
END:VEVENT
BEGIN:VEVENT
DTSTART;TZID=America/New_York:20251209T184500
DTEND;TZID=America/New_York:20251209T194500
DTSTAMP:20260421T191423
CREATED:20250507T163304Z
LAST-MODIFIED:20250507T163304Z
UID:10016220-1765305900-1765309500@yanaclub.com
SUMMARY:Midwinter Conference Planning
DESCRIPTION:
URL:https://yanaclub.com/event/midwinter-conference-planning/2025-12-09/
CATEGORIES:Recurring YANA Events
END:VEVENT
BEGIN:VEVENT
DTSTART;TZID=America/New_York:20251207T080000
DTEND;TZID=America/New_York:20251207T090000
DTSTAMP:20260421T191423
CREATED:20250507T163100Z
LAST-MODIFIED:20250507T163100Z
UID:10015720-1765094400-1765098000@yanaclub.com
SUMMARY:YANA Sunday Breakfast
DESCRIPTION:
URL:https://yanaclub.com/event/yana-sunday-breakfast/2025-12-07/
CATEGORIES:Recurring YANA Events
END:VEVENT
BEGIN:VEVENT
DTSTART;TZID=America/New_York:20251203T190000
DTEND;TZID=America/New_York:20251203T200000
DTSTAMP:20260421T191423
CREATED:20250507T163407Z
LAST-MODIFIED:20250507T163407Z
UID:10016542-1764788400-1764792000@yanaclub.com
SUMMARY:YANA Board of Directors
DESCRIPTION:
URL:https://yanaclub.com/event/yana-board-of-directors/2025-12-03/
CATEGORIES:Recurring YANA Events
END:VEVENT
BEGIN:VEVENT
DTSTART;TZID=America/New_York:20251203T173000
DTEND;TZID=America/New_York:20251203T183000
DTSTAMP:20260421T191423
CREATED:20251027T215053Z
LAST-MODIFIED:20251027T215053Z
UID:10019246-1764783000-1764786600@yanaclub.com
SUMMARY:Keeping an Open Mind
DESCRIPTION:Midweek Al-Anon Open Discussion
URL:https://yanaclub.com/event/keeping-an-open-mind/2025-12-03/
CATEGORIES:AL-ANON,Recurring YANA Events
END:VEVENT
BEGIN:VEVENT
DTSTART;TZID=America/New_York:20251130T080000
DTEND;TZID=America/New_York:20251130T090000
DTSTAMP:20260421T191423
CREATED:20250507T163100Z
LAST-MODIFIED:20250507T163100Z
UID:10015719-1764489600-1764493200@yanaclub.com
SUMMARY:YANA Sunday Breakfast
DESCRIPTION:
URL:https://yanaclub.com/event/yana-sunday-breakfast/2025-11-30/
CATEGORIES:Recurring YANA Events
END:VEVENT
BEGIN:VEVENT
DTSTART;TZID=America/New_York:20251126T173000
DTEND;TZID=America/New_York:20251126T183000
DTSTAMP:20260421T191423
CREATED:20251027T215053Z
LAST-MODIFIED:20251027T215053Z
UID:10019245-1764178200-1764181800@yanaclub.com
SUMMARY:Keeping an Open Mind
DESCRIPTION:Midweek Al-Anon Open Discussion
URL:https://yanaclub.com/event/keeping-an-open-mind/2025-11-26/
CATEGORIES:AL-ANON,Recurring YANA Events
END:VEVENT
BEGIN:VEVENT
DTSTART;TZID=America/New_York:20251123T080000
DTEND;TZID=America/New_York:20251123T090000
DTSTAMP:20260421T191423
CREATED:20250507T163100Z
LAST-MODIFIED:20250507T163100Z
UID:10015718-1763884800-1763888400@yanaclub.com
SUMMARY:YANA Sunday Breakfast
DESCRIPTION:
URL:https://yanaclub.com/event/yana-sunday-breakfast/2025-11-23/
CATEGORIES:Recurring YANA Events
END:VEVENT
BEGIN:VEVENT
DTSTART;TZID=America/New_York:20251119T173000
DTEND;TZID=America/New_York:20251119T183000
DTSTAMP:20260421T191423
CREATED:20251027T215053Z
LAST-MODIFIED:20251027T215053Z
UID:10019244-1763573400-1763577000@yanaclub.com
SUMMARY:Keeping an Open Mind
DESCRIPTION:Midweek Al-Anon Open Discussion
URL:https://yanaclub.com/event/keeping-an-open-mind/2025-11-19/
CATEGORIES:AL-ANON,Recurring YANA Events
END:VEVENT
BEGIN:VEVENT
DTSTART;TZID=America/New_York:20251116T080000
DTEND;TZID=America/New_York:20251116T090000
DTSTAMP:20260421T191423
CREATED:20250507T163100Z
LAST-MODIFIED:20250507T163100Z
UID:10015717-1763280000-1763283600@yanaclub.com
SUMMARY:YANA Sunday Breakfast
DESCRIPTION:
URL:https://yanaclub.com/event/yana-sunday-breakfast/2025-11-16/
CATEGORIES:Recurring YANA Events
END:VEVENT
BEGIN:VEVENT
DTSTART;TZID=America/New_York:20251112T173000
DTEND;TZID=America/New_York:20251112T183000
DTSTAMP:20260421T191423
CREATED:20251027T215053Z
LAST-MODIFIED:20251027T215053Z
UID:10019243-1762968600-1762972200@yanaclub.com
SUMMARY:Keeping an Open Mind
DESCRIPTION:Midweek Al-Anon Open Discussion
URL:https://yanaclub.com/event/keeping-an-open-mind/2025-11-12/
CATEGORIES:AL-ANON,Recurring YANA Events
END:VEVENT
BEGIN:VEVENT
DTSTART;TZID=America/New_York:20251111T184500
DTEND;TZID=America/New_York:20251111T194500
DTSTAMP:20260421T191423
CREATED:20250507T163304Z
LAST-MODIFIED:20250507T163304Z
UID:10016219-1762886700-1762890300@yanaclub.com
SUMMARY:Midwinter Conference Planning
DESCRIPTION:
URL:https://yanaclub.com/event/midwinter-conference-planning/2025-11-11/
CATEGORIES:Recurring YANA Events
END:VEVENT
BEGIN:VEVENT
DTSTART;TZID=America/New_York:20251109T080000
DTEND;TZID=America/New_York:20251109T090000
DTSTAMP:20260421T191423
CREATED:20250507T163100Z
LAST-MODIFIED:20250507T163100Z
UID:10015716-1762675200-1762678800@yanaclub.com
SUMMARY:YANA Sunday Breakfast
DESCRIPTION:
URL:https://yanaclub.com/event/yana-sunday-breakfast/2025-11-09/
CATEGORIES:Recurring YANA Events
END:VEVENT
BEGIN:VEVENT
DTSTART;TZID=America/New_York:20251105T190000
DTEND;TZID=America/New_York:20251105T200000
DTSTAMP:20260421T191423
CREATED:20250507T163407Z
LAST-MODIFIED:20250507T163407Z
UID:10016541-1762369200-1762372800@yanaclub.com
SUMMARY:YANA Board of Directors
DESCRIPTION:
URL:https://yanaclub.com/event/yana-board-of-directors/2025-11-05/
CATEGORIES:Recurring YANA Events
END:VEVENT
BEGIN:VEVENT
DTSTART;TZID=America/New_York:20251105T173000
DTEND;TZID=America/New_York:20251105T183000
DTSTAMP:20260421T191423
CREATED:20251027T215053Z
LAST-MODIFIED:20251027T215053Z
UID:10019242-1762363800-1762367400@yanaclub.com
SUMMARY:Keeping an Open Mind
DESCRIPTION:Midweek Al-Anon Open Discussion
URL:https://yanaclub.com/event/keeping-an-open-mind/2025-11-05/
CATEGORIES:AL-ANON,Recurring YANA Events
END:VEVENT
BEGIN:VEVENT
DTSTART;TZID=America/New_York:20251102T080000
DTEND;TZID=America/New_York:20251102T090000
DTSTAMP:20260421T191423
CREATED:20250507T163100Z
LAST-MODIFIED:20250507T163100Z
UID:10015715-1762070400-1762074000@yanaclub.com
SUMMARY:YANA Sunday Breakfast
DESCRIPTION:
URL:https://yanaclub.com/event/yana-sunday-breakfast/2025-11-02/
CATEGORIES:Recurring YANA Events
END:VEVENT
BEGIN:VEVENT
DTSTART;TZID=America/New_York:20251029T173000
DTEND;TZID=America/New_York:20251029T183000
DTSTAMP:20260421T191423
CREATED:20251027T215053Z
LAST-MODIFIED:20251027T215053Z
UID:10019241-1761759000-1761762600@yanaclub.com
SUMMARY:Keeping an Open Mind
DESCRIPTION:Midweek Al-Anon Open Discussion
URL:https://yanaclub.com/event/keeping-an-open-mind/2025-10-29/
CATEGORIES:AL-ANON,Recurring YANA Events
END:VEVENT
BEGIN:VEVENT
DTSTART;TZID=America/New_York:20251026T080000
DTEND;TZID=America/New_York:20251026T090000
DTSTAMP:20260421T191423
CREATED:20250507T163100Z
LAST-MODIFIED:20250507T163100Z
UID:10015714-1761465600-1761469200@yanaclub.com
SUMMARY:YANA Sunday Breakfast
DESCRIPTION:
URL:https://yanaclub.com/event/yana-sunday-breakfast/2025-10-26/
CATEGORIES:Recurring YANA Events
END:VEVENT
BEGIN:VEVENT
DTSTART;TZID=America/New_York:20251022T173000
DTEND;TZID=America/New_York:20251022T183000
DTSTAMP:20260421T191423
CREATED:20251027T215053Z
LAST-MODIFIED:20251027T215053Z
UID:10019240-1761154200-1761157800@yanaclub.com
SUMMARY:Keeping an Open Mind
DESCRIPTION:Midweek Al-Anon Open Discussion
URL:https://yanaclub.com/event/keeping-an-open-mind/2025-10-22/
CATEGORIES:AL-ANON,Recurring YANA Events
END:VEVENT
BEGIN:VEVENT
DTSTART;TZID=America/New_York:20251019T080000
DTEND;TZID=America/New_York:20251019T090000
DTSTAMP:20260421T191423
CREATED:20250507T163100Z
LAST-MODIFIED:20250507T163100Z
UID:10015713-1760860800-1760864400@yanaclub.com
SUMMARY:YANA Sunday Breakfast
DESCRIPTION:
URL:https://yanaclub.com/event/yana-sunday-breakfast/2025-10-19/
CATEGORIES:Recurring YANA Events
END:VEVENT
BEGIN:VEVENT
DTSTART;TZID=America/New_York:20251015T173000
DTEND;TZID=America/New_York:20251015T183000
DTSTAMP:20260421T191423
CREATED:20251027T215053Z
LAST-MODIFIED:20251027T215053Z
UID:10019239-1760549400-1760553000@yanaclub.com
SUMMARY:Keeping an Open Mind
DESCRIPTION:Midweek Al-Anon Open Discussion
URL:https://yanaclub.com/event/keeping-an-open-mind/2025-10-15/
CATEGORIES:AL-ANON,Recurring YANA Events
END:VEVENT
END:VCALENDAR