BEGIN:VCALENDAR
VERSION:2.0
PRODID:-//YANA Club of Hilton Head Island - ECPv6.11.2//NONSGML v1.0//EN
CALSCALE:GREGORIAN
METHOD:PUBLISH
X-WR-CALNAME:YANA Club of Hilton Head Island
X-ORIGINAL-URL:https://yanaclub.com
X-WR-CALDESC:Events for YANA Club of Hilton Head Island
REFRESH-INTERVAL;VALUE=DURATION:PT1H
X-Robots-Tag:noindex
X-PUBLISHED-TTL:PT1H
BEGIN:VTIMEZONE
TZID:America/New_York
BEGIN:DAYLIGHT
TZOFFSETFROM:-0500
TZOFFSETTO:-0400
TZNAME:EDT
DTSTART:20270314T070000
END:DAYLIGHT
BEGIN:STANDARD
TZOFFSETFROM:-0400
TZOFFSETTO:-0500
TZNAME:EST
DTSTART:20271107T060000
END:STANDARD
END:VTIMEZONE
BEGIN:VEVENT
DTSTART;TZID=America/New_York:20270811T173000
DTEND;TZID=America/New_York:20270811T183000
DTSTAMP:20260422T012308
CREATED:20251027T215053Z
LAST-MODIFIED:20251027T215053Z
UID:10019334-1818005400-1818009000@yanaclub.com
SUMMARY:Keeping an Open Mind
DESCRIPTION:Midweek Al-Anon Open Discussion
URL:https://yanaclub.com/event/keeping-an-open-mind/2027-08-11/
CATEGORIES:AL-ANON,Recurring YANA Events
END:VEVENT
BEGIN:VEVENT
DTSTART;TZID=America/New_York:20270815T080000
DTEND;TZID=America/New_York:20270815T090000
DTSTAMP:20260422T012308
CREATED:20250507T163100Z
LAST-MODIFIED:20250507T163100Z
UID:10015808-1818316800-1818320400@yanaclub.com
SUMMARY:YANA Sunday Breakfast
DESCRIPTION:
URL:https://yanaclub.com/event/yana-sunday-breakfast/2027-08-15/
CATEGORIES:Recurring YANA Events
END:VEVENT
BEGIN:VEVENT
DTSTART;TZID=America/New_York:20270818T173000
DTEND;TZID=America/New_York:20270818T183000
DTSTAMP:20260422T012308
CREATED:20251027T215053Z
LAST-MODIFIED:20251027T215053Z
UID:10019335-1818610200-1818613800@yanaclub.com
SUMMARY:Keeping an Open Mind
DESCRIPTION:Midweek Al-Anon Open Discussion
URL:https://yanaclub.com/event/keeping-an-open-mind/2027-08-18/
CATEGORIES:AL-ANON,Recurring YANA Events
END:VEVENT
BEGIN:VEVENT
DTSTART;TZID=America/New_York:20270822T080000
DTEND;TZID=America/New_York:20270822T090000
DTSTAMP:20260422T012308
CREATED:20250507T163100Z
LAST-MODIFIED:20250507T163100Z
UID:10015809-1818921600-1818925200@yanaclub.com
SUMMARY:YANA Sunday Breakfast
DESCRIPTION:
URL:https://yanaclub.com/event/yana-sunday-breakfast/2027-08-22/
CATEGORIES:Recurring YANA Events
END:VEVENT
BEGIN:VEVENT
DTSTART;TZID=America/New_York:20270825T173000
DTEND;TZID=America/New_York:20270825T183000
DTSTAMP:20260422T012308
CREATED:20251027T215053Z
LAST-MODIFIED:20251027T215053Z
UID:10019336-1819215000-1819218600@yanaclub.com
SUMMARY:Keeping an Open Mind
DESCRIPTION:Midweek Al-Anon Open Discussion
URL:https://yanaclub.com/event/keeping-an-open-mind/2027-08-25/
CATEGORIES:AL-ANON,Recurring YANA Events
END:VEVENT
BEGIN:VEVENT
DTSTART;TZID=America/New_York:20270829T080000
DTEND;TZID=America/New_York:20270829T090000
DTSTAMP:20260422T012308
CREATED:20250507T163100Z
LAST-MODIFIED:20250507T163100Z
UID:10015810-1819526400-1819530000@yanaclub.com
SUMMARY:YANA Sunday Breakfast
DESCRIPTION:
URL:https://yanaclub.com/event/yana-sunday-breakfast/2027-08-29/
CATEGORIES:Recurring YANA Events
END:VEVENT
BEGIN:VEVENT
DTSTART;TZID=America/New_York:20270901T173000
DTEND;TZID=America/New_York:20270901T183000
DTSTAMP:20260422T012308
CREATED:20251027T215053Z
LAST-MODIFIED:20251027T215053Z
UID:10019337-1819819800-1819823400@yanaclub.com
SUMMARY:Keeping an Open Mind
DESCRIPTION:Midweek Al-Anon Open Discussion
URL:https://yanaclub.com/event/keeping-an-open-mind/2027-09-01/
CATEGORIES:AL-ANON,Recurring YANA Events
END:VEVENT
BEGIN:VEVENT
DTSTART;TZID=America/New_York:20270901T190000
DTEND;TZID=America/New_York:20270901T200000
DTSTAMP:20260422T012308
CREATED:20250507T163407Z
LAST-MODIFIED:20250507T163407Z
UID:10016563-1819825200-1819828800@yanaclub.com
SUMMARY:YANA Board of Directors
DESCRIPTION:
URL:https://yanaclub.com/event/yana-board-of-directors/2027-09-01/
CATEGORIES:Recurring YANA Events
END:VEVENT
BEGIN:VEVENT
DTSTART;TZID=America/New_York:20270905T080000
DTEND;TZID=America/New_York:20270905T090000
DTSTAMP:20260422T012308
CREATED:20250507T163100Z
LAST-MODIFIED:20250507T163100Z
UID:10015811-1820131200-1820134800@yanaclub.com
SUMMARY:YANA Sunday Breakfast
DESCRIPTION:
URL:https://yanaclub.com/event/yana-sunday-breakfast/2027-09-05/
CATEGORIES:Recurring YANA Events
END:VEVENT
BEGIN:VEVENT
DTSTART;TZID=America/New_York:20270908T173000
DTEND;TZID=America/New_York:20270908T183000
DTSTAMP:20260422T012308
CREATED:20251027T215053Z
LAST-MODIFIED:20251027T215053Z
UID:10019338-1820424600-1820428200@yanaclub.com
SUMMARY:Keeping an Open Mind
DESCRIPTION:Midweek Al-Anon Open Discussion
URL:https://yanaclub.com/event/keeping-an-open-mind/2027-09-08/
CATEGORIES:AL-ANON,Recurring YANA Events
END:VEVENT
BEGIN:VEVENT
DTSTART;TZID=America/New_York:20270912T080000
DTEND;TZID=America/New_York:20270912T090000
DTSTAMP:20260422T012308
CREATED:20250507T163100Z
LAST-MODIFIED:20250507T163100Z
UID:10015812-1820736000-1820739600@yanaclub.com
SUMMARY:YANA Sunday Breakfast
DESCRIPTION:
URL:https://yanaclub.com/event/yana-sunday-breakfast/2027-09-12/
CATEGORIES:Recurring YANA Events
END:VEVENT
BEGIN:VEVENT
DTSTART;TZID=America/New_York:20270914T184500
DTEND;TZID=America/New_York:20270914T194500
DTSTAMP:20260422T012308
CREATED:20250507T163304Z
LAST-MODIFIED:20250507T163304Z
UID:10016241-1820947500-1820951100@yanaclub.com
SUMMARY:Midwinter Conference Planning
DESCRIPTION:
URL:https://yanaclub.com/event/midwinter-conference-planning/2027-09-14/
CATEGORIES:Recurring YANA Events
END:VEVENT
BEGIN:VEVENT
DTSTART;TZID=America/New_York:20270915T173000
DTEND;TZID=America/New_York:20270915T183000
DTSTAMP:20260422T012308
CREATED:20251027T215053Z
LAST-MODIFIED:20251027T215053Z
UID:10019339-1821029400-1821033000@yanaclub.com
SUMMARY:Keeping an Open Mind
DESCRIPTION:Midweek Al-Anon Open Discussion
URL:https://yanaclub.com/event/keeping-an-open-mind/2027-09-15/
CATEGORIES:AL-ANON,Recurring YANA Events
END:VEVENT
BEGIN:VEVENT
DTSTART;TZID=America/New_York:20270919T080000
DTEND;TZID=America/New_York:20270919T090000
DTSTAMP:20260422T012308
CREATED:20250507T163100Z
LAST-MODIFIED:20250507T163100Z
UID:10015813-1821340800-1821344400@yanaclub.com
SUMMARY:YANA Sunday Breakfast
DESCRIPTION:
URL:https://yanaclub.com/event/yana-sunday-breakfast/2027-09-19/
CATEGORIES:Recurring YANA Events
END:VEVENT
BEGIN:VEVENT
DTSTART;TZID=America/New_York:20270922T173000
DTEND;TZID=America/New_York:20270922T183000
DTSTAMP:20260422T012308
CREATED:20251027T215053Z
LAST-MODIFIED:20251027T215053Z
UID:10019340-1821634200-1821637800@yanaclub.com
SUMMARY:Keeping an Open Mind
DESCRIPTION:Midweek Al-Anon Open Discussion
URL:https://yanaclub.com/event/keeping-an-open-mind/2027-09-22/
CATEGORIES:AL-ANON,Recurring YANA Events
END:VEVENT
BEGIN:VEVENT
DTSTART;TZID=America/New_York:20270926T080000
DTEND;TZID=America/New_York:20270926T090000
DTSTAMP:20260422T012308
CREATED:20250507T163100Z
LAST-MODIFIED:20250507T163100Z
UID:10015814-1821945600-1821949200@yanaclub.com
SUMMARY:YANA Sunday Breakfast
DESCRIPTION:
URL:https://yanaclub.com/event/yana-sunday-breakfast/2027-09-26/
CATEGORIES:Recurring YANA Events
END:VEVENT
BEGIN:VEVENT
DTSTART;TZID=America/New_York:20270929T173000
DTEND;TZID=America/New_York:20270929T183000
DTSTAMP:20260422T012308
CREATED:20251027T215053Z
LAST-MODIFIED:20251027T215053Z
UID:10019341-1822239000-1822242600@yanaclub.com
SUMMARY:Keeping an Open Mind
DESCRIPTION:Midweek Al-Anon Open Discussion
URL:https://yanaclub.com/event/keeping-an-open-mind/2027-09-29/
CATEGORIES:AL-ANON,Recurring YANA Events
END:VEVENT
BEGIN:VEVENT
DTSTART;TZID=America/New_York:20271003T080000
DTEND;TZID=America/New_York:20271003T090000
DTSTAMP:20260422T012308
CREATED:20250507T163100Z
LAST-MODIFIED:20250507T163100Z
UID:10015815-1822550400-1822554000@yanaclub.com
SUMMARY:YANA Sunday Breakfast
DESCRIPTION:
URL:https://yanaclub.com/event/yana-sunday-breakfast/2027-10-03/
CATEGORIES:Recurring YANA Events
END:VEVENT
BEGIN:VEVENT
DTSTART;TZID=America/New_York:20271006T173000
DTEND;TZID=America/New_York:20271006T183000
DTSTAMP:20260422T012308
CREATED:20251027T215053Z
LAST-MODIFIED:20251027T215053Z
UID:10019342-1822843800-1822847400@yanaclub.com
SUMMARY:Keeping an Open Mind
DESCRIPTION:Midweek Al-Anon Open Discussion
URL:https://yanaclub.com/event/keeping-an-open-mind/2027-10-06/
CATEGORIES:AL-ANON,Recurring YANA Events
END:VEVENT
BEGIN:VEVENT
DTSTART;TZID=America/New_York:20271006T190000
DTEND;TZID=America/New_York:20271006T200000
DTSTAMP:20260422T012308
CREATED:20250507T163407Z
LAST-MODIFIED:20250507T163407Z
UID:10016564-1822849200-1822852800@yanaclub.com
SUMMARY:YANA Board of Directors
DESCRIPTION:
URL:https://yanaclub.com/event/yana-board-of-directors/2027-10-06/
CATEGORIES:Recurring YANA Events
END:VEVENT
BEGIN:VEVENT
DTSTART;TZID=America/New_York:20271010T080000
DTEND;TZID=America/New_York:20271010T090000
DTSTAMP:20260422T012308
CREATED:20250507T163100Z
LAST-MODIFIED:20250507T163100Z
UID:10015816-1823155200-1823158800@yanaclub.com
SUMMARY:YANA Sunday Breakfast
DESCRIPTION:
URL:https://yanaclub.com/event/yana-sunday-breakfast/2027-10-10/
CATEGORIES:Recurring YANA Events
END:VEVENT
BEGIN:VEVENT
DTSTART;TZID=America/New_York:20271012T184500
DTEND;TZID=America/New_York:20271012T194500
DTSTAMP:20260422T012308
CREATED:20250507T163304Z
LAST-MODIFIED:20250507T163304Z
UID:10016242-1823366700-1823370300@yanaclub.com
SUMMARY:Midwinter Conference Planning
DESCRIPTION:
URL:https://yanaclub.com/event/midwinter-conference-planning/2027-10-12/
CATEGORIES:Recurring YANA Events
END:VEVENT
BEGIN:VEVENT
DTSTART;TZID=America/New_York:20271013T173000
DTEND;TZID=America/New_York:20271013T183000
DTSTAMP:20260422T012308
CREATED:20251027T215053Z
LAST-MODIFIED:20251027T215053Z
UID:10019343-1823448600-1823452200@yanaclub.com
SUMMARY:Keeping an Open Mind
DESCRIPTION:Midweek Al-Anon Open Discussion
URL:https://yanaclub.com/event/keeping-an-open-mind/2027-10-13/
CATEGORIES:AL-ANON,Recurring YANA Events
END:VEVENT
BEGIN:VEVENT
DTSTART;TZID=America/New_York:20271017T080000
DTEND;TZID=America/New_York:20271017T090000
DTSTAMP:20260422T012308
CREATED:20250507T163100Z
LAST-MODIFIED:20250507T163100Z
UID:10015817-1823760000-1823763600@yanaclub.com
SUMMARY:YANA Sunday Breakfast
DESCRIPTION:
URL:https://yanaclub.com/event/yana-sunday-breakfast/2027-10-17/
CATEGORIES:Recurring YANA Events
END:VEVENT
BEGIN:VEVENT
DTSTART;TZID=America/New_York:20271020T173000
DTEND;TZID=America/New_York:20271020T183000
DTSTAMP:20260422T012308
CREATED:20251027T215053Z
LAST-MODIFIED:20251027T215053Z
UID:10019344-1824053400-1824057000@yanaclub.com
SUMMARY:Keeping an Open Mind
DESCRIPTION:Midweek Al-Anon Open Discussion
URL:https://yanaclub.com/event/keeping-an-open-mind/2027-10-20/
CATEGORIES:AL-ANON,Recurring YANA Events
END:VEVENT
BEGIN:VEVENT
DTSTART;TZID=America/New_York:20271024T080000
DTEND;TZID=America/New_York:20271024T090000
DTSTAMP:20260422T012308
CREATED:20250507T163100Z
LAST-MODIFIED:20250507T163100Z
UID:10015818-1824364800-1824368400@yanaclub.com
SUMMARY:YANA Sunday Breakfast
DESCRIPTION:
URL:https://yanaclub.com/event/yana-sunday-breakfast/2027-10-24/
CATEGORIES:Recurring YANA Events
END:VEVENT
BEGIN:VEVENT
DTSTART;TZID=America/New_York:20271027T173000
DTEND;TZID=America/New_York:20271027T183000
DTSTAMP:20260422T012308
CREATED:20251027T215053Z
LAST-MODIFIED:20251027T215053Z
UID:10019345-1824658200-1824661800@yanaclub.com
SUMMARY:Keeping an Open Mind
DESCRIPTION:Midweek Al-Anon Open Discussion
URL:https://yanaclub.com/event/keeping-an-open-mind/2027-10-27/
CATEGORIES:AL-ANON,Recurring YANA Events
END:VEVENT
BEGIN:VEVENT
DTSTART;TZID=America/New_York:20271031T080000
DTEND;TZID=America/New_York:20271031T090000
DTSTAMP:20260422T012308
CREATED:20250507T163100Z
LAST-MODIFIED:20250507T163100Z
UID:10015819-1824969600-1824973200@yanaclub.com
SUMMARY:YANA Sunday Breakfast
DESCRIPTION:
URL:https://yanaclub.com/event/yana-sunday-breakfast/2027-10-31/
CATEGORIES:Recurring YANA Events
END:VEVENT
BEGIN:VEVENT
DTSTART;TZID=America/New_York:20271103T173000
DTEND;TZID=America/New_York:20271103T183000
DTSTAMP:20260422T012308
CREATED:20251027T215053Z
LAST-MODIFIED:20251027T215053Z
UID:10019346-1825263000-1825266600@yanaclub.com
SUMMARY:Keeping an Open Mind
DESCRIPTION:Midweek Al-Anon Open Discussion
URL:https://yanaclub.com/event/keeping-an-open-mind/2027-11-03/
CATEGORIES:AL-ANON,Recurring YANA Events
END:VEVENT
BEGIN:VEVENT
DTSTART;TZID=America/New_York:20271103T190000
DTEND;TZID=America/New_York:20271103T200000
DTSTAMP:20260422T012308
CREATED:20250507T163407Z
LAST-MODIFIED:20250507T163407Z
UID:10016565-1825268400-1825272000@yanaclub.com
SUMMARY:YANA Board of Directors
DESCRIPTION:
URL:https://yanaclub.com/event/yana-board-of-directors/2027-11-03/
CATEGORIES:Recurring YANA Events
END:VEVENT
END:VCALENDAR