BEGIN:VCALENDAR
VERSION:2.0
PRODID:-//YANA Club of Hilton Head Island - ECPv6.11.2//NONSGML v1.0//EN
CALSCALE:GREGORIAN
METHOD:PUBLISH
X-ORIGINAL-URL:https://yanaclub.com
X-WR-CALDESC:Events for YANA Club of Hilton Head Island
REFRESH-INTERVAL;VALUE=DURATION:PT1H
X-Robots-Tag:noindex
X-PUBLISHED-TTL:PT1H
BEGIN:VTIMEZONE
TZID:America/New_York
BEGIN:DAYLIGHT
TZOFFSETFROM:-0500
TZOFFSETTO:-0400
TZNAME:EDT
DTSTART:20250309T070000
END:DAYLIGHT
BEGIN:STANDARD
TZOFFSETFROM:-0400
TZOFFSETTO:-0500
TZNAME:EST
DTSTART:20251102T060000
END:STANDARD
BEGIN:DAYLIGHT
TZOFFSETFROM:-0500
TZOFFSETTO:-0400
TZNAME:EDT
DTSTART:20260308T070000
END:DAYLIGHT
BEGIN:STANDARD
TZOFFSETFROM:-0400
TZOFFSETTO:-0500
TZNAME:EST
DTSTART:20261101T060000
END:STANDARD
END:VTIMEZONE
BEGIN:VEVENT
DTSTART;TZID=America/New_York:20251231T173000
DTEND;TZID=America/New_York:20251231T183000
DTSTAMP:20260421T122730
CREATED:20251027T215053Z
LAST-MODIFIED:20251027T215053Z
UID:10019250-1767202200-1767205800@yanaclub.com
SUMMARY:Keeping an Open Mind
DESCRIPTION:Midweek Al-Anon Open Discussion
URL:https://yanaclub.com/event/keeping-an-open-mind/2025-12-31/
CATEGORIES:AL-ANON,Recurring YANA Events
END:VEVENT
BEGIN:VEVENT
DTSTART;TZID=America/New_York:20260102T121500
DTEND;TZID=America/New_York:20260102T131500
DTSTAMP:20260421T122730
CREATED:20250507T162126Z
LAST-MODIFIED:20250507T162126Z
UID:10014154-1767356100-1767359700@yanaclub.com
SUMMARY:Friday Luncheon AFG
DESCRIPTION:Closed / Discussion
URL:https://yanaclub.com/event/friday-luncheon-afg-2/2026-01-02/
CATEGORIES:AL-ANON
END:VEVENT
BEGIN:VEVENT
DTSTART;TZID=America/New_York:20260104T183000
DTEND;TZID=America/New_York:20260104T193000
DTSTAMP:20260421T122730
CREATED:20250507T161940Z
LAST-MODIFIED:20250507T161940Z
UID:10013369-1767551400-1767555000@yanaclub.com
SUMMARY:Principles Above Personalities
DESCRIPTION:Closed / Discussion
URL:https://yanaclub.com/event/principles-above-personalities/2026-01-04/
CATEGORIES:AL-ANON
END:VEVENT
END:VCALENDAR