BEGIN:VCALENDAR
VERSION:2.0
PRODID:-//YANA Club of Hilton Head Island - ECPv6.11.2//NONSGML v1.0//EN
CALSCALE:GREGORIAN
METHOD:PUBLISH
X-WR-CALNAME:YANA Club of Hilton Head Island
X-ORIGINAL-URL:https://yanaclub.com
X-WR-CALDESC:Events for YANA Club of Hilton Head Island
REFRESH-INTERVAL;VALUE=DURATION:PT1H
X-Robots-Tag:noindex
X-PUBLISHED-TTL:PT1H
BEGIN:VTIMEZONE
TZID:America/New_York
BEGIN:DAYLIGHT
TZOFFSETFROM:-0500
TZOFFSETTO:-0400
TZNAME:EDT
DTSTART:20260308T070000
END:DAYLIGHT
BEGIN:STANDARD
TZOFFSETFROM:-0400
TZOFFSETTO:-0500
TZNAME:EST
DTSTART:20261101T060000
END:STANDARD
BEGIN:DAYLIGHT
TZOFFSETFROM:-0500
TZOFFSETTO:-0400
TZNAME:EDT
DTSTART:20270314T070000
END:DAYLIGHT
BEGIN:STANDARD
TZOFFSETFROM:-0400
TZOFFSETTO:-0500
TZNAME:EST
DTSTART:20271107T060000
END:STANDARD
END:VTIMEZONE
BEGIN:VEVENT
DTSTART;TZID=America/New_York:20261202T173000
DTEND;TZID=America/New_York:20261202T183000
DTSTAMP:20260421T230135
CREATED:20251027T215053Z
LAST-MODIFIED:20251027T215053Z
UID:10019298-1796232600-1796236200@yanaclub.com
SUMMARY:Keeping an Open Mind
DESCRIPTION:Midweek Al-Anon Open Discussion
URL:https://yanaclub.com/event/keeping-an-open-mind/2026-12-02/
CATEGORIES:AL-ANON,Recurring YANA Events
END:VEVENT
BEGIN:VEVENT
DTSTART;TZID=America/New_York:20261204T121500
DTEND;TZID=America/New_York:20261204T131500
DTSTAMP:20260421T230135
CREATED:20250507T162126Z
LAST-MODIFIED:20250507T162126Z
UID:10014202-1796386500-1796390100@yanaclub.com
SUMMARY:Friday Luncheon AFG
DESCRIPTION:Closed / Discussion
URL:https://yanaclub.com/event/friday-luncheon-afg-2/2026-12-04/
CATEGORIES:AL-ANON
END:VEVENT
BEGIN:VEVENT
DTSTART;TZID=America/New_York:20261206T183000
DTEND;TZID=America/New_York:20261206T193000
DTSTAMP:20260421T230135
CREATED:20250507T161940Z
LAST-MODIFIED:20250507T161940Z
UID:10013417-1796581800-1796585400@yanaclub.com
SUMMARY:Principles Above Personalities
DESCRIPTION:Closed / Discussion
URL:https://yanaclub.com/event/principles-above-personalities/2026-12-06/
CATEGORIES:AL-ANON
END:VEVENT
BEGIN:VEVENT
DTSTART;TZID=America/New_York:20261209T173000
DTEND;TZID=America/New_York:20261209T183000
DTSTAMP:20260421T230135
CREATED:20251027T215053Z
LAST-MODIFIED:20251027T215053Z
UID:10019299-1796837400-1796841000@yanaclub.com
SUMMARY:Keeping an Open Mind
DESCRIPTION:Midweek Al-Anon Open Discussion
URL:https://yanaclub.com/event/keeping-an-open-mind/2026-12-09/
CATEGORIES:AL-ANON,Recurring YANA Events
END:VEVENT
BEGIN:VEVENT
DTSTART;TZID=America/New_York:20261211T121500
DTEND;TZID=America/New_York:20261211T131500
DTSTAMP:20260421T230135
CREATED:20250507T162126Z
LAST-MODIFIED:20250507T162126Z
UID:10014203-1796991300-1796994900@yanaclub.com
SUMMARY:Friday Luncheon AFG
DESCRIPTION:Closed / Discussion
URL:https://yanaclub.com/event/friday-luncheon-afg-2/2026-12-11/
CATEGORIES:AL-ANON
END:VEVENT
BEGIN:VEVENT
DTSTART;TZID=America/New_York:20261213T183000
DTEND;TZID=America/New_York:20261213T193000
DTSTAMP:20260421T230135
CREATED:20250507T161940Z
LAST-MODIFIED:20250507T161940Z
UID:10013418-1797186600-1797190200@yanaclub.com
SUMMARY:Principles Above Personalities
DESCRIPTION:Closed / Discussion
URL:https://yanaclub.com/event/principles-above-personalities/2026-12-13/
CATEGORIES:AL-ANON
END:VEVENT
BEGIN:VEVENT
DTSTART;TZID=America/New_York:20261216T173000
DTEND;TZID=America/New_York:20261216T183000
DTSTAMP:20260421T230135
CREATED:20251027T215053Z
LAST-MODIFIED:20251027T215053Z
UID:10019300-1797442200-1797445800@yanaclub.com
SUMMARY:Keeping an Open Mind
DESCRIPTION:Midweek Al-Anon Open Discussion
URL:https://yanaclub.com/event/keeping-an-open-mind/2026-12-16/
CATEGORIES:AL-ANON,Recurring YANA Events
END:VEVENT
BEGIN:VEVENT
DTSTART;TZID=America/New_York:20261218T121500
DTEND;TZID=America/New_York:20261218T131500
DTSTAMP:20260421T230135
CREATED:20250507T162126Z
LAST-MODIFIED:20250507T162126Z
UID:10014204-1797596100-1797599700@yanaclub.com
SUMMARY:Friday Luncheon AFG
DESCRIPTION:Closed / Discussion
URL:https://yanaclub.com/event/friday-luncheon-afg-2/2026-12-18/
CATEGORIES:AL-ANON
END:VEVENT
BEGIN:VEVENT
DTSTART;TZID=America/New_York:20261220T183000
DTEND;TZID=America/New_York:20261220T193000
DTSTAMP:20260421T230135
CREATED:20250507T161940Z
LAST-MODIFIED:20250507T161940Z
UID:10013419-1797791400-1797795000@yanaclub.com
SUMMARY:Principles Above Personalities
DESCRIPTION:Closed / Discussion
URL:https://yanaclub.com/event/principles-above-personalities/2026-12-20/
CATEGORIES:AL-ANON
END:VEVENT
BEGIN:VEVENT
DTSTART;TZID=America/New_York:20261223T173000
DTEND;TZID=America/New_York:20261223T183000
DTSTAMP:20260421T230135
CREATED:20251027T215053Z
LAST-MODIFIED:20251027T215053Z
UID:10019301-1798047000-1798050600@yanaclub.com
SUMMARY:Keeping an Open Mind
DESCRIPTION:Midweek Al-Anon Open Discussion
URL:https://yanaclub.com/event/keeping-an-open-mind/2026-12-23/
CATEGORIES:AL-ANON,Recurring YANA Events
END:VEVENT
BEGIN:VEVENT
DTSTART;TZID=America/New_York:20261225T121500
DTEND;TZID=America/New_York:20261225T131500
DTSTAMP:20260421T230135
CREATED:20250507T162126Z
LAST-MODIFIED:20250507T162126Z
UID:10014205-1798200900-1798204500@yanaclub.com
SUMMARY:Friday Luncheon AFG
DESCRIPTION:Closed / Discussion
URL:https://yanaclub.com/event/friday-luncheon-afg-2/2026-12-25/
CATEGORIES:AL-ANON
END:VEVENT
BEGIN:VEVENT
DTSTART;TZID=America/New_York:20261227T183000
DTEND;TZID=America/New_York:20261227T193000
DTSTAMP:20260421T230135
CREATED:20250507T161940Z
LAST-MODIFIED:20250507T161940Z
UID:10013420-1798396200-1798399800@yanaclub.com
SUMMARY:Principles Above Personalities
DESCRIPTION:Closed / Discussion
URL:https://yanaclub.com/event/principles-above-personalities/2026-12-27/
CATEGORIES:AL-ANON
END:VEVENT
BEGIN:VEVENT
DTSTART;TZID=America/New_York:20261230T173000
DTEND;TZID=America/New_York:20261230T183000
DTSTAMP:20260421T230135
CREATED:20251027T215053Z
LAST-MODIFIED:20251027T215053Z
UID:10019302-1798651800-1798655400@yanaclub.com
SUMMARY:Keeping an Open Mind
DESCRIPTION:Midweek Al-Anon Open Discussion
URL:https://yanaclub.com/event/keeping-an-open-mind/2026-12-30/
CATEGORIES:AL-ANON,Recurring YANA Events
END:VEVENT
BEGIN:VEVENT
DTSTART;TZID=America/New_York:20270101T121500
DTEND;TZID=America/New_York:20270101T131500
DTSTAMP:20260421T230135
CREATED:20250507T162126Z
LAST-MODIFIED:20250507T162126Z
UID:10014206-1798805700-1798809300@yanaclub.com
SUMMARY:Friday Luncheon AFG
DESCRIPTION:Closed / Discussion
URL:https://yanaclub.com/event/friday-luncheon-afg-2/2027-01-01/
CATEGORIES:AL-ANON
END:VEVENT
BEGIN:VEVENT
DTSTART;TZID=America/New_York:20270103T183000
DTEND;TZID=America/New_York:20270103T193000
DTSTAMP:20260421T230135
CREATED:20250507T161940Z
LAST-MODIFIED:20250507T161940Z
UID:10013421-1799001000-1799004600@yanaclub.com
SUMMARY:Principles Above Personalities
DESCRIPTION:Closed / Discussion
URL:https://yanaclub.com/event/principles-above-personalities/2027-01-03/
CATEGORIES:AL-ANON
END:VEVENT
BEGIN:VEVENT
DTSTART;TZID=America/New_York:20270106T173000
DTEND;TZID=America/New_York:20270106T183000
DTSTAMP:20260421T230135
CREATED:20251027T215053Z
LAST-MODIFIED:20251027T215053Z
UID:10019303-1799256600-1799260200@yanaclub.com
SUMMARY:Keeping an Open Mind
DESCRIPTION:Midweek Al-Anon Open Discussion
URL:https://yanaclub.com/event/keeping-an-open-mind/2027-01-06/
CATEGORIES:AL-ANON,Recurring YANA Events
END:VEVENT
BEGIN:VEVENT
DTSTART;TZID=America/New_York:20270108T121500
DTEND;TZID=America/New_York:20270108T131500
DTSTAMP:20260421T230135
CREATED:20250507T162126Z
LAST-MODIFIED:20250507T162126Z
UID:10014207-1799410500-1799414100@yanaclub.com
SUMMARY:Friday Luncheon AFG
DESCRIPTION:Closed / Discussion
URL:https://yanaclub.com/event/friday-luncheon-afg-2/2027-01-08/
CATEGORIES:AL-ANON
END:VEVENT
BEGIN:VEVENT
DTSTART;TZID=America/New_York:20270110T183000
DTEND;TZID=America/New_York:20270110T193000
DTSTAMP:20260421T230135
CREATED:20250507T161940Z
LAST-MODIFIED:20250507T161940Z
UID:10013422-1799605800-1799609400@yanaclub.com
SUMMARY:Principles Above Personalities
DESCRIPTION:Closed / Discussion
URL:https://yanaclub.com/event/principles-above-personalities/2027-01-10/
CATEGORIES:AL-ANON
END:VEVENT
BEGIN:VEVENT
DTSTART;TZID=America/New_York:20270113T173000
DTEND;TZID=America/New_York:20270113T183000
DTSTAMP:20260421T230135
CREATED:20251027T215053Z
LAST-MODIFIED:20251027T215053Z
UID:10019304-1799861400-1799865000@yanaclub.com
SUMMARY:Keeping an Open Mind
DESCRIPTION:Midweek Al-Anon Open Discussion
URL:https://yanaclub.com/event/keeping-an-open-mind/2027-01-13/
CATEGORIES:AL-ANON,Recurring YANA Events
END:VEVENT
BEGIN:VEVENT
DTSTART;TZID=America/New_York:20270115T121500
DTEND;TZID=America/New_York:20270115T131500
DTSTAMP:20260421T230135
CREATED:20250507T162126Z
LAST-MODIFIED:20250507T162126Z
UID:10014208-1800015300-1800018900@yanaclub.com
SUMMARY:Friday Luncheon AFG
DESCRIPTION:Closed / Discussion
URL:https://yanaclub.com/event/friday-luncheon-afg-2/2027-01-15/
CATEGORIES:AL-ANON
END:VEVENT
BEGIN:VEVENT
DTSTART;TZID=America/New_York:20270117T183000
DTEND;TZID=America/New_York:20270117T193000
DTSTAMP:20260421T230135
CREATED:20250507T161940Z
LAST-MODIFIED:20250507T161940Z
UID:10013423-1800210600-1800214200@yanaclub.com
SUMMARY:Principles Above Personalities
DESCRIPTION:Closed / Discussion
URL:https://yanaclub.com/event/principles-above-personalities/2027-01-17/
CATEGORIES:AL-ANON
END:VEVENT
BEGIN:VEVENT
DTSTART;TZID=America/New_York:20270120T173000
DTEND;TZID=America/New_York:20270120T183000
DTSTAMP:20260421T230135
CREATED:20251027T215053Z
LAST-MODIFIED:20251027T215053Z
UID:10019305-1800466200-1800469800@yanaclub.com
SUMMARY:Keeping an Open Mind
DESCRIPTION:Midweek Al-Anon Open Discussion
URL:https://yanaclub.com/event/keeping-an-open-mind/2027-01-20/
CATEGORIES:AL-ANON,Recurring YANA Events
END:VEVENT
BEGIN:VEVENT
DTSTART;TZID=America/New_York:20270122T121500
DTEND;TZID=America/New_York:20270122T131500
DTSTAMP:20260421T230135
CREATED:20250507T162126Z
LAST-MODIFIED:20250507T162126Z
UID:10014209-1800620100-1800623700@yanaclub.com
SUMMARY:Friday Luncheon AFG
DESCRIPTION:Closed / Discussion
URL:https://yanaclub.com/event/friday-luncheon-afg-2/2027-01-22/
CATEGORIES:AL-ANON
END:VEVENT
BEGIN:VEVENT
DTSTART;TZID=America/New_York:20270124T183000
DTEND;TZID=America/New_York:20270124T193000
DTSTAMP:20260421T230135
CREATED:20250507T161940Z
LAST-MODIFIED:20250507T161940Z
UID:10013424-1800815400-1800819000@yanaclub.com
SUMMARY:Principles Above Personalities
DESCRIPTION:Closed / Discussion
URL:https://yanaclub.com/event/principles-above-personalities/2027-01-24/
CATEGORIES:AL-ANON
END:VEVENT
BEGIN:VEVENT
DTSTART;TZID=America/New_York:20270127T173000
DTEND;TZID=America/New_York:20270127T183000
DTSTAMP:20260421T230135
CREATED:20251027T215053Z
LAST-MODIFIED:20251027T215053Z
UID:10019306-1801071000-1801074600@yanaclub.com
SUMMARY:Keeping an Open Mind
DESCRIPTION:Midweek Al-Anon Open Discussion
URL:https://yanaclub.com/event/keeping-an-open-mind/2027-01-27/
CATEGORIES:AL-ANON,Recurring YANA Events
END:VEVENT
BEGIN:VEVENT
DTSTART;TZID=America/New_York:20270129T121500
DTEND;TZID=America/New_York:20270129T131500
DTSTAMP:20260421T230135
CREATED:20250507T162126Z
LAST-MODIFIED:20250507T162126Z
UID:10014210-1801224900-1801228500@yanaclub.com
SUMMARY:Friday Luncheon AFG
DESCRIPTION:Closed / Discussion
URL:https://yanaclub.com/event/friday-luncheon-afg-2/2027-01-29/
CATEGORIES:AL-ANON
END:VEVENT
BEGIN:VEVENT
DTSTART;TZID=America/New_York:20270131T183000
DTEND;TZID=America/New_York:20270131T193000
DTSTAMP:20260421T230135
CREATED:20250507T161940Z
LAST-MODIFIED:20250507T161940Z
UID:10013425-1801420200-1801423800@yanaclub.com
SUMMARY:Principles Above Personalities
DESCRIPTION:Closed / Discussion
URL:https://yanaclub.com/event/principles-above-personalities/2027-01-31/
CATEGORIES:AL-ANON
END:VEVENT
BEGIN:VEVENT
DTSTART;TZID=America/New_York:20270203T173000
DTEND;TZID=America/New_York:20270203T183000
DTSTAMP:20260421T230135
CREATED:20251027T215053Z
LAST-MODIFIED:20251027T215053Z
UID:10019307-1801675800-1801679400@yanaclub.com
SUMMARY:Keeping an Open Mind
DESCRIPTION:Midweek Al-Anon Open Discussion
URL:https://yanaclub.com/event/keeping-an-open-mind/2027-02-03/
CATEGORIES:AL-ANON,Recurring YANA Events
END:VEVENT
BEGIN:VEVENT
DTSTART;TZID=America/New_York:20270205T121500
DTEND;TZID=America/New_York:20270205T131500
DTSTAMP:20260421T230135
CREATED:20250507T162126Z
LAST-MODIFIED:20250507T162126Z
UID:10014211-1801829700-1801833300@yanaclub.com
SUMMARY:Friday Luncheon AFG
DESCRIPTION:Closed / Discussion
URL:https://yanaclub.com/event/friday-luncheon-afg-2/2027-02-05/
CATEGORIES:AL-ANON
END:VEVENT
BEGIN:VEVENT
DTSTART;TZID=America/New_York:20270207T183000
DTEND;TZID=America/New_York:20270207T193000
DTSTAMP:20260421T230135
CREATED:20250507T161940Z
LAST-MODIFIED:20250507T161940Z
UID:10013426-1802025000-1802028600@yanaclub.com
SUMMARY:Principles Above Personalities
DESCRIPTION:Closed / Discussion
URL:https://yanaclub.com/event/principles-above-personalities/2027-02-07/
CATEGORIES:AL-ANON
END:VEVENT
END:VCALENDAR