BEGIN:VCALENDAR
VERSION:2.0
PRODID:-//YANA Club of Hilton Head Island - ECPv6.11.2//NONSGML v1.0//EN
CALSCALE:GREGORIAN
METHOD:PUBLISH
X-WR-CALNAME:YANA Club of Hilton Head Island
X-ORIGINAL-URL:https://yanaclub.com
X-WR-CALDESC:Events for YANA Club of Hilton Head Island
REFRESH-INTERVAL;VALUE=DURATION:PT1H
X-Robots-Tag:noindex
X-PUBLISHED-TTL:PT1H
BEGIN:VTIMEZONE
TZID:America/New_York
BEGIN:DAYLIGHT
TZOFFSETFROM:-0500
TZOFFSETTO:-0400
TZNAME:EDT
DTSTART:20300310T070000
END:DAYLIGHT
BEGIN:STANDARD
TZOFFSETFROM:-0400
TZOFFSETTO:-0500
TZNAME:EST
DTSTART:20301103T060000
END:STANDARD
END:VTIMEZONE
BEGIN:VEVENT
DTSTART;TZID=America/New_York:20300324T140000
DTEND;TZID=America/New_York:20300324T140000
DTSTAMP:20260421T090956
CREATED:20250507T161804Z
LAST-MODIFIED:20250507T161804Z
UID:10013065-1900591200-1900591200@yanaclub.com
SUMMARY:Hilton Head ACA
DESCRIPTION:Open / Discussion
URL:https://yanaclub.com/event/hilton-head-aca/2030-03-24/
CATEGORIES:ACA
END:VEVENT
BEGIN:VEVENT
DTSTART;TZID=America/New_York:20300331T140000
DTEND;TZID=America/New_York:20300331T140000
DTSTAMP:20260421T090956
CREATED:20250507T161804Z
LAST-MODIFIED:20250507T161804Z
UID:10013066-1901196000-1901196000@yanaclub.com
SUMMARY:Hilton Head ACA
DESCRIPTION:Open / Discussion
URL:https://yanaclub.com/event/hilton-head-aca/2030-03-31/
CATEGORIES:ACA
END:VEVENT
BEGIN:VEVENT
DTSTART;TZID=America/New_York:20300407T140000
DTEND;TZID=America/New_York:20300407T140000
DTSTAMP:20260421T090956
CREATED:20250507T161804Z
LAST-MODIFIED:20250507T161804Z
UID:10013067-1901800800-1901800800@yanaclub.com
SUMMARY:Hilton Head ACA
DESCRIPTION:Open / Discussion
URL:https://yanaclub.com/event/hilton-head-aca/2030-04-07/
CATEGORIES:ACA
END:VEVENT
BEGIN:VEVENT
DTSTART;TZID=America/New_York:20300414T140000
DTEND;TZID=America/New_York:20300414T140000
DTSTAMP:20260421T090956
CREATED:20250507T161804Z
LAST-MODIFIED:20250507T161804Z
UID:10013068-1902405600-1902405600@yanaclub.com
SUMMARY:Hilton Head ACA
DESCRIPTION:Open / Discussion
URL:https://yanaclub.com/event/hilton-head-aca/2030-04-14/
CATEGORIES:ACA
END:VEVENT
BEGIN:VEVENT
DTSTART;TZID=America/New_York:20300421T140000
DTEND;TZID=America/New_York:20300421T140000
DTSTAMP:20260421T090956
CREATED:20250507T161804Z
LAST-MODIFIED:20250507T161804Z
UID:10013069-1903010400-1903010400@yanaclub.com
SUMMARY:Hilton Head ACA
DESCRIPTION:Open / Discussion
URL:https://yanaclub.com/event/hilton-head-aca/2030-04-21/
CATEGORIES:ACA
END:VEVENT
BEGIN:VEVENT
DTSTART;TZID=America/New_York:20300428T140000
DTEND;TZID=America/New_York:20300428T140000
DTSTAMP:20260421T090956
CREATED:20250507T161804Z
LAST-MODIFIED:20250507T161804Z
UID:10013070-1903615200-1903615200@yanaclub.com
SUMMARY:Hilton Head ACA
DESCRIPTION:Open / Discussion
URL:https://yanaclub.com/event/hilton-head-aca/2030-04-28/
CATEGORIES:ACA
END:VEVENT
BEGIN:VEVENT
DTSTART;TZID=America/New_York:20300505T140000
DTEND;TZID=America/New_York:20300505T140000
DTSTAMP:20260421T090956
CREATED:20250507T161804Z
LAST-MODIFIED:20250507T161804Z
UID:10013071-1904220000-1904220000@yanaclub.com
SUMMARY:Hilton Head ACA
DESCRIPTION:Open / Discussion
URL:https://yanaclub.com/event/hilton-head-aca/2030-05-05/
CATEGORIES:ACA
END:VEVENT
END:VCALENDAR