BEGIN:VCALENDAR
VERSION:2.0
PRODID:-//YANA Club of Hilton Head Island - ECPv6.11.2//NONSGML v1.0//EN
CALSCALE:GREGORIAN
METHOD:PUBLISH
X-ORIGINAL-URL:https://yanaclub.com
X-WR-CALDESC:Events for YANA Club of Hilton Head Island
REFRESH-INTERVAL;VALUE=DURATION:PT1H
X-Robots-Tag:noindex
X-PUBLISHED-TTL:PT1H
BEGIN:VTIMEZONE
TZID:America/New_York
BEGIN:DAYLIGHT
TZOFFSETFROM:-0500
TZOFFSETTO:-0400
TZNAME:EDT
DTSTART:20290311T070000
END:DAYLIGHT
BEGIN:STANDARD
TZOFFSETFROM:-0400
TZOFFSETTO:-0500
TZNAME:EST
DTSTART:20291104T060000
END:STANDARD
BEGIN:DAYLIGHT
TZOFFSETFROM:-0500
TZOFFSETTO:-0400
TZNAME:EDT
DTSTART:20300310T070000
END:DAYLIGHT
BEGIN:STANDARD
TZOFFSETFROM:-0400
TZOFFSETTO:-0500
TZNAME:EST
DTSTART:20301103T060000
END:STANDARD
END:VTIMEZONE
BEGIN:VEVENT
DTSTART;TZID=America/New_York:20290715T140000
DTEND;TZID=America/New_York:20290715T140000
DTSTAMP:20260419T173337
CREATED:20250507T161804Z
LAST-MODIFIED:20250507T161804Z
UID:10013029-1878818400-1878818400@yanaclub.com
SUMMARY:Hilton Head ACA
DESCRIPTION:Open / Discussion
URL:https://yanaclub.com/event/hilton-head-aca/2029-07-15/
CATEGORIES:ACA
END:VEVENT
BEGIN:VEVENT
DTSTART;TZID=America/New_York:20290722T140000
DTEND;TZID=America/New_York:20290722T140000
DTSTAMP:20260419T173337
CREATED:20250507T161804Z
LAST-MODIFIED:20250507T161804Z
UID:10013030-1879423200-1879423200@yanaclub.com
SUMMARY:Hilton Head ACA
DESCRIPTION:Open / Discussion
URL:https://yanaclub.com/event/hilton-head-aca/2029-07-22/
CATEGORIES:ACA
END:VEVENT
BEGIN:VEVENT
DTSTART;TZID=America/New_York:20290729T140000
DTEND;TZID=America/New_York:20290729T140000
DTSTAMP:20260419T173337
CREATED:20250507T161804Z
LAST-MODIFIED:20250507T161804Z
UID:10013031-1880028000-1880028000@yanaclub.com
SUMMARY:Hilton Head ACA
DESCRIPTION:Open / Discussion
URL:https://yanaclub.com/event/hilton-head-aca/2029-07-29/
CATEGORIES:ACA
END:VEVENT
BEGIN:VEVENT
DTSTART;TZID=America/New_York:20290805T140000
DTEND;TZID=America/New_York:20290805T140000
DTSTAMP:20260419T173337
CREATED:20250507T161804Z
LAST-MODIFIED:20250507T161804Z
UID:10013032-1880632800-1880632800@yanaclub.com
SUMMARY:Hilton Head ACA
DESCRIPTION:Open / Discussion
URL:https://yanaclub.com/event/hilton-head-aca/2029-08-05/
CATEGORIES:ACA
END:VEVENT
BEGIN:VEVENT
DTSTART;TZID=America/New_York:20290812T140000
DTEND;TZID=America/New_York:20290812T140000
DTSTAMP:20260419T173337
CREATED:20250507T161804Z
LAST-MODIFIED:20250507T161804Z
UID:10013033-1881237600-1881237600@yanaclub.com
SUMMARY:Hilton Head ACA
DESCRIPTION:Open / Discussion
URL:https://yanaclub.com/event/hilton-head-aca/2029-08-12/
CATEGORIES:ACA
END:VEVENT
BEGIN:VEVENT
DTSTART;TZID=America/New_York:20290819T140000
DTEND;TZID=America/New_York:20290819T140000
DTSTAMP:20260419T173337
CREATED:20250507T161804Z
LAST-MODIFIED:20250507T161804Z
UID:10013034-1881842400-1881842400@yanaclub.com
SUMMARY:Hilton Head ACA
DESCRIPTION:Open / Discussion
URL:https://yanaclub.com/event/hilton-head-aca/2029-08-19/
CATEGORIES:ACA
END:VEVENT
BEGIN:VEVENT
DTSTART;TZID=America/New_York:20290826T140000
DTEND;TZID=America/New_York:20290826T140000
DTSTAMP:20260419T173337
CREATED:20250507T161804Z
LAST-MODIFIED:20250507T161804Z
UID:10013035-1882447200-1882447200@yanaclub.com
SUMMARY:Hilton Head ACA
DESCRIPTION:Open / Discussion
URL:https://yanaclub.com/event/hilton-head-aca/2029-08-26/
CATEGORIES:ACA
END:VEVENT
BEGIN:VEVENT
DTSTART;TZID=America/New_York:20290902T140000
DTEND;TZID=America/New_York:20290902T140000
DTSTAMP:20260419T173337
CREATED:20250507T161804Z
LAST-MODIFIED:20250507T161804Z
UID:10013036-1883052000-1883052000@yanaclub.com
SUMMARY:Hilton Head ACA
DESCRIPTION:Open / Discussion
URL:https://yanaclub.com/event/hilton-head-aca/2029-09-02/
CATEGORIES:ACA
END:VEVENT
BEGIN:VEVENT
DTSTART;TZID=America/New_York:20290909T140000
DTEND;TZID=America/New_York:20290909T140000
DTSTAMP:20260419T173337
CREATED:20250507T161804Z
LAST-MODIFIED:20250507T161804Z
UID:10013037-1883656800-1883656800@yanaclub.com
SUMMARY:Hilton Head ACA
DESCRIPTION:Open / Discussion
URL:https://yanaclub.com/event/hilton-head-aca/2029-09-09/
CATEGORIES:ACA
END:VEVENT
BEGIN:VEVENT
DTSTART;TZID=America/New_York:20290916T140000
DTEND;TZID=America/New_York:20290916T140000
DTSTAMP:20260419T173337
CREATED:20250507T161804Z
LAST-MODIFIED:20250507T161804Z
UID:10013038-1884261600-1884261600@yanaclub.com
SUMMARY:Hilton Head ACA
DESCRIPTION:Open / Discussion
URL:https://yanaclub.com/event/hilton-head-aca/2029-09-16/
CATEGORIES:ACA
END:VEVENT
BEGIN:VEVENT
DTSTART;TZID=America/New_York:20290923T140000
DTEND;TZID=America/New_York:20290923T140000
DTSTAMP:20260419T173337
CREATED:20250507T161804Z
LAST-MODIFIED:20250507T161804Z
UID:10013039-1884866400-1884866400@yanaclub.com
SUMMARY:Hilton Head ACA
DESCRIPTION:Open / Discussion
URL:https://yanaclub.com/event/hilton-head-aca/2029-09-23/
CATEGORIES:ACA
END:VEVENT
BEGIN:VEVENT
DTSTART;TZID=America/New_York:20290930T140000
DTEND;TZID=America/New_York:20290930T140000
DTSTAMP:20260419T173337
CREATED:20250507T161804Z
LAST-MODIFIED:20250507T161804Z
UID:10013040-1885471200-1885471200@yanaclub.com
SUMMARY:Hilton Head ACA
DESCRIPTION:Open / Discussion
URL:https://yanaclub.com/event/hilton-head-aca/2029-09-30/
CATEGORIES:ACA
END:VEVENT
BEGIN:VEVENT
DTSTART;TZID=America/New_York:20291007T140000
DTEND;TZID=America/New_York:20291007T140000
DTSTAMP:20260419T173337
CREATED:20250507T161804Z
LAST-MODIFIED:20250507T161804Z
UID:10013041-1886076000-1886076000@yanaclub.com
SUMMARY:Hilton Head ACA
DESCRIPTION:Open / Discussion
URL:https://yanaclub.com/event/hilton-head-aca/2029-10-07/
CATEGORIES:ACA
END:VEVENT
BEGIN:VEVENT
DTSTART;TZID=America/New_York:20291014T140000
DTEND;TZID=America/New_York:20291014T140000
DTSTAMP:20260419T173337
CREATED:20250507T161804Z
LAST-MODIFIED:20250507T161804Z
UID:10013042-1886680800-1886680800@yanaclub.com
SUMMARY:Hilton Head ACA
DESCRIPTION:Open / Discussion
URL:https://yanaclub.com/event/hilton-head-aca/2029-10-14/
CATEGORIES:ACA
END:VEVENT
BEGIN:VEVENT
DTSTART;TZID=America/New_York:20291021T140000
DTEND;TZID=America/New_York:20291021T140000
DTSTAMP:20260419T173337
CREATED:20250507T161804Z
LAST-MODIFIED:20250507T161804Z
UID:10013043-1887285600-1887285600@yanaclub.com
SUMMARY:Hilton Head ACA
DESCRIPTION:Open / Discussion
URL:https://yanaclub.com/event/hilton-head-aca/2029-10-21/
CATEGORIES:ACA
END:VEVENT
BEGIN:VEVENT
DTSTART;TZID=America/New_York:20291028T140000
DTEND;TZID=America/New_York:20291028T140000
DTSTAMP:20260419T173337
CREATED:20250507T161804Z
LAST-MODIFIED:20250507T161804Z
UID:10013044-1887890400-1887890400@yanaclub.com
SUMMARY:Hilton Head ACA
DESCRIPTION:Open / Discussion
URL:https://yanaclub.com/event/hilton-head-aca/2029-10-28/
CATEGORIES:ACA
END:VEVENT
BEGIN:VEVENT
DTSTART;TZID=America/New_York:20291104T140000
DTEND;TZID=America/New_York:20291104T140000
DTSTAMP:20260419T173337
CREATED:20250507T161804Z
LAST-MODIFIED:20250507T161804Z
UID:10013045-1888495200-1888495200@yanaclub.com
SUMMARY:Hilton Head ACA
DESCRIPTION:Open / Discussion
URL:https://yanaclub.com/event/hilton-head-aca/2029-11-04/
CATEGORIES:ACA
END:VEVENT
BEGIN:VEVENT
DTSTART;TZID=America/New_York:20291111T140000
DTEND;TZID=America/New_York:20291111T140000
DTSTAMP:20260419T173337
CREATED:20250507T161804Z
LAST-MODIFIED:20250507T161804Z
UID:10013046-1889100000-1889100000@yanaclub.com
SUMMARY:Hilton Head ACA
DESCRIPTION:Open / Discussion
URL:https://yanaclub.com/event/hilton-head-aca/2029-11-11/
CATEGORIES:ACA
END:VEVENT
BEGIN:VEVENT
DTSTART;TZID=America/New_York:20291118T140000
DTEND;TZID=America/New_York:20291118T140000
DTSTAMP:20260419T173337
CREATED:20250507T161804Z
LAST-MODIFIED:20250507T161804Z
UID:10013047-1889704800-1889704800@yanaclub.com
SUMMARY:Hilton Head ACA
DESCRIPTION:Open / Discussion
URL:https://yanaclub.com/event/hilton-head-aca/2029-11-18/
CATEGORIES:ACA
END:VEVENT
BEGIN:VEVENT
DTSTART;TZID=America/New_York:20291125T140000
DTEND;TZID=America/New_York:20291125T140000
DTSTAMP:20260419T173337
CREATED:20250507T161804Z
LAST-MODIFIED:20250507T161804Z
UID:10013048-1890309600-1890309600@yanaclub.com
SUMMARY:Hilton Head ACA
DESCRIPTION:Open / Discussion
URL:https://yanaclub.com/event/hilton-head-aca/2029-11-25/
CATEGORIES:ACA
END:VEVENT
BEGIN:VEVENT
DTSTART;TZID=America/New_York:20291202T140000
DTEND;TZID=America/New_York:20291202T140000
DTSTAMP:20260419T173337
CREATED:20250507T161804Z
LAST-MODIFIED:20250507T161804Z
UID:10013049-1890914400-1890914400@yanaclub.com
SUMMARY:Hilton Head ACA
DESCRIPTION:Open / Discussion
URL:https://yanaclub.com/event/hilton-head-aca/2029-12-02/
CATEGORIES:ACA
END:VEVENT
BEGIN:VEVENT
DTSTART;TZID=America/New_York:20291209T140000
DTEND;TZID=America/New_York:20291209T140000
DTSTAMP:20260419T173337
CREATED:20250507T161804Z
LAST-MODIFIED:20250507T161804Z
UID:10013050-1891519200-1891519200@yanaclub.com
SUMMARY:Hilton Head ACA
DESCRIPTION:Open / Discussion
URL:https://yanaclub.com/event/hilton-head-aca/2029-12-09/
CATEGORIES:ACA
END:VEVENT
BEGIN:VEVENT
DTSTART;TZID=America/New_York:20291216T140000
DTEND;TZID=America/New_York:20291216T140000
DTSTAMP:20260419T173337
CREATED:20250507T161804Z
LAST-MODIFIED:20250507T161804Z
UID:10013051-1892124000-1892124000@yanaclub.com
SUMMARY:Hilton Head ACA
DESCRIPTION:Open / Discussion
URL:https://yanaclub.com/event/hilton-head-aca/2029-12-16/
CATEGORIES:ACA
END:VEVENT
BEGIN:VEVENT
DTSTART;TZID=America/New_York:20291223T140000
DTEND;TZID=America/New_York:20291223T140000
DTSTAMP:20260419T173337
CREATED:20250507T161804Z
LAST-MODIFIED:20250507T161804Z
UID:10013052-1892728800-1892728800@yanaclub.com
SUMMARY:Hilton Head ACA
DESCRIPTION:Open / Discussion
URL:https://yanaclub.com/event/hilton-head-aca/2029-12-23/
CATEGORIES:ACA
END:VEVENT
BEGIN:VEVENT
DTSTART;TZID=America/New_York:20291230T140000
DTEND;TZID=America/New_York:20291230T140000
DTSTAMP:20260419T173337
CREATED:20250507T161804Z
LAST-MODIFIED:20250507T161804Z
UID:10013053-1893333600-1893333600@yanaclub.com
SUMMARY:Hilton Head ACA
DESCRIPTION:Open / Discussion
URL:https://yanaclub.com/event/hilton-head-aca/2029-12-30/
CATEGORIES:ACA
END:VEVENT
BEGIN:VEVENT
DTSTART;TZID=America/New_York:20300106T140000
DTEND;TZID=America/New_York:20300106T140000
DTSTAMP:20260419T173337
CREATED:20250507T161804Z
LAST-MODIFIED:20250507T161804Z
UID:10013054-1893938400-1893938400@yanaclub.com
SUMMARY:Hilton Head ACA
DESCRIPTION:Open / Discussion
URL:https://yanaclub.com/event/hilton-head-aca/2030-01-06/
CATEGORIES:ACA
END:VEVENT
BEGIN:VEVENT
DTSTART;TZID=America/New_York:20300113T140000
DTEND;TZID=America/New_York:20300113T140000
DTSTAMP:20260419T173337
CREATED:20250507T161804Z
LAST-MODIFIED:20250507T161804Z
UID:10013055-1894543200-1894543200@yanaclub.com
SUMMARY:Hilton Head ACA
DESCRIPTION:Open / Discussion
URL:https://yanaclub.com/event/hilton-head-aca/2030-01-13/
CATEGORIES:ACA
END:VEVENT
BEGIN:VEVENT
DTSTART;TZID=America/New_York:20300120T140000
DTEND;TZID=America/New_York:20300120T140000
DTSTAMP:20260419T173337
CREATED:20250507T161804Z
LAST-MODIFIED:20250507T161804Z
UID:10013056-1895148000-1895148000@yanaclub.com
SUMMARY:Hilton Head ACA
DESCRIPTION:Open / Discussion
URL:https://yanaclub.com/event/hilton-head-aca/2030-01-20/
CATEGORIES:ACA
END:VEVENT
BEGIN:VEVENT
DTSTART;TZID=America/New_York:20300127T140000
DTEND;TZID=America/New_York:20300127T140000
DTSTAMP:20260419T173337
CREATED:20250507T161804Z
LAST-MODIFIED:20250507T161804Z
UID:10013057-1895752800-1895752800@yanaclub.com
SUMMARY:Hilton Head ACA
DESCRIPTION:Open / Discussion
URL:https://yanaclub.com/event/hilton-head-aca/2030-01-27/
CATEGORIES:ACA
END:VEVENT
BEGIN:VEVENT
DTSTART;TZID=America/New_York:20300203T140000
DTEND;TZID=America/New_York:20300203T140000
DTSTAMP:20260419T173337
CREATED:20250507T161804Z
LAST-MODIFIED:20250507T161804Z
UID:10013058-1896357600-1896357600@yanaclub.com
SUMMARY:Hilton Head ACA
DESCRIPTION:Open / Discussion
URL:https://yanaclub.com/event/hilton-head-aca/2030-02-03/
CATEGORIES:ACA
END:VEVENT
END:VCALENDAR