BEGIN:VCALENDAR
VERSION:2.0
PRODID:-//YANA Club of Hilton Head Island - ECPv6.11.2//NONSGML v1.0//EN
CALSCALE:GREGORIAN
METHOD:PUBLISH
X-ORIGINAL-URL:https://yanaclub.com
X-WR-CALDESC:Events for YANA Club of Hilton Head Island
REFRESH-INTERVAL;VALUE=DURATION:PT1H
X-Robots-Tag:noindex
X-PUBLISHED-TTL:PT1H
BEGIN:VTIMEZONE
TZID:America/New_York
BEGIN:DAYLIGHT
TZOFFSETFROM:-0500
TZOFFSETTO:-0400
TZNAME:EDT
DTSTART:20260308T070000
END:DAYLIGHT
BEGIN:STANDARD
TZOFFSETFROM:-0400
TZOFFSETTO:-0500
TZNAME:EST
DTSTART:20261101T060000
END:STANDARD
END:VTIMEZONE
BEGIN:VEVENT
DTSTART;TZID=America/New_York:20260629T090000
DTEND;TZID=America/New_York:20260629T100000
DTSTAMP:20260422T175929
CREATED:20250507T155840Z
LAST-MODIFIED:20250507T155840Z
UID:10007622-1782723600-1782727200@yanaclub.com
SUMMARY:SANS (Sober Now Sane)
DESCRIPTION:Open / Discussion
URL:https://yanaclub.com/event/sans-sober-now-sane/2026-06-29/
CATEGORIES:AA
END:VEVENT
BEGIN:VEVENT
DTSTART;TZID=America/New_York:20260629T121500
DTEND;TZID=America/New_York:20260629T131500
DTSTAMP:20260422T175929
CREATED:20250507T154857Z
LAST-MODIFIED:20250507T155521Z
UID:10001469-1782735300-1782738900@yanaclub.com
SUMMARY:No Name
DESCRIPTION:Open / Topic Discussion
URL:https://yanaclub.com/event/no-name/2026-06-29/
CATEGORIES:AA
END:VEVENT
BEGIN:VEVENT
DTSTART;TZID=America/New_York:20260629T173000
DTEND;TZID=America/New_York:20260629T183000
DTSTAMP:20260422T175929
CREATED:20250507T155118Z
LAST-MODIFIED:20250507T155118Z
UID:10003380-1782754200-1782757800@yanaclub.com
SUMMARY:Serenity
DESCRIPTION:Open Discussion
URL:https://yanaclub.com/event/serenity/2026-06-29/
CATEGORIES:AA
END:VEVENT
BEGIN:VEVENT
DTSTART;TZID=America/New_York:20260630T090000
DTEND;TZID=America/New_York:20260630T100000
DTSTAMP:20260422T175929
CREATED:20250507T155840Z
LAST-MODIFIED:20250507T155840Z
UID:10007623-1782810000-1782813600@yanaclub.com
SUMMARY:SANS (Sober Now Sane)
DESCRIPTION:Open / Discussion
URL:https://yanaclub.com/event/sans-sober-now-sane/2026-06-30/
CATEGORIES:AA
END:VEVENT
BEGIN:VEVENT
DTSTART;TZID=America/New_York:20260630T121500
DTEND;TZID=America/New_York:20260630T131500
DTSTAMP:20260422T175929
CREATED:20250507T154857Z
LAST-MODIFIED:20250507T155521Z
UID:10001470-1782821700-1782825300@yanaclub.com
SUMMARY:No Name
DESCRIPTION:Open / Topic Discussion
URL:https://yanaclub.com/event/no-name/2026-06-30/
CATEGORIES:AA
END:VEVENT
BEGIN:VEVENT
DTSTART;TZID=America/New_York:20260630T173000
DTEND;TZID=America/New_York:20260630T183000
DTSTAMP:20260422T175929
CREATED:20250507T155118Z
LAST-MODIFIED:20250507T155118Z
UID:10003381-1782840600-1782844200@yanaclub.com
SUMMARY:Serenity
DESCRIPTION:Open Discussion
URL:https://yanaclub.com/event/serenity/2026-06-30/
CATEGORIES:AA
END:VEVENT
BEGIN:VEVENT
DTSTART;TZID=America/New_York:20260630T190000
DTEND;TZID=America/New_York:20260630T200000
DTSTAMP:20260422T175929
CREATED:20250507T160104Z
LAST-MODIFIED:20250507T160104Z
UID:10008690-1782846000-1782849600@yanaclub.com
SUMMARY:Mens Back to Basics
DESCRIPTION:Closed / Discussion / Mens
URL:https://yanaclub.com/event/mens-back-to-basics/2026-06-30/
CATEGORIES:AA
END:VEVENT
BEGIN:VEVENT
DTSTART;TZID=America/New_York:20260630T200000
DTEND;TZID=America/New_York:20260630T210000
DTSTAMP:20260422T175929
CREATED:20250507T160652Z
LAST-MODIFIED:20250507T160652Z
UID:10009655-1782849600-1782853200@yanaclub.com
SUMMARY:Grupo Latino
DESCRIPTION:Open / Discussion / Spanish Language
URL:https://yanaclub.com/event/grupo-latino/2026-06-30/
CATEGORIES:AA
END:VEVENT
BEGIN:VEVENT
DTSTART;TZID=America/New_York:20260701T070000
DTEND;TZID=America/New_York:20260701T080000
DTSTAMP:20260422T175929
CREATED:20250507T160920Z
LAST-MODIFIED:20250507T160920Z
UID:10010781-1782889200-1782892800@yanaclub.com
SUMMARY:Design for Living
DESCRIPTION:Closed / Discussion
URL:https://yanaclub.com/event/design-for-living/2026-07-01/
CATEGORIES:AA
END:VEVENT
BEGIN:VEVENT
DTSTART;TZID=America/New_York:20260701T090000
DTEND;TZID=America/New_York:20260701T100000
DTSTAMP:20260422T175929
CREATED:20250507T155840Z
LAST-MODIFIED:20250507T155840Z
UID:10007624-1782896400-1782900000@yanaclub.com
SUMMARY:SANS (Sober Now Sane)
DESCRIPTION:Open / Discussion
URL:https://yanaclub.com/event/sans-sober-now-sane/2026-07-01/
CATEGORIES:AA
END:VEVENT
BEGIN:VEVENT
DTSTART;TZID=America/New_York:20260701T121500
DTEND;TZID=America/New_York:20260701T131500
DTSTAMP:20260422T175929
CREATED:20250507T154857Z
LAST-MODIFIED:20250507T155521Z
UID:10001471-1782908100-1782911700@yanaclub.com
SUMMARY:No Name
DESCRIPTION:Open / Topic Discussion
URL:https://yanaclub.com/event/no-name/2026-07-01/
CATEGORIES:AA
END:VEVENT
BEGIN:VEVENT
DTSTART;TZID=America/New_York:20260701T173000
DTEND;TZID=America/New_York:20260701T183000
DTSTAMP:20260422T175929
CREATED:20250507T155118Z
LAST-MODIFIED:20250507T155118Z
UID:10003382-1782927000-1782930600@yanaclub.com
SUMMARY:Serenity
DESCRIPTION:Open Discussion
URL:https://yanaclub.com/event/serenity/2026-07-01/
CATEGORIES:AA
END:VEVENT
BEGIN:VEVENT
DTSTART;TZID=America/New_York:20260701T200000
DTEND;TZID=America/New_York:20260701T210000
DTSTAMP:20260422T175929
CREATED:20250507T160652Z
LAST-MODIFIED:20250507T160652Z
UID:10009656-1782936000-1782939600@yanaclub.com
SUMMARY:Grupo Latino
DESCRIPTION:Open / Discussion / Spanish Language
URL:https://yanaclub.com/event/grupo-latino/2026-07-01/
CATEGORIES:AA
END:VEVENT
BEGIN:VEVENT
DTSTART;TZID=America/New_York:20260702T090000
DTEND;TZID=America/New_York:20260702T100000
DTSTAMP:20260422T175929
CREATED:20250507T155840Z
LAST-MODIFIED:20250507T155840Z
UID:10007625-1782982800-1782986400@yanaclub.com
SUMMARY:SANS (Sober Now Sane)
DESCRIPTION:Open / Discussion
URL:https://yanaclub.com/event/sans-sober-now-sane/2026-07-02/
CATEGORIES:AA
END:VEVENT
BEGIN:VEVENT
DTSTART;TZID=America/New_York:20260702T121500
DTEND;TZID=America/New_York:20260702T131500
DTSTAMP:20260422T175929
CREATED:20250507T154857Z
LAST-MODIFIED:20250507T155521Z
UID:10001472-1782994500-1782998100@yanaclub.com
SUMMARY:No Name
DESCRIPTION:Open / Topic Discussion
URL:https://yanaclub.com/event/no-name/2026-07-02/
CATEGORIES:AA
END:VEVENT
BEGIN:VEVENT
DTSTART;TZID=America/New_York:20260702T173000
DTEND;TZID=America/New_York:20260702T183000
DTSTAMP:20260422T175929
CREATED:20250507T155118Z
LAST-MODIFIED:20250507T155118Z
UID:10003383-1783013400-1783017000@yanaclub.com
SUMMARY:Serenity
DESCRIPTION:Open Discussion
URL:https://yanaclub.com/event/serenity/2026-07-02/
CATEGORIES:AA
END:VEVENT
BEGIN:VEVENT
DTSTART;TZID=America/New_York:20260702T184500
DTEND;TZID=America/New_York:20260702T194500
DTSTAMP:20260422T175930
CREATED:20250507T161123Z
LAST-MODIFIED:20250507T161123Z
UID:10011303-1783017900-1783021500@yanaclub.com
SUMMARY:645 YANA Womens
DESCRIPTION:Closed / Topic Discussion / Womens
URL:https://yanaclub.com/event/645-yana-womens/2026-07-02/
CATEGORIES:AA
END:VEVENT
BEGIN:VEVENT
DTSTART;TZID=America/New_York:20260703T090000
DTEND;TZID=America/New_York:20260703T100000
DTSTAMP:20260422T175930
CREATED:20250507T155840Z
LAST-MODIFIED:20250507T155840Z
UID:10007626-1783069200-1783072800@yanaclub.com
SUMMARY:SANS (Sober Now Sane)
DESCRIPTION:Open / Discussion
URL:https://yanaclub.com/event/sans-sober-now-sane/2026-07-03/
CATEGORIES:AA
END:VEVENT
BEGIN:VEVENT
DTSTART;TZID=America/New_York:20260703T121500
DTEND;TZID=America/New_York:20260703T131500
DTSTAMP:20260422T175930
CREATED:20250507T154857Z
LAST-MODIFIED:20250507T155521Z
UID:10001473-1783080900-1783084500@yanaclub.com
SUMMARY:No Name
DESCRIPTION:Open / Topic Discussion
URL:https://yanaclub.com/event/no-name/2026-07-03/
CATEGORIES:AA
END:VEVENT
BEGIN:VEVENT
DTSTART;TZID=America/New_York:20260703T180000
DTEND;TZID=America/New_York:20260703T190000
DTSTAMP:20260422T175930
CREATED:20250507T161244Z
LAST-MODIFIED:20250507T161244Z
UID:10011825-1783101600-1783105200@yanaclub.com
SUMMARY:Young Peoples
DESCRIPTION:Open / Discussion
URL:https://yanaclub.com/event/young-peoples/2026-07-03/
CATEGORIES:AA
END:VEVENT
BEGIN:VEVENT
DTSTART;TZID=America/New_York:20260703T180000
DTEND;TZID=America/New_York:20260703T190000
DTSTAMP:20260422T175930
CREATED:20250507T161346Z
LAST-MODIFIED:20250507T161346Z
UID:10012086-1783101600-1783105200@yanaclub.com
SUMMARY:Together We Can
DESCRIPTION:Open / Discussion
URL:https://yanaclub.com/event/together-we-can/2026-07-03/
CATEGORIES:AA
END:VEVENT
BEGIN:VEVENT
DTSTART;TZID=America/New_York:20260703T200000
DTEND;TZID=America/New_York:20260703T210000
DTSTAMP:20260422T175930
CREATED:20250507T160652Z
LAST-MODIFIED:20250507T160652Z
UID:10009657-1783108800-1783112400@yanaclub.com
SUMMARY:Grupo Latino
DESCRIPTION:Open / Discussion / Spanish Language
URL:https://yanaclub.com/event/grupo-latino/2026-07-03/
CATEGORIES:AA
END:VEVENT
BEGIN:VEVENT
DTSTART;TZID=America/New_York:20260704T090000
DTEND;TZID=America/New_York:20260704T100000
DTSTAMP:20260422T175930
CREATED:20250502T104804Z
LAST-MODIFIED:20250502T104804Z
UID:10000063-1783155600-1783159200@yanaclub.com
SUMMARY:Saturday Big Book Study
DESCRIPTION:Type: O/BB
URL:https://yanaclub.com/event/saturday-big-book-study/2026-07-04/
CATEGORIES:AA
END:VEVENT
BEGIN:VEVENT
DTSTART;TZID=America/New_York:20260704T121500
DTEND;TZID=America/New_York:20260704T131500
DTSTAMP:20260422T175930
CREATED:20250507T154857Z
LAST-MODIFIED:20250507T155521Z
UID:10001474-1783167300-1783170900@yanaclub.com
SUMMARY:No Name
DESCRIPTION:Open / Topic Discussion
URL:https://yanaclub.com/event/no-name/2026-07-04/
CATEGORIES:AA
END:VEVENT
BEGIN:VEVENT
DTSTART;TZID=America/New_York:20260704T173000
DTEND;TZID=America/New_York:20260704T183000
DTSTAMP:20260422T175930
CREATED:20250507T155250Z
LAST-MODIFIED:20250507T155250Z
UID:10005292-1783186200-1783189800@yanaclub.com
SUMMARY:Serenity 1st Step
DESCRIPTION:Open / Discussion / Beginners
URL:https://yanaclub.com/event/serenity-1st-step/2026-07-04/
CATEGORIES:AA
END:VEVENT
BEGIN:VEVENT
DTSTART;TZID=America/New_York:20260704T200000
DTEND;TZID=America/New_York:20260704T210000
DTSTAMP:20260422T175930
CREATED:20250507T160652Z
LAST-MODIFIED:20250507T160652Z
UID:10009658-1783195200-1783198800@yanaclub.com
SUMMARY:Grupo Latino
DESCRIPTION:Open / Discussion / Spanish Language
URL:https://yanaclub.com/event/grupo-latino/2026-07-04/
CATEGORIES:AA
END:VEVENT
BEGIN:VEVENT
DTSTART;TZID=America/New_York:20260705T090000
DTEND;TZID=America/New_York:20260705T100000
DTSTAMP:20260422T175930
CREATED:20250507T161539Z
LAST-MODIFIED:20250507T161540Z
UID:10012347-1783242000-1783245600@yanaclub.com
SUMMARY:Breakfast Club
DESCRIPTION:Open /  Speaker Meeting
URL:https://yanaclub.com/event/breakfast-club-2/2026-07-05/
CATEGORIES:AA
END:VEVENT
BEGIN:VEVENT
DTSTART;TZID=America/New_York:20260705T121500
DTEND;TZID=America/New_York:20260705T131500
DTSTAMP:20260422T175930
CREATED:20250507T154857Z
LAST-MODIFIED:20250507T155521Z
UID:10001475-1783253700-1783257300@yanaclub.com
SUMMARY:No Name
DESCRIPTION:Open / Topic Discussion
URL:https://yanaclub.com/event/no-name/2026-07-05/
CATEGORIES:AA
END:VEVENT
END:VCALENDAR