BEGIN:VCALENDAR
VERSION:2.0
PRODID:-//YANA Club of Hilton Head Island - ECPv6.11.2//NONSGML v1.0//EN
CALSCALE:GREGORIAN
METHOD:PUBLISH
X-WR-CALNAME:YANA Club of Hilton Head Island
X-ORIGINAL-URL:https://yanaclub.com
X-WR-CALDESC:Events for YANA Club of Hilton Head Island
REFRESH-INTERVAL;VALUE=DURATION:PT1H
X-Robots-Tag:noindex
X-PUBLISHED-TTL:PT1H
BEGIN:VTIMEZONE
TZID:America/New_York
BEGIN:DAYLIGHT
TZOFFSETFROM:-0500
TZOFFSETTO:-0400
TZNAME:EDT
DTSTART:20260308T070000
END:DAYLIGHT
BEGIN:STANDARD
TZOFFSETFROM:-0400
TZOFFSETTO:-0500
TZNAME:EST
DTSTART:20261101T060000
END:STANDARD
END:VTIMEZONE
BEGIN:VEVENT
DTSTART;TZID=America/New_York:20260504T090000
DTEND;TZID=America/New_York:20260504T100000
DTSTAMP:20260422T161038
CREATED:20250507T155840Z
LAST-MODIFIED:20250507T155840Z
UID:10007582-1777885200-1777888800@yanaclub.com
SUMMARY:SANS (Sober Now Sane)
DESCRIPTION:Open / Discussion
URL:https://yanaclub.com/event/sans-sober-now-sane/2026-05-04/
CATEGORIES:AA
END:VEVENT
BEGIN:VEVENT
DTSTART;TZID=America/New_York:20260504T121500
DTEND;TZID=America/New_York:20260504T131500
DTSTAMP:20260422T161038
CREATED:20250507T154857Z
LAST-MODIFIED:20250507T155521Z
UID:10001413-1777896900-1777900500@yanaclub.com
SUMMARY:No Name
DESCRIPTION:Open / Topic Discussion
URL:https://yanaclub.com/event/no-name/2026-05-04/
CATEGORIES:AA
END:VEVENT
BEGIN:VEVENT
DTSTART;TZID=America/New_York:20260504T173000
DTEND;TZID=America/New_York:20260504T183000
DTSTAMP:20260422T161038
CREATED:20250507T155118Z
LAST-MODIFIED:20250507T155118Z
UID:10003348-1777915800-1777919400@yanaclub.com
SUMMARY:Serenity
DESCRIPTION:Open Discussion
URL:https://yanaclub.com/event/serenity/2026-05-04/
CATEGORIES:AA
END:VEVENT
BEGIN:VEVENT
DTSTART;TZID=America/New_York:20260505T090000
DTEND;TZID=America/New_York:20260505T100000
DTSTAMP:20260422T161038
CREATED:20250507T155840Z
LAST-MODIFIED:20250507T155840Z
UID:10007583-1777971600-1777975200@yanaclub.com
SUMMARY:SANS (Sober Now Sane)
DESCRIPTION:Open / Discussion
URL:https://yanaclub.com/event/sans-sober-now-sane/2026-05-05/
CATEGORIES:AA
END:VEVENT
BEGIN:VEVENT
DTSTART;TZID=America/New_York:20260505T121500
DTEND;TZID=America/New_York:20260505T131500
DTSTAMP:20260422T161038
CREATED:20250507T154857Z
LAST-MODIFIED:20250507T155521Z
UID:10001414-1777983300-1777986900@yanaclub.com
SUMMARY:No Name
DESCRIPTION:Open / Topic Discussion
URL:https://yanaclub.com/event/no-name/2026-05-05/
CATEGORIES:AA
END:VEVENT
BEGIN:VEVENT
DTSTART;TZID=America/New_York:20260505T173000
DTEND;TZID=America/New_York:20260505T183000
DTSTAMP:20260422T161038
CREATED:20250507T155118Z
LAST-MODIFIED:20250507T155118Z
UID:10003349-1778002200-1778005800@yanaclub.com
SUMMARY:Serenity
DESCRIPTION:Open Discussion
URL:https://yanaclub.com/event/serenity/2026-05-05/
CATEGORIES:AA
END:VEVENT
BEGIN:VEVENT
DTSTART;TZID=America/New_York:20260505T190000
DTEND;TZID=America/New_York:20260505T200000
DTSTAMP:20260422T161038
CREATED:20250507T160104Z
LAST-MODIFIED:20250507T160104Z
UID:10008682-1778007600-1778011200@yanaclub.com
SUMMARY:Mens Back to Basics
DESCRIPTION:Closed / Discussion / Mens
URL:https://yanaclub.com/event/mens-back-to-basics/2026-05-05/
CATEGORIES:AA
END:VEVENT
BEGIN:VEVENT
DTSTART;TZID=America/New_York:20260505T200000
DTEND;TZID=America/New_York:20260505T210000
DTSTAMP:20260422T161038
CREATED:20250507T160652Z
LAST-MODIFIED:20250507T160652Z
UID:10009623-1778011200-1778014800@yanaclub.com
SUMMARY:Grupo Latino
DESCRIPTION:Open / Discussion / Spanish Language
URL:https://yanaclub.com/event/grupo-latino/2026-05-05/
CATEGORIES:AA
END:VEVENT
BEGIN:VEVENT
DTSTART;TZID=America/New_York:20260506T070000
DTEND;TZID=America/New_York:20260506T080000
DTSTAMP:20260422T161038
CREATED:20250507T160920Z
LAST-MODIFIED:20250507T160920Z
UID:10010773-1778050800-1778054400@yanaclub.com
SUMMARY:Design for Living
DESCRIPTION:Closed / Discussion
URL:https://yanaclub.com/event/design-for-living/2026-05-06/
CATEGORIES:AA
END:VEVENT
BEGIN:VEVENT
DTSTART;TZID=America/New_York:20260506T090000
DTEND;TZID=America/New_York:20260506T100000
DTSTAMP:20260422T161038
CREATED:20250507T155840Z
LAST-MODIFIED:20250507T155840Z
UID:10007584-1778058000-1778061600@yanaclub.com
SUMMARY:SANS (Sober Now Sane)
DESCRIPTION:Open / Discussion
URL:https://yanaclub.com/event/sans-sober-now-sane/2026-05-06/
CATEGORIES:AA
END:VEVENT
BEGIN:VEVENT
DTSTART;TZID=America/New_York:20260506T121500
DTEND;TZID=America/New_York:20260506T131500
DTSTAMP:20260422T161038
CREATED:20250507T154857Z
LAST-MODIFIED:20250507T155521Z
UID:10001415-1778069700-1778073300@yanaclub.com
SUMMARY:No Name
DESCRIPTION:Open / Topic Discussion
URL:https://yanaclub.com/event/no-name/2026-05-06/
CATEGORIES:AA
END:VEVENT
BEGIN:VEVENT
DTSTART;TZID=America/New_York:20260506T173000
DTEND;TZID=America/New_York:20260506T183000
DTSTAMP:20260422T161038
CREATED:20250507T155118Z
LAST-MODIFIED:20250507T155118Z
UID:10003350-1778088600-1778092200@yanaclub.com
SUMMARY:Serenity
DESCRIPTION:Open Discussion
URL:https://yanaclub.com/event/serenity/2026-05-06/
CATEGORIES:AA
END:VEVENT
BEGIN:VEVENT
DTSTART;TZID=America/New_York:20260506T200000
DTEND;TZID=America/New_York:20260506T210000
DTSTAMP:20260422T161038
CREATED:20250507T160652Z
LAST-MODIFIED:20250507T160652Z
UID:10009624-1778097600-1778101200@yanaclub.com
SUMMARY:Grupo Latino
DESCRIPTION:Open / Discussion / Spanish Language
URL:https://yanaclub.com/event/grupo-latino/2026-05-06/
CATEGORIES:AA
END:VEVENT
BEGIN:VEVENT
DTSTART;TZID=America/New_York:20260507T090000
DTEND;TZID=America/New_York:20260507T100000
DTSTAMP:20260422T161038
CREATED:20250507T155840Z
LAST-MODIFIED:20250507T155840Z
UID:10007585-1778144400-1778148000@yanaclub.com
SUMMARY:SANS (Sober Now Sane)
DESCRIPTION:Open / Discussion
URL:https://yanaclub.com/event/sans-sober-now-sane/2026-05-07/
CATEGORIES:AA
END:VEVENT
BEGIN:VEVENT
DTSTART;TZID=America/New_York:20260507T121500
DTEND;TZID=America/New_York:20260507T131500
DTSTAMP:20260422T161038
CREATED:20250507T154857Z
LAST-MODIFIED:20250507T155521Z
UID:10001416-1778156100-1778159700@yanaclub.com
SUMMARY:No Name
DESCRIPTION:Open / Topic Discussion
URL:https://yanaclub.com/event/no-name/2026-05-07/
CATEGORIES:AA
END:VEVENT
BEGIN:VEVENT
DTSTART;TZID=America/New_York:20260507T173000
DTEND;TZID=America/New_York:20260507T183000
DTSTAMP:20260422T161038
CREATED:20250507T155118Z
LAST-MODIFIED:20250507T155118Z
UID:10003351-1778175000-1778178600@yanaclub.com
SUMMARY:Serenity
DESCRIPTION:Open Discussion
URL:https://yanaclub.com/event/serenity/2026-05-07/
CATEGORIES:AA
END:VEVENT
BEGIN:VEVENT
DTSTART;TZID=America/New_York:20260507T184500
DTEND;TZID=America/New_York:20260507T194500
DTSTAMP:20260422T161038
CREATED:20250507T161123Z
LAST-MODIFIED:20250507T161123Z
UID:10011295-1778179500-1778183100@yanaclub.com
SUMMARY:645 YANA Womens
DESCRIPTION:Closed / Topic Discussion / Womens
URL:https://yanaclub.com/event/645-yana-womens/2026-05-07/
CATEGORIES:AA
END:VEVENT
BEGIN:VEVENT
DTSTART;TZID=America/New_York:20260508T090000
DTEND;TZID=America/New_York:20260508T100000
DTSTAMP:20260422T161038
CREATED:20250507T155840Z
LAST-MODIFIED:20250507T155840Z
UID:10007586-1778230800-1778234400@yanaclub.com
SUMMARY:SANS (Sober Now Sane)
DESCRIPTION:Open / Discussion
URL:https://yanaclub.com/event/sans-sober-now-sane/2026-05-08/
CATEGORIES:AA
END:VEVENT
BEGIN:VEVENT
DTSTART;TZID=America/New_York:20260508T121500
DTEND;TZID=America/New_York:20260508T131500
DTSTAMP:20260422T161038
CREATED:20250507T154857Z
LAST-MODIFIED:20250507T155521Z
UID:10001417-1778242500-1778246100@yanaclub.com
SUMMARY:No Name
DESCRIPTION:Open / Topic Discussion
URL:https://yanaclub.com/event/no-name/2026-05-08/
CATEGORIES:AA
END:VEVENT
BEGIN:VEVENT
DTSTART;TZID=America/New_York:20260508T180000
DTEND;TZID=America/New_York:20260508T190000
DTSTAMP:20260422T161038
CREATED:20250507T161244Z
LAST-MODIFIED:20250507T161244Z
UID:10011817-1778263200-1778266800@yanaclub.com
SUMMARY:Young Peoples
DESCRIPTION:Open / Discussion
URL:https://yanaclub.com/event/young-peoples/2026-05-08/
CATEGORIES:AA
END:VEVENT
BEGIN:VEVENT
DTSTART;TZID=America/New_York:20260508T180000
DTEND;TZID=America/New_York:20260508T190000
DTSTAMP:20260422T161038
CREATED:20250507T161346Z
LAST-MODIFIED:20250507T161346Z
UID:10012078-1778263200-1778266800@yanaclub.com
SUMMARY:Together We Can
DESCRIPTION:Open / Discussion
URL:https://yanaclub.com/event/together-we-can/2026-05-08/
CATEGORIES:AA
END:VEVENT
BEGIN:VEVENT
DTSTART;TZID=America/New_York:20260508T200000
DTEND;TZID=America/New_York:20260508T210000
DTSTAMP:20260422T161038
CREATED:20250507T160652Z
LAST-MODIFIED:20250507T160652Z
UID:10009625-1778270400-1778274000@yanaclub.com
SUMMARY:Grupo Latino
DESCRIPTION:Open / Discussion / Spanish Language
URL:https://yanaclub.com/event/grupo-latino/2026-05-08/
CATEGORIES:AA
END:VEVENT
BEGIN:VEVENT
DTSTART;TZID=America/New_York:20260509T090000
DTEND;TZID=America/New_York:20260509T100000
DTSTAMP:20260422T161038
CREATED:20250502T104804Z
LAST-MODIFIED:20250502T104804Z
UID:10000055-1778317200-1778320800@yanaclub.com
SUMMARY:Saturday Big Book Study
DESCRIPTION:Type: O/BB
URL:https://yanaclub.com/event/saturday-big-book-study/2026-05-09/
CATEGORIES:AA
END:VEVENT
BEGIN:VEVENT
DTSTART;TZID=America/New_York:20260509T121500
DTEND;TZID=America/New_York:20260509T131500
DTSTAMP:20260422T161038
CREATED:20250507T154857Z
LAST-MODIFIED:20250507T155521Z
UID:10001418-1778328900-1778332500@yanaclub.com
SUMMARY:No Name
DESCRIPTION:Open / Topic Discussion
URL:https://yanaclub.com/event/no-name/2026-05-09/
CATEGORIES:AA
END:VEVENT
BEGIN:VEVENT
DTSTART;TZID=America/New_York:20260509T173000
DTEND;TZID=America/New_York:20260509T183000
DTSTAMP:20260422T161038
CREATED:20250507T155250Z
LAST-MODIFIED:20250507T155250Z
UID:10005284-1778347800-1778351400@yanaclub.com
SUMMARY:Serenity 1st Step
DESCRIPTION:Open / Discussion / Beginners
URL:https://yanaclub.com/event/serenity-1st-step/2026-05-09/
CATEGORIES:AA
END:VEVENT
BEGIN:VEVENT
DTSTART;TZID=America/New_York:20260509T200000
DTEND;TZID=America/New_York:20260509T210000
DTSTAMP:20260422T161038
CREATED:20250507T160652Z
LAST-MODIFIED:20250507T160652Z
UID:10009626-1778356800-1778360400@yanaclub.com
SUMMARY:Grupo Latino
DESCRIPTION:Open / Discussion / Spanish Language
URL:https://yanaclub.com/event/grupo-latino/2026-05-09/
CATEGORIES:AA
END:VEVENT
BEGIN:VEVENT
DTSTART;TZID=America/New_York:20260510T090000
DTEND;TZID=America/New_York:20260510T100000
DTSTAMP:20260422T161038
CREATED:20250507T161539Z
LAST-MODIFIED:20250507T161540Z
UID:10012339-1778403600-1778407200@yanaclub.com
SUMMARY:Breakfast Club
DESCRIPTION:Open /  Speaker Meeting
URL:https://yanaclub.com/event/breakfast-club-2/2026-05-10/
CATEGORIES:AA
END:VEVENT
BEGIN:VEVENT
DTSTART;TZID=America/New_York:20260510T121500
DTEND;TZID=America/New_York:20260510T131500
DTSTAMP:20260422T161038
CREATED:20250507T154857Z
LAST-MODIFIED:20250507T155521Z
UID:10001419-1778415300-1778418900@yanaclub.com
SUMMARY:No Name
DESCRIPTION:Open / Topic Discussion
URL:https://yanaclub.com/event/no-name/2026-05-10/
CATEGORIES:AA
END:VEVENT
END:VCALENDAR