BEGIN:VCALENDAR
VERSION:2.0
PRODID:-//YANA Club of Hilton Head Island - ECPv6.11.2//NONSGML v1.0//EN
CALSCALE:GREGORIAN
METHOD:PUBLISH
X-WR-CALNAME:YANA Club of Hilton Head Island
X-ORIGINAL-URL:https://yanaclub.com
X-WR-CALDESC:Events for YANA Club of Hilton Head Island
REFRESH-INTERVAL;VALUE=DURATION:PT1H
X-Robots-Tag:noindex
X-PUBLISHED-TTL:PT1H
BEGIN:VTIMEZONE
TZID:America/New_York
BEGIN:DAYLIGHT
TZOFFSETFROM:-0500
TZOFFSETTO:-0400
TZNAME:EDT
DTSTART:20260308T070000
END:DAYLIGHT
BEGIN:STANDARD
TZOFFSETFROM:-0400
TZOFFSETTO:-0500
TZNAME:EST
DTSTART:20261101T060000
END:STANDARD
END:VTIMEZONE
BEGIN:VEVENT
DTSTART;TZID=America/New_York:20260216T090000
DTEND;TZID=America/New_York:20260216T100000
DTSTAMP:20260422T195557
CREATED:20250507T155840Z
LAST-MODIFIED:20250507T155840Z
UID:10007527-1771232400-1771236000@yanaclub.com
SUMMARY:SANS (Sober Now Sane)
DESCRIPTION:Open / Discussion
URL:https://yanaclub.com/event/sans-sober-now-sane/2026-02-16/
CATEGORIES:AA
END:VEVENT
BEGIN:VEVENT
DTSTART;TZID=America/New_York:20260216T121500
DTEND;TZID=America/New_York:20260216T131500
DTSTAMP:20260422T195557
CREATED:20250507T154857Z
LAST-MODIFIED:20250507T155521Z
UID:10001336-1771244100-1771247700@yanaclub.com
SUMMARY:No Name
DESCRIPTION:Open / Topic Discussion
URL:https://yanaclub.com/event/no-name/2026-02-16/
CATEGORIES:AA
END:VEVENT
BEGIN:VEVENT
DTSTART;TZID=America/New_York:20260216T173000
DTEND;TZID=America/New_York:20260216T183000
DTSTAMP:20260422T195557
CREATED:20250507T155118Z
LAST-MODIFIED:20250507T155118Z
UID:10003304-1771263000-1771266600@yanaclub.com
SUMMARY:Serenity
DESCRIPTION:Open Discussion
URL:https://yanaclub.com/event/serenity/2026-02-16/
CATEGORIES:AA
END:VEVENT
BEGIN:VEVENT
DTSTART;TZID=America/New_York:20260217T090000
DTEND;TZID=America/New_York:20260217T100000
DTSTAMP:20260422T195557
CREATED:20250507T155840Z
LAST-MODIFIED:20250507T155840Z
UID:10007528-1771318800-1771322400@yanaclub.com
SUMMARY:SANS (Sober Now Sane)
DESCRIPTION:Open / Discussion
URL:https://yanaclub.com/event/sans-sober-now-sane/2026-02-17/
CATEGORIES:AA
END:VEVENT
BEGIN:VEVENT
DTSTART;TZID=America/New_York:20260217T121500
DTEND;TZID=America/New_York:20260217T131500
DTSTAMP:20260422T195557
CREATED:20250507T154857Z
LAST-MODIFIED:20250507T155521Z
UID:10001337-1771330500-1771334100@yanaclub.com
SUMMARY:No Name
DESCRIPTION:Open / Topic Discussion
URL:https://yanaclub.com/event/no-name/2026-02-17/
CATEGORIES:AA
END:VEVENT
BEGIN:VEVENT
DTSTART;TZID=America/New_York:20260217T173000
DTEND;TZID=America/New_York:20260217T183000
DTSTAMP:20260422T195557
CREATED:20250507T155118Z
LAST-MODIFIED:20250507T155118Z
UID:10003305-1771349400-1771353000@yanaclub.com
SUMMARY:Serenity
DESCRIPTION:Open Discussion
URL:https://yanaclub.com/event/serenity/2026-02-17/
CATEGORIES:AA
END:VEVENT
BEGIN:VEVENT
DTSTART;TZID=America/New_York:20260217T190000
DTEND;TZID=America/New_York:20260217T200000
DTSTAMP:20260422T195557
CREATED:20250507T160104Z
LAST-MODIFIED:20250507T160104Z
UID:10008671-1771354800-1771358400@yanaclub.com
SUMMARY:Mens Back to Basics
DESCRIPTION:Closed / Discussion / Mens
URL:https://yanaclub.com/event/mens-back-to-basics/2026-02-17/
CATEGORIES:AA
END:VEVENT
BEGIN:VEVENT
DTSTART;TZID=America/New_York:20260217T200000
DTEND;TZID=America/New_York:20260217T210000
DTSTAMP:20260422T195557
CREATED:20250507T160652Z
LAST-MODIFIED:20250507T160652Z
UID:10009579-1771358400-1771362000@yanaclub.com
SUMMARY:Grupo Latino
DESCRIPTION:Open / Discussion / Spanish Language
URL:https://yanaclub.com/event/grupo-latino/2026-02-17/
CATEGORIES:AA
END:VEVENT
BEGIN:VEVENT
DTSTART;TZID=America/New_York:20260218T070000
DTEND;TZID=America/New_York:20260218T080000
DTSTAMP:20260422T195557
CREATED:20250507T160920Z
LAST-MODIFIED:20250507T160920Z
UID:10010762-1771398000-1771401600@yanaclub.com
SUMMARY:Design for Living
DESCRIPTION:Closed / Discussion
URL:https://yanaclub.com/event/design-for-living/2026-02-18/
CATEGORIES:AA
END:VEVENT
BEGIN:VEVENT
DTSTART;TZID=America/New_York:20260218T090000
DTEND;TZID=America/New_York:20260218T100000
DTSTAMP:20260422T195557
CREATED:20250507T155840Z
LAST-MODIFIED:20250507T155840Z
UID:10007529-1771405200-1771408800@yanaclub.com
SUMMARY:SANS (Sober Now Sane)
DESCRIPTION:Open / Discussion
URL:https://yanaclub.com/event/sans-sober-now-sane/2026-02-18/
CATEGORIES:AA
END:VEVENT
BEGIN:VEVENT
DTSTART;TZID=America/New_York:20260218T121500
DTEND;TZID=America/New_York:20260218T131500
DTSTAMP:20260422T195557
CREATED:20250507T154857Z
LAST-MODIFIED:20250507T155521Z
UID:10001338-1771416900-1771420500@yanaclub.com
SUMMARY:No Name
DESCRIPTION:Open / Topic Discussion
URL:https://yanaclub.com/event/no-name/2026-02-18/
CATEGORIES:AA
END:VEVENT
BEGIN:VEVENT
DTSTART;TZID=America/New_York:20260218T173000
DTEND;TZID=America/New_York:20260218T183000
DTSTAMP:20260422T195557
CREATED:20250507T155118Z
LAST-MODIFIED:20250507T155118Z
UID:10003306-1771435800-1771439400@yanaclub.com
SUMMARY:Serenity
DESCRIPTION:Open Discussion
URL:https://yanaclub.com/event/serenity/2026-02-18/
CATEGORIES:AA
END:VEVENT
BEGIN:VEVENT
DTSTART;TZID=America/New_York:20260218T200000
DTEND;TZID=America/New_York:20260218T210000
DTSTAMP:20260422T195557
CREATED:20250507T160652Z
LAST-MODIFIED:20250507T160652Z
UID:10009580-1771444800-1771448400@yanaclub.com
SUMMARY:Grupo Latino
DESCRIPTION:Open / Discussion / Spanish Language
URL:https://yanaclub.com/event/grupo-latino/2026-02-18/
CATEGORIES:AA
END:VEVENT
BEGIN:VEVENT
DTSTART;TZID=America/New_York:20260219T090000
DTEND;TZID=America/New_York:20260219T100000
DTSTAMP:20260422T195557
CREATED:20250507T155840Z
LAST-MODIFIED:20250507T155840Z
UID:10007530-1771491600-1771495200@yanaclub.com
SUMMARY:SANS (Sober Now Sane)
DESCRIPTION:Open / Discussion
URL:https://yanaclub.com/event/sans-sober-now-sane/2026-02-19/
CATEGORIES:AA
END:VEVENT
BEGIN:VEVENT
DTSTART;TZID=America/New_York:20260219T121500
DTEND;TZID=America/New_York:20260219T131500
DTSTAMP:20260422T195557
CREATED:20250507T154857Z
LAST-MODIFIED:20250507T155521Z
UID:10001339-1771503300-1771506900@yanaclub.com
SUMMARY:No Name
DESCRIPTION:Open / Topic Discussion
URL:https://yanaclub.com/event/no-name/2026-02-19/
CATEGORIES:AA
END:VEVENT
BEGIN:VEVENT
DTSTART;TZID=America/New_York:20260219T173000
DTEND;TZID=America/New_York:20260219T183000
DTSTAMP:20260422T195557
CREATED:20250507T155118Z
LAST-MODIFIED:20250507T155118Z
UID:10003307-1771522200-1771525800@yanaclub.com
SUMMARY:Serenity
DESCRIPTION:Open Discussion
URL:https://yanaclub.com/event/serenity/2026-02-19/
CATEGORIES:AA
END:VEVENT
BEGIN:VEVENT
DTSTART;TZID=America/New_York:20260219T184500
DTEND;TZID=America/New_York:20260219T194500
DTSTAMP:20260422T195557
CREATED:20250507T161123Z
LAST-MODIFIED:20250507T161123Z
UID:10011284-1771526700-1771530300@yanaclub.com
SUMMARY:645 YANA Womens
DESCRIPTION:Closed / Topic Discussion / Womens
URL:https://yanaclub.com/event/645-yana-womens/2026-02-19/
CATEGORIES:AA
END:VEVENT
BEGIN:VEVENT
DTSTART;TZID=America/New_York:20260220T090000
DTEND;TZID=America/New_York:20260220T100000
DTSTAMP:20260422T195557
CREATED:20250507T155840Z
LAST-MODIFIED:20250507T155840Z
UID:10007531-1771578000-1771581600@yanaclub.com
SUMMARY:SANS (Sober Now Sane)
DESCRIPTION:Open / Discussion
URL:https://yanaclub.com/event/sans-sober-now-sane/2026-02-20/
CATEGORIES:AA
END:VEVENT
BEGIN:VEVENT
DTSTART;TZID=America/New_York:20260220T121500
DTEND;TZID=America/New_York:20260220T131500
DTSTAMP:20260422T195557
CREATED:20250507T154857Z
LAST-MODIFIED:20250507T155521Z
UID:10001340-1771589700-1771593300@yanaclub.com
SUMMARY:No Name
DESCRIPTION:Open / Topic Discussion
URL:https://yanaclub.com/event/no-name/2026-02-20/
CATEGORIES:AA
END:VEVENT
BEGIN:VEVENT
DTSTART;TZID=America/New_York:20260220T180000
DTEND;TZID=America/New_York:20260220T190000
DTSTAMP:20260422T195557
CREATED:20250507T161244Z
LAST-MODIFIED:20250507T161244Z
UID:10011806-1771610400-1771614000@yanaclub.com
SUMMARY:Young Peoples
DESCRIPTION:Open / Discussion
URL:https://yanaclub.com/event/young-peoples/2026-02-20/
CATEGORIES:AA
END:VEVENT
BEGIN:VEVENT
DTSTART;TZID=America/New_York:20260220T180000
DTEND;TZID=America/New_York:20260220T190000
DTSTAMP:20260422T195557
CREATED:20250507T161346Z
LAST-MODIFIED:20250507T161346Z
UID:10012067-1771610400-1771614000@yanaclub.com
SUMMARY:Together We Can
DESCRIPTION:Open / Discussion
URL:https://yanaclub.com/event/together-we-can/2026-02-20/
CATEGORIES:AA
END:VEVENT
BEGIN:VEVENT
DTSTART;TZID=America/New_York:20260220T200000
DTEND;TZID=America/New_York:20260220T210000
DTSTAMP:20260422T195557
CREATED:20250507T160652Z
LAST-MODIFIED:20250507T160652Z
UID:10009581-1771617600-1771621200@yanaclub.com
SUMMARY:Grupo Latino
DESCRIPTION:Open / Discussion / Spanish Language
URL:https://yanaclub.com/event/grupo-latino/2026-02-20/
CATEGORIES:AA
END:VEVENT
BEGIN:VEVENT
DTSTART;TZID=America/New_York:20260221T090000
DTEND;TZID=America/New_York:20260221T100000
DTSTAMP:20260422T195557
CREATED:20250502T104804Z
LAST-MODIFIED:20250502T104804Z
UID:10000044-1771664400-1771668000@yanaclub.com
SUMMARY:Saturday Big Book Study
DESCRIPTION:Type: O/BB
URL:https://yanaclub.com/event/saturday-big-book-study/2026-02-21/
CATEGORIES:AA
END:VEVENT
BEGIN:VEVENT
DTSTART;TZID=America/New_York:20260221T121500
DTEND;TZID=America/New_York:20260221T131500
DTSTAMP:20260422T195557
CREATED:20250507T154857Z
LAST-MODIFIED:20250507T155521Z
UID:10001341-1771676100-1771679700@yanaclub.com
SUMMARY:No Name
DESCRIPTION:Open / Topic Discussion
URL:https://yanaclub.com/event/no-name/2026-02-21/
CATEGORIES:AA
END:VEVENT
BEGIN:VEVENT
DTSTART;TZID=America/New_York:20260221T173000
DTEND;TZID=America/New_York:20260221T183000
DTSTAMP:20260422T195557
CREATED:20250507T155250Z
LAST-MODIFIED:20250507T155250Z
UID:10005273-1771695000-1771698600@yanaclub.com
SUMMARY:Serenity 1st Step
DESCRIPTION:Open / Discussion / Beginners
URL:https://yanaclub.com/event/serenity-1st-step/2026-02-21/
CATEGORIES:AA
END:VEVENT
BEGIN:VEVENT
DTSTART;TZID=America/New_York:20260221T200000
DTEND;TZID=America/New_York:20260221T210000
DTSTAMP:20260422T195557
CREATED:20250507T160652Z
LAST-MODIFIED:20250507T160652Z
UID:10009582-1771704000-1771707600@yanaclub.com
SUMMARY:Grupo Latino
DESCRIPTION:Open / Discussion / Spanish Language
URL:https://yanaclub.com/event/grupo-latino/2026-02-21/
CATEGORIES:AA
END:VEVENT
BEGIN:VEVENT
DTSTART;TZID=America/New_York:20260222T090000
DTEND;TZID=America/New_York:20260222T100000
DTSTAMP:20260422T195557
CREATED:20250507T161539Z
LAST-MODIFIED:20250507T161540Z
UID:10012328-1771750800-1771754400@yanaclub.com
SUMMARY:Breakfast Club
DESCRIPTION:Open /  Speaker Meeting
URL:https://yanaclub.com/event/breakfast-club-2/2026-02-22/
CATEGORIES:AA
END:VEVENT
BEGIN:VEVENT
DTSTART;TZID=America/New_York:20260222T121500
DTEND;TZID=America/New_York:20260222T131500
DTSTAMP:20260422T195557
CREATED:20250507T154857Z
LAST-MODIFIED:20250507T155521Z
UID:10001342-1771762500-1771766100@yanaclub.com
SUMMARY:No Name
DESCRIPTION:Open / Topic Discussion
URL:https://yanaclub.com/event/no-name/2026-02-22/
CATEGORIES:AA
END:VEVENT
END:VCALENDAR