BEGIN:VCALENDAR
VERSION:2.0
PRODID:-//YANA Club of Hilton Head Island - ECPv6.11.2//NONSGML v1.0//EN
CALSCALE:GREGORIAN
METHOD:PUBLISH
X-ORIGINAL-URL:https://yanaclub.com
X-WR-CALDESC:Events for YANA Club of Hilton Head Island
REFRESH-INTERVAL;VALUE=DURATION:PT1H
X-Robots-Tag:noindex
X-PUBLISHED-TTL:PT1H
BEGIN:VTIMEZONE
TZID:America/New_York
BEGIN:DAYLIGHT
TZOFFSETFROM:-0500
TZOFFSETTO:-0400
TZNAME:EDT
DTSTART:20260308T070000
END:DAYLIGHT
BEGIN:STANDARD
TZOFFSETFROM:-0400
TZOFFSETTO:-0500
TZNAME:EST
DTSTART:20261101T060000
END:STANDARD
END:VTIMEZONE
BEGIN:VEVENT
DTSTART;TZID=America/New_York:20260202T090000
DTEND;TZID=America/New_York:20260202T100000
DTSTAMP:20260422T191232
CREATED:20250507T155840Z
LAST-MODIFIED:20250507T155840Z
UID:10007517-1770022800-1770026400@yanaclub.com
SUMMARY:SANS (Sober Now Sane)
DESCRIPTION:Open / Discussion
URL:https://yanaclub.com/event/sans-sober-now-sane/2026-02-02/
CATEGORIES:AA
END:VEVENT
BEGIN:VEVENT
DTSTART;TZID=America/New_York:20260202T121500
DTEND;TZID=America/New_York:20260202T131500
DTSTAMP:20260422T191232
CREATED:20250507T154857Z
LAST-MODIFIED:20250507T155521Z
UID:10001322-1770034500-1770038100@yanaclub.com
SUMMARY:No Name
DESCRIPTION:Open / Topic Discussion
URL:https://yanaclub.com/event/no-name/2026-02-02/
CATEGORIES:AA
END:VEVENT
BEGIN:VEVENT
DTSTART;TZID=America/New_York:20260202T173000
DTEND;TZID=America/New_York:20260202T183000
DTSTAMP:20260422T191232
CREATED:20250507T155118Z
LAST-MODIFIED:20250507T155118Z
UID:10003296-1770053400-1770057000@yanaclub.com
SUMMARY:Serenity
DESCRIPTION:Open Discussion
URL:https://yanaclub.com/event/serenity/2026-02-02/
CATEGORIES:AA
END:VEVENT
BEGIN:VEVENT
DTSTART;TZID=America/New_York:20260203T090000
DTEND;TZID=America/New_York:20260203T100000
DTSTAMP:20260422T191232
CREATED:20250507T155840Z
LAST-MODIFIED:20250507T155840Z
UID:10007518-1770109200-1770112800@yanaclub.com
SUMMARY:SANS (Sober Now Sane)
DESCRIPTION:Open / Discussion
URL:https://yanaclub.com/event/sans-sober-now-sane/2026-02-03/
CATEGORIES:AA
END:VEVENT
BEGIN:VEVENT
DTSTART;TZID=America/New_York:20260203T121500
DTEND;TZID=America/New_York:20260203T131500
DTSTAMP:20260422T191232
CREATED:20250507T154857Z
LAST-MODIFIED:20250507T155521Z
UID:10001323-1770120900-1770124500@yanaclub.com
SUMMARY:No Name
DESCRIPTION:Open / Topic Discussion
URL:https://yanaclub.com/event/no-name/2026-02-03/
CATEGORIES:AA
END:VEVENT
BEGIN:VEVENT
DTSTART;TZID=America/New_York:20260203T173000
DTEND;TZID=America/New_York:20260203T183000
DTSTAMP:20260422T191232
CREATED:20250507T155118Z
LAST-MODIFIED:20250507T155118Z
UID:10003297-1770139800-1770143400@yanaclub.com
SUMMARY:Serenity
DESCRIPTION:Open Discussion
URL:https://yanaclub.com/event/serenity/2026-02-03/
CATEGORIES:AA
END:VEVENT
BEGIN:VEVENT
DTSTART;TZID=America/New_York:20260203T190000
DTEND;TZID=America/New_York:20260203T200000
DTSTAMP:20260422T191232
CREATED:20250507T160104Z
LAST-MODIFIED:20250507T160104Z
UID:10008669-1770145200-1770148800@yanaclub.com
SUMMARY:Mens Back to Basics
DESCRIPTION:Closed / Discussion / Mens
URL:https://yanaclub.com/event/mens-back-to-basics/2026-02-03/
CATEGORIES:AA
END:VEVENT
BEGIN:VEVENT
DTSTART;TZID=America/New_York:20260203T200000
DTEND;TZID=America/New_York:20260203T210000
DTSTAMP:20260422T191232
CREATED:20250507T160652Z
LAST-MODIFIED:20250507T160652Z
UID:10009571-1770148800-1770152400@yanaclub.com
SUMMARY:Grupo Latino
DESCRIPTION:Open / Discussion / Spanish Language
URL:https://yanaclub.com/event/grupo-latino/2026-02-03/
CATEGORIES:AA
END:VEVENT
BEGIN:VEVENT
DTSTART;TZID=America/New_York:20260204T070000
DTEND;TZID=America/New_York:20260204T080000
DTSTAMP:20260422T191232
CREATED:20250507T160920Z
LAST-MODIFIED:20250507T160920Z
UID:10010760-1770188400-1770192000@yanaclub.com
SUMMARY:Design for Living
DESCRIPTION:Closed / Discussion
URL:https://yanaclub.com/event/design-for-living/2026-02-04/
CATEGORIES:AA
END:VEVENT
BEGIN:VEVENT
DTSTART;TZID=America/New_York:20260204T090000
DTEND;TZID=America/New_York:20260204T100000
DTSTAMP:20260422T191232
CREATED:20250507T155840Z
LAST-MODIFIED:20250507T155840Z
UID:10007519-1770195600-1770199200@yanaclub.com
SUMMARY:SANS (Sober Now Sane)
DESCRIPTION:Open / Discussion
URL:https://yanaclub.com/event/sans-sober-now-sane/2026-02-04/
CATEGORIES:AA
END:VEVENT
BEGIN:VEVENT
DTSTART;TZID=America/New_York:20260204T121500
DTEND;TZID=America/New_York:20260204T131500
DTSTAMP:20260422T191232
CREATED:20250507T154857Z
LAST-MODIFIED:20250507T155521Z
UID:10001324-1770207300-1770210900@yanaclub.com
SUMMARY:No Name
DESCRIPTION:Open / Topic Discussion
URL:https://yanaclub.com/event/no-name/2026-02-04/
CATEGORIES:AA
END:VEVENT
BEGIN:VEVENT
DTSTART;TZID=America/New_York:20260204T173000
DTEND;TZID=America/New_York:20260204T183000
DTSTAMP:20260422T191232
CREATED:20250507T155118Z
LAST-MODIFIED:20250507T155118Z
UID:10003298-1770226200-1770229800@yanaclub.com
SUMMARY:Serenity
DESCRIPTION:Open Discussion
URL:https://yanaclub.com/event/serenity/2026-02-04/
CATEGORIES:AA
END:VEVENT
BEGIN:VEVENT
DTSTART;TZID=America/New_York:20260204T200000
DTEND;TZID=America/New_York:20260204T210000
DTSTAMP:20260422T191232
CREATED:20250507T160652Z
LAST-MODIFIED:20250507T160652Z
UID:10009572-1770235200-1770238800@yanaclub.com
SUMMARY:Grupo Latino
DESCRIPTION:Open / Discussion / Spanish Language
URL:https://yanaclub.com/event/grupo-latino/2026-02-04/
CATEGORIES:AA
END:VEVENT
BEGIN:VEVENT
DTSTART;TZID=America/New_York:20260205T090000
DTEND;TZID=America/New_York:20260205T100000
DTSTAMP:20260422T191232
CREATED:20250507T155840Z
LAST-MODIFIED:20250507T155840Z
UID:10007520-1770282000-1770285600@yanaclub.com
SUMMARY:SANS (Sober Now Sane)
DESCRIPTION:Open / Discussion
URL:https://yanaclub.com/event/sans-sober-now-sane/2026-02-05/
CATEGORIES:AA
END:VEVENT
BEGIN:VEVENT
DTSTART;TZID=America/New_York:20260205T121500
DTEND;TZID=America/New_York:20260205T131500
DTSTAMP:20260422T191232
CREATED:20250507T154857Z
LAST-MODIFIED:20250507T155521Z
UID:10001325-1770293700-1770297300@yanaclub.com
SUMMARY:No Name
DESCRIPTION:Open / Topic Discussion
URL:https://yanaclub.com/event/no-name/2026-02-05/
CATEGORIES:AA
END:VEVENT
BEGIN:VEVENT
DTSTART;TZID=America/New_York:20260205T173000
DTEND;TZID=America/New_York:20260205T183000
DTSTAMP:20260422T191232
CREATED:20250507T155118Z
LAST-MODIFIED:20250507T155118Z
UID:10003299-1770312600-1770316200@yanaclub.com
SUMMARY:Serenity
DESCRIPTION:Open Discussion
URL:https://yanaclub.com/event/serenity/2026-02-05/
CATEGORIES:AA
END:VEVENT
BEGIN:VEVENT
DTSTART;TZID=America/New_York:20260205T184500
DTEND;TZID=America/New_York:20260205T194500
DTSTAMP:20260422T191232
CREATED:20250507T161123Z
LAST-MODIFIED:20250507T161123Z
UID:10011282-1770317100-1770320700@yanaclub.com
SUMMARY:645 YANA Womens
DESCRIPTION:Closed / Topic Discussion / Womens
URL:https://yanaclub.com/event/645-yana-womens/2026-02-05/
CATEGORIES:AA
END:VEVENT
BEGIN:VEVENT
DTSTART;TZID=America/New_York:20260206T090000
DTEND;TZID=America/New_York:20260206T100000
DTSTAMP:20260422T191232
CREATED:20250507T155840Z
LAST-MODIFIED:20250507T155840Z
UID:10007521-1770368400-1770372000@yanaclub.com
SUMMARY:SANS (Sober Now Sane)
DESCRIPTION:Open / Discussion
URL:https://yanaclub.com/event/sans-sober-now-sane/2026-02-06/
CATEGORIES:AA
END:VEVENT
BEGIN:VEVENT
DTSTART;TZID=America/New_York:20260206T121500
DTEND;TZID=America/New_York:20260206T131500
DTSTAMP:20260422T191232
CREATED:20250507T154857Z
LAST-MODIFIED:20250507T155521Z
UID:10001326-1770380100-1770383700@yanaclub.com
SUMMARY:No Name
DESCRIPTION:Open / Topic Discussion
URL:https://yanaclub.com/event/no-name/2026-02-06/
CATEGORIES:AA
END:VEVENT
BEGIN:VEVENT
DTSTART;TZID=America/New_York:20260206T180000
DTEND;TZID=America/New_York:20260206T190000
DTSTAMP:20260422T191232
CREATED:20250507T161244Z
LAST-MODIFIED:20250507T161244Z
UID:10011804-1770400800-1770404400@yanaclub.com
SUMMARY:Young Peoples
DESCRIPTION:Open / Discussion
URL:https://yanaclub.com/event/young-peoples/2026-02-06/
CATEGORIES:AA
END:VEVENT
BEGIN:VEVENT
DTSTART;TZID=America/New_York:20260206T180000
DTEND;TZID=America/New_York:20260206T190000
DTSTAMP:20260422T191232
CREATED:20250507T161346Z
LAST-MODIFIED:20250507T161346Z
UID:10012065-1770400800-1770404400@yanaclub.com
SUMMARY:Together We Can
DESCRIPTION:Open / Discussion
URL:https://yanaclub.com/event/together-we-can/2026-02-06/
CATEGORIES:AA
END:VEVENT
BEGIN:VEVENT
DTSTART;TZID=America/New_York:20260206T200000
DTEND;TZID=America/New_York:20260206T210000
DTSTAMP:20260422T191232
CREATED:20250507T160652Z
LAST-MODIFIED:20250507T160652Z
UID:10009573-1770408000-1770411600@yanaclub.com
SUMMARY:Grupo Latino
DESCRIPTION:Open / Discussion / Spanish Language
URL:https://yanaclub.com/event/grupo-latino/2026-02-06/
CATEGORIES:AA
END:VEVENT
BEGIN:VEVENT
DTSTART;TZID=America/New_York:20260207T090000
DTEND;TZID=America/New_York:20260207T100000
DTSTAMP:20260422T191232
CREATED:20250502T104804Z
LAST-MODIFIED:20250502T104804Z
UID:10000042-1770454800-1770458400@yanaclub.com
SUMMARY:Saturday Big Book Study
DESCRIPTION:Type: O/BB
URL:https://yanaclub.com/event/saturday-big-book-study/2026-02-07/
CATEGORIES:AA
END:VEVENT
BEGIN:VEVENT
DTSTART;TZID=America/New_York:20260207T121500
DTEND;TZID=America/New_York:20260207T131500
DTSTAMP:20260422T191232
CREATED:20250507T154857Z
LAST-MODIFIED:20250507T155521Z
UID:10001327-1770466500-1770470100@yanaclub.com
SUMMARY:No Name
DESCRIPTION:Open / Topic Discussion
URL:https://yanaclub.com/event/no-name/2026-02-07/
CATEGORIES:AA
END:VEVENT
BEGIN:VEVENT
DTSTART;TZID=America/New_York:20260207T173000
DTEND;TZID=America/New_York:20260207T183000
DTSTAMP:20260422T191232
CREATED:20250507T155250Z
LAST-MODIFIED:20250507T155250Z
UID:10005271-1770485400-1770489000@yanaclub.com
SUMMARY:Serenity 1st Step
DESCRIPTION:Open / Discussion / Beginners
URL:https://yanaclub.com/event/serenity-1st-step/2026-02-07/
CATEGORIES:AA
END:VEVENT
BEGIN:VEVENT
DTSTART;TZID=America/New_York:20260207T200000
DTEND;TZID=America/New_York:20260207T210000
DTSTAMP:20260422T191232
CREATED:20250507T160652Z
LAST-MODIFIED:20250507T160652Z
UID:10009574-1770494400-1770498000@yanaclub.com
SUMMARY:Grupo Latino
DESCRIPTION:Open / Discussion / Spanish Language
URL:https://yanaclub.com/event/grupo-latino/2026-02-07/
CATEGORIES:AA
END:VEVENT
BEGIN:VEVENT
DTSTART;TZID=America/New_York:20260208T090000
DTEND;TZID=America/New_York:20260208T100000
DTSTAMP:20260422T191232
CREATED:20250507T161539Z
LAST-MODIFIED:20250507T161540Z
UID:10012326-1770541200-1770544800@yanaclub.com
SUMMARY:Breakfast Club
DESCRIPTION:Open /  Speaker Meeting
URL:https://yanaclub.com/event/breakfast-club-2/2026-02-08/
CATEGORIES:AA
END:VEVENT
BEGIN:VEVENT
DTSTART;TZID=America/New_York:20260208T121500
DTEND;TZID=America/New_York:20260208T131500
DTSTAMP:20260422T191232
CREATED:20250507T154857Z
LAST-MODIFIED:20250507T155521Z
UID:10001328-1770552900-1770556500@yanaclub.com
SUMMARY:No Name
DESCRIPTION:Open / Topic Discussion
URL:https://yanaclub.com/event/no-name/2026-02-08/
CATEGORIES:AA
END:VEVENT
END:VCALENDAR