BEGIN:VCALENDAR
VERSION:2.0
PRODID:-//YANA Club of Hilton Head Island - ECPv6.11.2//NONSGML v1.0//EN
CALSCALE:GREGORIAN
METHOD:PUBLISH
X-WR-CALNAME:YANA Club of Hilton Head Island
X-ORIGINAL-URL:https://yanaclub.com
X-WR-CALDESC:Events for YANA Club of Hilton Head Island
REFRESH-INTERVAL;VALUE=DURATION:PT1H
X-Robots-Tag:noindex
X-PUBLISHED-TTL:PT1H
BEGIN:VTIMEZONE
TZID:America/New_York
BEGIN:DAYLIGHT
TZOFFSETFROM:-0500
TZOFFSETTO:-0400
TZNAME:EDT
DTSTART:20260308T070000
END:DAYLIGHT
BEGIN:STANDARD
TZOFFSETFROM:-0400
TZOFFSETTO:-0500
TZNAME:EST
DTSTART:20261101T060000
END:STANDARD
END:VTIMEZONE
BEGIN:VEVENT
DTSTART;TZID=America/New_York:20260126T090000
DTEND;TZID=America/New_York:20260126T100000
DTSTAMP:20260422T195601
CREATED:20250507T155840Z
LAST-MODIFIED:20250507T155840Z
UID:10007512-1769418000-1769421600@yanaclub.com
SUMMARY:SANS (Sober Now Sane)
DESCRIPTION:Open / Discussion
URL:https://yanaclub.com/event/sans-sober-now-sane/2026-01-26/
CATEGORIES:AA
END:VEVENT
BEGIN:VEVENT
DTSTART;TZID=America/New_York:20260126T121500
DTEND;TZID=America/New_York:20260126T131500
DTSTAMP:20260422T195601
CREATED:20250507T154857Z
LAST-MODIFIED:20250507T155521Z
UID:10001315-1769429700-1769433300@yanaclub.com
SUMMARY:No Name
DESCRIPTION:Open / Topic Discussion
URL:https://yanaclub.com/event/no-name/2026-01-26/
CATEGORIES:AA
END:VEVENT
BEGIN:VEVENT
DTSTART;TZID=America/New_York:20260126T173000
DTEND;TZID=America/New_York:20260126T183000
DTSTAMP:20260422T195601
CREATED:20250507T155118Z
LAST-MODIFIED:20250507T155118Z
UID:10003292-1769448600-1769452200@yanaclub.com
SUMMARY:Serenity
DESCRIPTION:Open Discussion
URL:https://yanaclub.com/event/serenity/2026-01-26/
CATEGORIES:AA
END:VEVENT
BEGIN:VEVENT
DTSTART;TZID=America/New_York:20260127T090000
DTEND;TZID=America/New_York:20260127T100000
DTSTAMP:20260422T195601
CREATED:20250507T155840Z
LAST-MODIFIED:20250507T155840Z
UID:10007513-1769504400-1769508000@yanaclub.com
SUMMARY:SANS (Sober Now Sane)
DESCRIPTION:Open / Discussion
URL:https://yanaclub.com/event/sans-sober-now-sane/2026-01-27/
CATEGORIES:AA
END:VEVENT
BEGIN:VEVENT
DTSTART;TZID=America/New_York:20260127T121500
DTEND;TZID=America/New_York:20260127T131500
DTSTAMP:20260422T195601
CREATED:20250507T154857Z
LAST-MODIFIED:20250507T155521Z
UID:10001316-1769516100-1769519700@yanaclub.com
SUMMARY:No Name
DESCRIPTION:Open / Topic Discussion
URL:https://yanaclub.com/event/no-name/2026-01-27/
CATEGORIES:AA
END:VEVENT
BEGIN:VEVENT
DTSTART;TZID=America/New_York:20260127T173000
DTEND;TZID=America/New_York:20260127T183000
DTSTAMP:20260422T195601
CREATED:20250507T155118Z
LAST-MODIFIED:20250507T155118Z
UID:10003293-1769535000-1769538600@yanaclub.com
SUMMARY:Serenity
DESCRIPTION:Open Discussion
URL:https://yanaclub.com/event/serenity/2026-01-27/
CATEGORIES:AA
END:VEVENT
BEGIN:VEVENT
DTSTART;TZID=America/New_York:20260127T190000
DTEND;TZID=America/New_York:20260127T200000
DTSTAMP:20260422T195601
CREATED:20250507T160104Z
LAST-MODIFIED:20250507T160104Z
UID:10008668-1769540400-1769544000@yanaclub.com
SUMMARY:Mens Back to Basics
DESCRIPTION:Closed / Discussion / Mens
URL:https://yanaclub.com/event/mens-back-to-basics/2026-01-27/
CATEGORIES:AA
END:VEVENT
BEGIN:VEVENT
DTSTART;TZID=America/New_York:20260127T200000
DTEND;TZID=America/New_York:20260127T210000
DTSTAMP:20260422T195601
CREATED:20250507T160652Z
LAST-MODIFIED:20250507T160652Z
UID:10009567-1769544000-1769547600@yanaclub.com
SUMMARY:Grupo Latino
DESCRIPTION:Open / Discussion / Spanish Language
URL:https://yanaclub.com/event/grupo-latino/2026-01-27/
CATEGORIES:AA
END:VEVENT
BEGIN:VEVENT
DTSTART;TZID=America/New_York:20260128T070000
DTEND;TZID=America/New_York:20260128T080000
DTSTAMP:20260422T195601
CREATED:20250507T160920Z
LAST-MODIFIED:20250507T160920Z
UID:10010759-1769583600-1769587200@yanaclub.com
SUMMARY:Design for Living
DESCRIPTION:Closed / Discussion
URL:https://yanaclub.com/event/design-for-living/2026-01-28/
CATEGORIES:AA
END:VEVENT
BEGIN:VEVENT
DTSTART;TZID=America/New_York:20260128T090000
DTEND;TZID=America/New_York:20260128T100000
DTSTAMP:20260422T195601
CREATED:20250507T155840Z
LAST-MODIFIED:20250507T155840Z
UID:10007514-1769590800-1769594400@yanaclub.com
SUMMARY:SANS (Sober Now Sane)
DESCRIPTION:Open / Discussion
URL:https://yanaclub.com/event/sans-sober-now-sane/2026-01-28/
CATEGORIES:AA
END:VEVENT
BEGIN:VEVENT
DTSTART;TZID=America/New_York:20260128T121500
DTEND;TZID=America/New_York:20260128T131500
DTSTAMP:20260422T195601
CREATED:20250507T154857Z
LAST-MODIFIED:20250507T155521Z
UID:10001317-1769602500-1769606100@yanaclub.com
SUMMARY:No Name
DESCRIPTION:Open / Topic Discussion
URL:https://yanaclub.com/event/no-name/2026-01-28/
CATEGORIES:AA
END:VEVENT
BEGIN:VEVENT
DTSTART;TZID=America/New_York:20260128T173000
DTEND;TZID=America/New_York:20260128T183000
DTSTAMP:20260422T195601
CREATED:20250507T155118Z
LAST-MODIFIED:20250507T155118Z
UID:10003294-1769621400-1769625000@yanaclub.com
SUMMARY:Serenity
DESCRIPTION:Open Discussion
URL:https://yanaclub.com/event/serenity/2026-01-28/
CATEGORIES:AA
END:VEVENT
BEGIN:VEVENT
DTSTART;TZID=America/New_York:20260128T200000
DTEND;TZID=America/New_York:20260128T210000
DTSTAMP:20260422T195601
CREATED:20250507T160652Z
LAST-MODIFIED:20250507T160652Z
UID:10009568-1769630400-1769634000@yanaclub.com
SUMMARY:Grupo Latino
DESCRIPTION:Open / Discussion / Spanish Language
URL:https://yanaclub.com/event/grupo-latino/2026-01-28/
CATEGORIES:AA
END:VEVENT
BEGIN:VEVENT
DTSTART;TZID=America/New_York:20260129T090000
DTEND;TZID=America/New_York:20260129T100000
DTSTAMP:20260422T195601
CREATED:20250507T155840Z
LAST-MODIFIED:20250507T155840Z
UID:10007515-1769677200-1769680800@yanaclub.com
SUMMARY:SANS (Sober Now Sane)
DESCRIPTION:Open / Discussion
URL:https://yanaclub.com/event/sans-sober-now-sane/2026-01-29/
CATEGORIES:AA
END:VEVENT
BEGIN:VEVENT
DTSTART;TZID=America/New_York:20260129T121500
DTEND;TZID=America/New_York:20260129T131500
DTSTAMP:20260422T195601
CREATED:20250507T154857Z
LAST-MODIFIED:20250507T155521Z
UID:10001318-1769688900-1769692500@yanaclub.com
SUMMARY:No Name
DESCRIPTION:Open / Topic Discussion
URL:https://yanaclub.com/event/no-name/2026-01-29/
CATEGORIES:AA
END:VEVENT
BEGIN:VEVENT
DTSTART;TZID=America/New_York:20260129T173000
DTEND;TZID=America/New_York:20260129T183000
DTSTAMP:20260422T195601
CREATED:20250507T155118Z
LAST-MODIFIED:20250507T155118Z
UID:10003295-1769707800-1769711400@yanaclub.com
SUMMARY:Serenity
DESCRIPTION:Open Discussion
URL:https://yanaclub.com/event/serenity/2026-01-29/
CATEGORIES:AA
END:VEVENT
BEGIN:VEVENT
DTSTART;TZID=America/New_York:20260129T184500
DTEND;TZID=America/New_York:20260129T194500
DTSTAMP:20260422T195601
CREATED:20250507T161123Z
LAST-MODIFIED:20250507T161123Z
UID:10011281-1769712300-1769715900@yanaclub.com
SUMMARY:645 YANA Womens
DESCRIPTION:Closed / Topic Discussion / Womens
URL:https://yanaclub.com/event/645-yana-womens/2026-01-29/
CATEGORIES:AA
END:VEVENT
BEGIN:VEVENT
DTSTART;TZID=America/New_York:20260130T090000
DTEND;TZID=America/New_York:20260130T100000
DTSTAMP:20260422T195601
CREATED:20250507T155840Z
LAST-MODIFIED:20250507T155840Z
UID:10007516-1769763600-1769767200@yanaclub.com
SUMMARY:SANS (Sober Now Sane)
DESCRIPTION:Open / Discussion
URL:https://yanaclub.com/event/sans-sober-now-sane/2026-01-30/
CATEGORIES:AA
END:VEVENT
BEGIN:VEVENT
DTSTART;TZID=America/New_York:20260130T121500
DTEND;TZID=America/New_York:20260130T131500
DTSTAMP:20260422T195601
CREATED:20250507T154857Z
LAST-MODIFIED:20250507T155521Z
UID:10001319-1769775300-1769778900@yanaclub.com
SUMMARY:No Name
DESCRIPTION:Open / Topic Discussion
URL:https://yanaclub.com/event/no-name/2026-01-30/
CATEGORIES:AA
END:VEVENT
BEGIN:VEVENT
DTSTART;TZID=America/New_York:20260130T180000
DTEND;TZID=America/New_York:20260130T190000
DTSTAMP:20260422T195601
CREATED:20250507T161244Z
LAST-MODIFIED:20250507T161244Z
UID:10011803-1769796000-1769799600@yanaclub.com
SUMMARY:Young Peoples
DESCRIPTION:Open / Discussion
URL:https://yanaclub.com/event/young-peoples/2026-01-30/
CATEGORIES:AA
END:VEVENT
BEGIN:VEVENT
DTSTART;TZID=America/New_York:20260130T180000
DTEND;TZID=America/New_York:20260130T190000
DTSTAMP:20260422T195601
CREATED:20250507T161346Z
LAST-MODIFIED:20250507T161346Z
UID:10012064-1769796000-1769799600@yanaclub.com
SUMMARY:Together We Can
DESCRIPTION:Open / Discussion
URL:https://yanaclub.com/event/together-we-can/2026-01-30/
CATEGORIES:AA
END:VEVENT
BEGIN:VEVENT
DTSTART;TZID=America/New_York:20260130T200000
DTEND;TZID=America/New_York:20260130T210000
DTSTAMP:20260422T195601
CREATED:20250507T160652Z
LAST-MODIFIED:20250507T160652Z
UID:10009569-1769803200-1769806800@yanaclub.com
SUMMARY:Grupo Latino
DESCRIPTION:Open / Discussion / Spanish Language
URL:https://yanaclub.com/event/grupo-latino/2026-01-30/
CATEGORIES:AA
END:VEVENT
BEGIN:VEVENT
DTSTART;TZID=America/New_York:20260131T090000
DTEND;TZID=America/New_York:20260131T100000
DTSTAMP:20260422T195601
CREATED:20250502T104804Z
LAST-MODIFIED:20250502T104804Z
UID:10000041-1769850000-1769853600@yanaclub.com
SUMMARY:Saturday Big Book Study
DESCRIPTION:Type: O/BB
URL:https://yanaclub.com/event/saturday-big-book-study/2026-01-31/
CATEGORIES:AA
END:VEVENT
BEGIN:VEVENT
DTSTART;TZID=America/New_York:20260131T121500
DTEND;TZID=America/New_York:20260131T131500
DTSTAMP:20260422T195601
CREATED:20250507T154857Z
LAST-MODIFIED:20250507T155521Z
UID:10001320-1769861700-1769865300@yanaclub.com
SUMMARY:No Name
DESCRIPTION:Open / Topic Discussion
URL:https://yanaclub.com/event/no-name/2026-01-31/
CATEGORIES:AA
END:VEVENT
BEGIN:VEVENT
DTSTART;TZID=America/New_York:20260131T173000
DTEND;TZID=America/New_York:20260131T183000
DTSTAMP:20260422T195601
CREATED:20250507T155250Z
LAST-MODIFIED:20250507T155250Z
UID:10005270-1769880600-1769884200@yanaclub.com
SUMMARY:Serenity 1st Step
DESCRIPTION:Open / Discussion / Beginners
URL:https://yanaclub.com/event/serenity-1st-step/2026-01-31/
CATEGORIES:AA
END:VEVENT
BEGIN:VEVENT
DTSTART;TZID=America/New_York:20260131T200000
DTEND;TZID=America/New_York:20260131T210000
DTSTAMP:20260422T195601
CREATED:20250507T160652Z
LAST-MODIFIED:20250507T160652Z
UID:10009570-1769889600-1769893200@yanaclub.com
SUMMARY:Grupo Latino
DESCRIPTION:Open / Discussion / Spanish Language
URL:https://yanaclub.com/event/grupo-latino/2026-01-31/
CATEGORIES:AA
END:VEVENT
BEGIN:VEVENT
DTSTART;TZID=America/New_York:20260201T090000
DTEND;TZID=America/New_York:20260201T100000
DTSTAMP:20260422T195601
CREATED:20250507T161539Z
LAST-MODIFIED:20250507T161540Z
UID:10012325-1769936400-1769940000@yanaclub.com
SUMMARY:Breakfast Club
DESCRIPTION:Open /  Speaker Meeting
URL:https://yanaclub.com/event/breakfast-club-2/2026-02-01/
CATEGORIES:AA
END:VEVENT
BEGIN:VEVENT
DTSTART;TZID=America/New_York:20260201T121500
DTEND;TZID=America/New_York:20260201T131500
DTSTAMP:20260422T195601
CREATED:20250507T154857Z
LAST-MODIFIED:20250507T155521Z
UID:10001321-1769948100-1769951700@yanaclub.com
SUMMARY:No Name
DESCRIPTION:Open / Topic Discussion
URL:https://yanaclub.com/event/no-name/2026-02-01/
CATEGORIES:AA
END:VEVENT
END:VCALENDAR