BEGIN:VCALENDAR
VERSION:2.0
PRODID:-//YANA Club of Hilton Head Island - ECPv6.11.2//NONSGML v1.0//EN
CALSCALE:GREGORIAN
METHOD:PUBLISH
X-ORIGINAL-URL:https://yanaclub.com
X-WR-CALDESC:Events for YANA Club of Hilton Head Island
REFRESH-INTERVAL;VALUE=DURATION:PT1H
X-Robots-Tag:noindex
X-PUBLISHED-TTL:PT1H
BEGIN:VTIMEZONE
TZID:America/New_York
BEGIN:DAYLIGHT
TZOFFSETFROM:-0500
TZOFFSETTO:-0400
TZNAME:EDT
DTSTART:20260308T070000
END:DAYLIGHT
BEGIN:STANDARD
TZOFFSETFROM:-0400
TZOFFSETTO:-0500
TZNAME:EST
DTSTART:20261101T060000
END:STANDARD
END:VTIMEZONE
BEGIN:VEVENT
DTSTART;TZID=America/New_York:20260820T184500
DTEND;TZID=America/New_York:20260820T194500
DTSTAMP:20260425T235024
CREATED:20250507T161123Z
LAST-MODIFIED:20250507T161123Z
UID:10011310-1787251500-1787255100@yanaclub.com
SUMMARY:645 YANA Womens
DESCRIPTION:Closed / Topic Discussion / Womens
URL:https://yanaclub.com/event/645-yana-womens/2026-08-20/
CATEGORIES:AA
END:VEVENT
BEGIN:VEVENT
DTSTART;TZID=America/New_York:20260821T090000
DTEND;TZID=America/New_York:20260821T100000
DTSTAMP:20260425T235024
CREATED:20250507T155840Z
LAST-MODIFIED:20250507T155840Z
UID:10007661-1787302800-1787306400@yanaclub.com
SUMMARY:SANS (Sober Now Sane)
DESCRIPTION:Open / Discussion
URL:https://yanaclub.com/event/sans-sober-now-sane/2026-08-21/
CATEGORIES:AA
END:VEVENT
BEGIN:VEVENT
DTSTART;TZID=America/New_York:20260821T121500
DTEND;TZID=America/New_York:20260821T131500
DTSTAMP:20260425T235024
CREATED:20250507T154857Z
LAST-MODIFIED:20250507T155521Z
UID:10001522-1787314500-1787318100@yanaclub.com
SUMMARY:No Name
DESCRIPTION:Open / Topic Discussion
URL:https://yanaclub.com/event/no-name/2026-08-21/
CATEGORIES:AA
END:VEVENT
BEGIN:VEVENT
DTSTART;TZID=America/New_York:20260821T180000
DTEND;TZID=America/New_York:20260821T190000
DTSTAMP:20260425T235024
CREATED:20250507T161244Z
LAST-MODIFIED:20250507T161244Z
UID:10011832-1787335200-1787338800@yanaclub.com
SUMMARY:Young Peoples
DESCRIPTION:Open / Discussion
URL:https://yanaclub.com/event/young-peoples/2026-08-21/
CATEGORIES:AA
END:VEVENT
BEGIN:VEVENT
DTSTART;TZID=America/New_York:20260821T180000
DTEND;TZID=America/New_York:20260821T190000
DTSTAMP:20260425T235024
CREATED:20250507T161346Z
LAST-MODIFIED:20250507T161346Z
UID:10012093-1787335200-1787338800@yanaclub.com
SUMMARY:Together We Can
DESCRIPTION:Open / Discussion
URL:https://yanaclub.com/event/together-we-can/2026-08-21/
CATEGORIES:AA
END:VEVENT
BEGIN:VEVENT
DTSTART;TZID=America/New_York:20260821T200000
DTEND;TZID=America/New_York:20260821T210000
DTSTAMP:20260425T235024
CREATED:20250507T160652Z
LAST-MODIFIED:20250507T160652Z
UID:10009685-1787342400-1787346000@yanaclub.com
SUMMARY:Grupo Latino
DESCRIPTION:Open / Discussion / Spanish Language
URL:https://yanaclub.com/event/grupo-latino/2026-08-21/
CATEGORIES:AA
END:VEVENT
BEGIN:VEVENT
DTSTART;TZID=America/New_York:20260822T090000
DTEND;TZID=America/New_York:20260822T100000
DTSTAMP:20260425T235024
CREATED:20250502T104804Z
LAST-MODIFIED:20250502T104804Z
UID:10000070-1787389200-1787392800@yanaclub.com
SUMMARY:Saturday Big Book Study
DESCRIPTION:Type: O/BB
URL:https://yanaclub.com/event/saturday-big-book-study/2026-08-22/
CATEGORIES:AA
END:VEVENT
BEGIN:VEVENT
DTSTART;TZID=America/New_York:20260822T121500
DTEND;TZID=America/New_York:20260822T131500
DTSTAMP:20260425T235024
CREATED:20250507T154857Z
LAST-MODIFIED:20250507T155521Z
UID:10001523-1787400900-1787404500@yanaclub.com
SUMMARY:No Name
DESCRIPTION:Open / Topic Discussion
URL:https://yanaclub.com/event/no-name/2026-08-22/
CATEGORIES:AA
END:VEVENT
BEGIN:VEVENT
DTSTART;TZID=America/New_York:20260822T173000
DTEND;TZID=America/New_York:20260822T183000
DTSTAMP:20260425T235024
CREATED:20250507T155250Z
LAST-MODIFIED:20250507T155250Z
UID:10005299-1787419800-1787423400@yanaclub.com
SUMMARY:Serenity 1st Step
DESCRIPTION:Open / Discussion / Beginners
URL:https://yanaclub.com/event/serenity-1st-step/2026-08-22/
CATEGORIES:AA
END:VEVENT
BEGIN:VEVENT
DTSTART;TZID=America/New_York:20260822T200000
DTEND;TZID=America/New_York:20260822T210000
DTSTAMP:20260425T235024
CREATED:20250507T160652Z
LAST-MODIFIED:20250507T160652Z
UID:10009686-1787428800-1787432400@yanaclub.com
SUMMARY:Grupo Latino
DESCRIPTION:Open / Discussion / Spanish Language
URL:https://yanaclub.com/event/grupo-latino/2026-08-22/
CATEGORIES:AA
END:VEVENT
BEGIN:VEVENT
DTSTART;TZID=America/New_York:20260823T090000
DTEND;TZID=America/New_York:20260823T100000
DTSTAMP:20260425T235024
CREATED:20250507T161539Z
LAST-MODIFIED:20250507T161540Z
UID:10012354-1787475600-1787479200@yanaclub.com
SUMMARY:Breakfast Club
DESCRIPTION:Open /  Speaker Meeting
URL:https://yanaclub.com/event/breakfast-club-2/2026-08-23/
CATEGORIES:AA
END:VEVENT
BEGIN:VEVENT
DTSTART;TZID=America/New_York:20260823T121500
DTEND;TZID=America/New_York:20260823T131500
DTSTAMP:20260425T235024
CREATED:20250507T154857Z
LAST-MODIFIED:20250507T155521Z
UID:10001524-1787487300-1787490900@yanaclub.com
SUMMARY:No Name
DESCRIPTION:Open / Topic Discussion
URL:https://yanaclub.com/event/no-name/2026-08-23/
CATEGORIES:AA
END:VEVENT
BEGIN:VEVENT
DTSTART;TZID=America/New_York:20260824T090000
DTEND;TZID=America/New_York:20260824T100000
DTSTAMP:20260425T235024
CREATED:20250507T155840Z
LAST-MODIFIED:20250507T155840Z
UID:10007662-1787562000-1787565600@yanaclub.com
SUMMARY:SANS (Sober Now Sane)
DESCRIPTION:Open / Discussion
URL:https://yanaclub.com/event/sans-sober-now-sane/2026-08-24/
CATEGORIES:AA
END:VEVENT
BEGIN:VEVENT
DTSTART;TZID=America/New_York:20260824T121500
DTEND;TZID=America/New_York:20260824T131500
DTSTAMP:20260425T235024
CREATED:20250507T154857Z
LAST-MODIFIED:20250507T155521Z
UID:10001525-1787573700-1787577300@yanaclub.com
SUMMARY:No Name
DESCRIPTION:Open / Topic Discussion
URL:https://yanaclub.com/event/no-name/2026-08-24/
CATEGORIES:AA
END:VEVENT
BEGIN:VEVENT
DTSTART;TZID=America/New_York:20260824T173000
DTEND;TZID=America/New_York:20260824T183000
DTSTAMP:20260425T235024
CREATED:20250507T155118Z
LAST-MODIFIED:20250507T155118Z
UID:10003412-1787592600-1787596200@yanaclub.com
SUMMARY:Serenity
DESCRIPTION:Open Discussion
URL:https://yanaclub.com/event/serenity/2026-08-24/
CATEGORIES:AA
END:VEVENT
BEGIN:VEVENT
DTSTART;TZID=America/New_York:20260825T090000
DTEND;TZID=America/New_York:20260825T100000
DTSTAMP:20260425T235024
CREATED:20250507T155840Z
LAST-MODIFIED:20250507T155840Z
UID:10007663-1787648400-1787652000@yanaclub.com
SUMMARY:SANS (Sober Now Sane)
DESCRIPTION:Open / Discussion
URL:https://yanaclub.com/event/sans-sober-now-sane/2026-08-25/
CATEGORIES:AA
END:VEVENT
BEGIN:VEVENT
DTSTART;TZID=America/New_York:20260825T121500
DTEND;TZID=America/New_York:20260825T131500
DTSTAMP:20260425T235024
CREATED:20250507T154857Z
LAST-MODIFIED:20250507T155521Z
UID:10001526-1787660100-1787663700@yanaclub.com
SUMMARY:No Name
DESCRIPTION:Open / Topic Discussion
URL:https://yanaclub.com/event/no-name/2026-08-25/
CATEGORIES:AA
END:VEVENT
BEGIN:VEVENT
DTSTART;TZID=America/New_York:20260825T173000
DTEND;TZID=America/New_York:20260825T183000
DTSTAMP:20260425T235024
CREATED:20250507T155118Z
LAST-MODIFIED:20250507T155118Z
UID:10003413-1787679000-1787682600@yanaclub.com
SUMMARY:Serenity
DESCRIPTION:Open Discussion
URL:https://yanaclub.com/event/serenity/2026-08-25/
CATEGORIES:AA
END:VEVENT
BEGIN:VEVENT
DTSTART;TZID=America/New_York:20260825T190000
DTEND;TZID=America/New_York:20260825T200000
DTSTAMP:20260425T235024
CREATED:20250507T160104Z
LAST-MODIFIED:20250507T160104Z
UID:10008698-1787684400-1787688000@yanaclub.com
SUMMARY:Mens Back to Basics
DESCRIPTION:Closed / Discussion / Mens
URL:https://yanaclub.com/event/mens-back-to-basics/2026-08-25/
CATEGORIES:AA
END:VEVENT
BEGIN:VEVENT
DTSTART;TZID=America/New_York:20260825T200000
DTEND;TZID=America/New_York:20260825T210000
DTSTAMP:20260425T235024
CREATED:20250507T160652Z
LAST-MODIFIED:20250507T160652Z
UID:10009687-1787688000-1787691600@yanaclub.com
SUMMARY:Grupo Latino
DESCRIPTION:Open / Discussion / Spanish Language
URL:https://yanaclub.com/event/grupo-latino/2026-08-25/
CATEGORIES:AA
END:VEVENT
BEGIN:VEVENT
DTSTART;TZID=America/New_York:20260826T070000
DTEND;TZID=America/New_York:20260826T080000
DTSTAMP:20260425T235024
CREATED:20250507T160920Z
LAST-MODIFIED:20250507T160920Z
UID:10010789-1787727600-1787731200@yanaclub.com
SUMMARY:Design for Living
DESCRIPTION:Closed / Discussion
URL:https://yanaclub.com/event/design-for-living/2026-08-26/
CATEGORIES:AA
END:VEVENT
BEGIN:VEVENT
DTSTART;TZID=America/New_York:20260826T090000
DTEND;TZID=America/New_York:20260826T100000
DTSTAMP:20260425T235024
CREATED:20250507T155840Z
LAST-MODIFIED:20250507T155840Z
UID:10007664-1787734800-1787738400@yanaclub.com
SUMMARY:SANS (Sober Now Sane)
DESCRIPTION:Open / Discussion
URL:https://yanaclub.com/event/sans-sober-now-sane/2026-08-26/
CATEGORIES:AA
END:VEVENT
BEGIN:VEVENT
DTSTART;TZID=America/New_York:20260826T121500
DTEND;TZID=America/New_York:20260826T131500
DTSTAMP:20260425T235024
CREATED:20250507T154857Z
LAST-MODIFIED:20250507T155521Z
UID:10001527-1787746500-1787750100@yanaclub.com
SUMMARY:No Name
DESCRIPTION:Open / Topic Discussion
URL:https://yanaclub.com/event/no-name/2026-08-26/
CATEGORIES:AA
END:VEVENT
BEGIN:VEVENT
DTSTART;TZID=America/New_York:20260826T173000
DTEND;TZID=America/New_York:20260826T183000
DTSTAMP:20260425T235024
CREATED:20250507T155118Z
LAST-MODIFIED:20250507T155118Z
UID:10003414-1787765400-1787769000@yanaclub.com
SUMMARY:Serenity
DESCRIPTION:Open Discussion
URL:https://yanaclub.com/event/serenity/2026-08-26/
CATEGORIES:AA
END:VEVENT
BEGIN:VEVENT
DTSTART;TZID=America/New_York:20260826T200000
DTEND;TZID=America/New_York:20260826T210000
DTSTAMP:20260425T235024
CREATED:20250507T160652Z
LAST-MODIFIED:20250507T160652Z
UID:10009688-1787774400-1787778000@yanaclub.com
SUMMARY:Grupo Latino
DESCRIPTION:Open / Discussion / Spanish Language
URL:https://yanaclub.com/event/grupo-latino/2026-08-26/
CATEGORIES:AA
END:VEVENT
BEGIN:VEVENT
DTSTART;TZID=America/New_York:20260827T090000
DTEND;TZID=America/New_York:20260827T100000
DTSTAMP:20260425T235024
CREATED:20250507T155840Z
LAST-MODIFIED:20250507T155840Z
UID:10007665-1787821200-1787824800@yanaclub.com
SUMMARY:SANS (Sober Now Sane)
DESCRIPTION:Open / Discussion
URL:https://yanaclub.com/event/sans-sober-now-sane/2026-08-27/
CATEGORIES:AA
END:VEVENT
BEGIN:VEVENT
DTSTART;TZID=America/New_York:20260827T121500
DTEND;TZID=America/New_York:20260827T131500
DTSTAMP:20260425T235024
CREATED:20250507T154857Z
LAST-MODIFIED:20250507T155521Z
UID:10001528-1787832900-1787836500@yanaclub.com
SUMMARY:No Name
DESCRIPTION:Open / Topic Discussion
URL:https://yanaclub.com/event/no-name/2026-08-27/
CATEGORIES:AA
END:VEVENT
BEGIN:VEVENT
DTSTART;TZID=America/New_York:20260827T173000
DTEND;TZID=America/New_York:20260827T183000
DTSTAMP:20260425T235024
CREATED:20250507T155118Z
LAST-MODIFIED:20250507T155118Z
UID:10003415-1787851800-1787855400@yanaclub.com
SUMMARY:Serenity
DESCRIPTION:Open Discussion
URL:https://yanaclub.com/event/serenity/2026-08-27/
CATEGORIES:AA
END:VEVENT
BEGIN:VEVENT
DTSTART;TZID=America/New_York:20260827T184500
DTEND;TZID=America/New_York:20260827T194500
DTSTAMP:20260425T235024
CREATED:20250507T161123Z
LAST-MODIFIED:20250507T161123Z
UID:10011311-1787856300-1787859900@yanaclub.com
SUMMARY:645 YANA Womens
DESCRIPTION:Closed / Topic Discussion / Womens
URL:https://yanaclub.com/event/645-yana-womens/2026-08-27/
CATEGORIES:AA
END:VEVENT
BEGIN:VEVENT
DTSTART;TZID=America/New_York:20260828T090000
DTEND;TZID=America/New_York:20260828T100000
DTSTAMP:20260425T235024
CREATED:20250507T155840Z
LAST-MODIFIED:20250507T155840Z
UID:10007666-1787907600-1787911200@yanaclub.com
SUMMARY:SANS (Sober Now Sane)
DESCRIPTION:Open / Discussion
URL:https://yanaclub.com/event/sans-sober-now-sane/2026-08-28/
CATEGORIES:AA
END:VEVENT
END:VCALENDAR