BEGIN:VCALENDAR
VERSION:2.0
PRODID:-//YANA Club of Hilton Head Island - ECPv6.11.2//NONSGML v1.0//EN
CALSCALE:GREGORIAN
METHOD:PUBLISH
X-WR-CALNAME:YANA Club of Hilton Head Island
X-ORIGINAL-URL:https://yanaclub.com
X-WR-CALDESC:Events for YANA Club of Hilton Head Island
REFRESH-INTERVAL;VALUE=DURATION:PT1H
X-Robots-Tag:noindex
X-PUBLISHED-TTL:PT1H
BEGIN:VTIMEZONE
TZID:America/New_York
BEGIN:DAYLIGHT
TZOFFSETFROM:-0500
TZOFFSETTO:-0400
TZNAME:EDT
DTSTART:20260308T070000
END:DAYLIGHT
BEGIN:STANDARD
TZOFFSETFROM:-0400
TZOFFSETTO:-0500
TZNAME:EST
DTSTART:20261101T060000
END:STANDARD
END:VTIMEZONE
BEGIN:VEVENT
DTSTART;TZID=America/New_York:20260814T180000
DTEND;TZID=America/New_York:20260814T190000
DTSTAMP:20260425T191726
CREATED:20250507T161244Z
LAST-MODIFIED:20250507T161244Z
UID:10011831-1786730400-1786734000@yanaclub.com
SUMMARY:Young Peoples
DESCRIPTION:Open / Discussion
URL:https://yanaclub.com/event/young-peoples/2026-08-14/
CATEGORIES:AA
END:VEVENT
BEGIN:VEVENT
DTSTART;TZID=America/New_York:20260814T180000
DTEND;TZID=America/New_York:20260814T190000
DTSTAMP:20260425T191726
CREATED:20250507T161346Z
LAST-MODIFIED:20250507T161346Z
UID:10012092-1786730400-1786734000@yanaclub.com
SUMMARY:Together We Can
DESCRIPTION:Open / Discussion
URL:https://yanaclub.com/event/together-we-can/2026-08-14/
CATEGORIES:AA
END:VEVENT
BEGIN:VEVENT
DTSTART;TZID=America/New_York:20260814T200000
DTEND;TZID=America/New_York:20260814T210000
DTSTAMP:20260425T191726
CREATED:20250507T160652Z
LAST-MODIFIED:20250507T160652Z
UID:10009681-1786737600-1786741200@yanaclub.com
SUMMARY:Grupo Latino
DESCRIPTION:Open / Discussion / Spanish Language
URL:https://yanaclub.com/event/grupo-latino/2026-08-14/
CATEGORIES:AA
END:VEVENT
BEGIN:VEVENT
DTSTART;TZID=America/New_York:20260815T090000
DTEND;TZID=America/New_York:20260815T100000
DTSTAMP:20260425T191726
CREATED:20250502T104804Z
LAST-MODIFIED:20250502T104804Z
UID:10000069-1786784400-1786788000@yanaclub.com
SUMMARY:Saturday Big Book Study
DESCRIPTION:Type: O/BB
URL:https://yanaclub.com/event/saturday-big-book-study/2026-08-15/
CATEGORIES:AA
END:VEVENT
BEGIN:VEVENT
DTSTART;TZID=America/New_York:20260815T121500
DTEND;TZID=America/New_York:20260815T131500
DTSTAMP:20260425T191726
CREATED:20250507T154857Z
LAST-MODIFIED:20250507T155521Z
UID:10001516-1786796100-1786799700@yanaclub.com
SUMMARY:No Name
DESCRIPTION:Open / Topic Discussion
URL:https://yanaclub.com/event/no-name/2026-08-15/
CATEGORIES:AA
END:VEVENT
BEGIN:VEVENT
DTSTART;TZID=America/New_York:20260815T173000
DTEND;TZID=America/New_York:20260815T183000
DTSTAMP:20260425T191726
CREATED:20250507T155250Z
LAST-MODIFIED:20250507T155250Z
UID:10005298-1786815000-1786818600@yanaclub.com
SUMMARY:Serenity 1st Step
DESCRIPTION:Open / Discussion / Beginners
URL:https://yanaclub.com/event/serenity-1st-step/2026-08-15/
CATEGORIES:AA
END:VEVENT
BEGIN:VEVENT
DTSTART;TZID=America/New_York:20260815T200000
DTEND;TZID=America/New_York:20260815T210000
DTSTAMP:20260425T191726
CREATED:20250507T160652Z
LAST-MODIFIED:20250507T160652Z
UID:10009682-1786824000-1786827600@yanaclub.com
SUMMARY:Grupo Latino
DESCRIPTION:Open / Discussion / Spanish Language
URL:https://yanaclub.com/event/grupo-latino/2026-08-15/
CATEGORIES:AA
END:VEVENT
BEGIN:VEVENT
DTSTART;TZID=America/New_York:20260816T090000
DTEND;TZID=America/New_York:20260816T100000
DTSTAMP:20260425T191726
CREATED:20250507T161539Z
LAST-MODIFIED:20250507T161540Z
UID:10012353-1786870800-1786874400@yanaclub.com
SUMMARY:Breakfast Club
DESCRIPTION:Open /  Speaker Meeting
URL:https://yanaclub.com/event/breakfast-club-2/2026-08-16/
CATEGORIES:AA
END:VEVENT
BEGIN:VEVENT
DTSTART;TZID=America/New_York:20260816T121500
DTEND;TZID=America/New_York:20260816T131500
DTSTAMP:20260425T191726
CREATED:20250507T154857Z
LAST-MODIFIED:20250507T155521Z
UID:10001517-1786882500-1786886100@yanaclub.com
SUMMARY:No Name
DESCRIPTION:Open / Topic Discussion
URL:https://yanaclub.com/event/no-name/2026-08-16/
CATEGORIES:AA
END:VEVENT
BEGIN:VEVENT
DTSTART;TZID=America/New_York:20260817T090000
DTEND;TZID=America/New_York:20260817T100000
DTSTAMP:20260425T191726
CREATED:20250507T155840Z
LAST-MODIFIED:20250507T155840Z
UID:10007657-1786957200-1786960800@yanaclub.com
SUMMARY:SANS (Sober Now Sane)
DESCRIPTION:Open / Discussion
URL:https://yanaclub.com/event/sans-sober-now-sane/2026-08-17/
CATEGORIES:AA
END:VEVENT
BEGIN:VEVENT
DTSTART;TZID=America/New_York:20260817T121500
DTEND;TZID=America/New_York:20260817T131500
DTSTAMP:20260425T191726
CREATED:20250507T154857Z
LAST-MODIFIED:20250507T155521Z
UID:10001518-1786968900-1786972500@yanaclub.com
SUMMARY:No Name
DESCRIPTION:Open / Topic Discussion
URL:https://yanaclub.com/event/no-name/2026-08-17/
CATEGORIES:AA
END:VEVENT
BEGIN:VEVENT
DTSTART;TZID=America/New_York:20260817T173000
DTEND;TZID=America/New_York:20260817T183000
DTSTAMP:20260425T191726
CREATED:20250507T155118Z
LAST-MODIFIED:20250507T155118Z
UID:10003408-1786987800-1786991400@yanaclub.com
SUMMARY:Serenity
DESCRIPTION:Open Discussion
URL:https://yanaclub.com/event/serenity/2026-08-17/
CATEGORIES:AA
END:VEVENT
BEGIN:VEVENT
DTSTART;TZID=America/New_York:20260818T090000
DTEND;TZID=America/New_York:20260818T100000
DTSTAMP:20260425T191726
CREATED:20250507T155840Z
LAST-MODIFIED:20250507T155840Z
UID:10007658-1787043600-1787047200@yanaclub.com
SUMMARY:SANS (Sober Now Sane)
DESCRIPTION:Open / Discussion
URL:https://yanaclub.com/event/sans-sober-now-sane/2026-08-18/
CATEGORIES:AA
END:VEVENT
BEGIN:VEVENT
DTSTART;TZID=America/New_York:20260818T121500
DTEND;TZID=America/New_York:20260818T131500
DTSTAMP:20260425T191726
CREATED:20250507T154857Z
LAST-MODIFIED:20250507T155521Z
UID:10001519-1787055300-1787058900@yanaclub.com
SUMMARY:No Name
DESCRIPTION:Open / Topic Discussion
URL:https://yanaclub.com/event/no-name/2026-08-18/
CATEGORIES:AA
END:VEVENT
BEGIN:VEVENT
DTSTART;TZID=America/New_York:20260818T173000
DTEND;TZID=America/New_York:20260818T183000
DTSTAMP:20260425T191726
CREATED:20250507T155118Z
LAST-MODIFIED:20250507T155118Z
UID:10003409-1787074200-1787077800@yanaclub.com
SUMMARY:Serenity
DESCRIPTION:Open Discussion
URL:https://yanaclub.com/event/serenity/2026-08-18/
CATEGORIES:AA
END:VEVENT
BEGIN:VEVENT
DTSTART;TZID=America/New_York:20260818T190000
DTEND;TZID=America/New_York:20260818T200000
DTSTAMP:20260425T191726
CREATED:20250507T160104Z
LAST-MODIFIED:20250507T160104Z
UID:10008697-1787079600-1787083200@yanaclub.com
SUMMARY:Mens Back to Basics
DESCRIPTION:Closed / Discussion / Mens
URL:https://yanaclub.com/event/mens-back-to-basics/2026-08-18/
CATEGORIES:AA
END:VEVENT
BEGIN:VEVENT
DTSTART;TZID=America/New_York:20260818T200000
DTEND;TZID=America/New_York:20260818T210000
DTSTAMP:20260425T191726
CREATED:20250507T160652Z
LAST-MODIFIED:20250507T160652Z
UID:10009683-1787083200-1787086800@yanaclub.com
SUMMARY:Grupo Latino
DESCRIPTION:Open / Discussion / Spanish Language
URL:https://yanaclub.com/event/grupo-latino/2026-08-18/
CATEGORIES:AA
END:VEVENT
BEGIN:VEVENT
DTSTART;TZID=America/New_York:20260819T070000
DTEND;TZID=America/New_York:20260819T080000
DTSTAMP:20260425T191726
CREATED:20250507T160920Z
LAST-MODIFIED:20250507T160920Z
UID:10010788-1787122800-1787126400@yanaclub.com
SUMMARY:Design for Living
DESCRIPTION:Closed / Discussion
URL:https://yanaclub.com/event/design-for-living/2026-08-19/
CATEGORIES:AA
END:VEVENT
BEGIN:VEVENT
DTSTART;TZID=America/New_York:20260819T090000
DTEND;TZID=America/New_York:20260819T100000
DTSTAMP:20260425T191726
CREATED:20250507T155840Z
LAST-MODIFIED:20250507T155840Z
UID:10007659-1787130000-1787133600@yanaclub.com
SUMMARY:SANS (Sober Now Sane)
DESCRIPTION:Open / Discussion
URL:https://yanaclub.com/event/sans-sober-now-sane/2026-08-19/
CATEGORIES:AA
END:VEVENT
BEGIN:VEVENT
DTSTART;TZID=America/New_York:20260819T121500
DTEND;TZID=America/New_York:20260819T131500
DTSTAMP:20260425T191726
CREATED:20250507T154857Z
LAST-MODIFIED:20250507T155521Z
UID:10001520-1787141700-1787145300@yanaclub.com
SUMMARY:No Name
DESCRIPTION:Open / Topic Discussion
URL:https://yanaclub.com/event/no-name/2026-08-19/
CATEGORIES:AA
END:VEVENT
BEGIN:VEVENT
DTSTART;TZID=America/New_York:20260819T173000
DTEND;TZID=America/New_York:20260819T183000
DTSTAMP:20260425T191726
CREATED:20250507T155118Z
LAST-MODIFIED:20250507T155118Z
UID:10003410-1787160600-1787164200@yanaclub.com
SUMMARY:Serenity
DESCRIPTION:Open Discussion
URL:https://yanaclub.com/event/serenity/2026-08-19/
CATEGORIES:AA
END:VEVENT
BEGIN:VEVENT
DTSTART;TZID=America/New_York:20260819T200000
DTEND;TZID=America/New_York:20260819T210000
DTSTAMP:20260425T191726
CREATED:20250507T160652Z
LAST-MODIFIED:20250507T160652Z
UID:10009684-1787169600-1787173200@yanaclub.com
SUMMARY:Grupo Latino
DESCRIPTION:Open / Discussion / Spanish Language
URL:https://yanaclub.com/event/grupo-latino/2026-08-19/
CATEGORIES:AA
END:VEVENT
BEGIN:VEVENT
DTSTART;TZID=America/New_York:20260820T090000
DTEND;TZID=America/New_York:20260820T100000
DTSTAMP:20260425T191726
CREATED:20250507T155840Z
LAST-MODIFIED:20250507T155840Z
UID:10007660-1787216400-1787220000@yanaclub.com
SUMMARY:SANS (Sober Now Sane)
DESCRIPTION:Open / Discussion
URL:https://yanaclub.com/event/sans-sober-now-sane/2026-08-20/
CATEGORIES:AA
END:VEVENT
BEGIN:VEVENT
DTSTART;TZID=America/New_York:20260820T121500
DTEND;TZID=America/New_York:20260820T131500
DTSTAMP:20260425T191726
CREATED:20250507T154857Z
LAST-MODIFIED:20250507T155521Z
UID:10001521-1787228100-1787231700@yanaclub.com
SUMMARY:No Name
DESCRIPTION:Open / Topic Discussion
URL:https://yanaclub.com/event/no-name/2026-08-20/
CATEGORIES:AA
END:VEVENT
BEGIN:VEVENT
DTSTART;TZID=America/New_York:20260820T173000
DTEND;TZID=America/New_York:20260820T183000
DTSTAMP:20260425T191726
CREATED:20250507T155118Z
LAST-MODIFIED:20250507T155118Z
UID:10003411-1787247000-1787250600@yanaclub.com
SUMMARY:Serenity
DESCRIPTION:Open Discussion
URL:https://yanaclub.com/event/serenity/2026-08-20/
CATEGORIES:AA
END:VEVENT
BEGIN:VEVENT
DTSTART;TZID=America/New_York:20260820T184500
DTEND;TZID=America/New_York:20260820T194500
DTSTAMP:20260425T191726
CREATED:20250507T161123Z
LAST-MODIFIED:20250507T161123Z
UID:10011310-1787251500-1787255100@yanaclub.com
SUMMARY:645 YANA Womens
DESCRIPTION:Closed / Topic Discussion / Womens
URL:https://yanaclub.com/event/645-yana-womens/2026-08-20/
CATEGORIES:AA
END:VEVENT
BEGIN:VEVENT
DTSTART;TZID=America/New_York:20260821T090000
DTEND;TZID=America/New_York:20260821T100000
DTSTAMP:20260425T191726
CREATED:20250507T155840Z
LAST-MODIFIED:20250507T155840Z
UID:10007661-1787302800-1787306400@yanaclub.com
SUMMARY:SANS (Sober Now Sane)
DESCRIPTION:Open / Discussion
URL:https://yanaclub.com/event/sans-sober-now-sane/2026-08-21/
CATEGORIES:AA
END:VEVENT
BEGIN:VEVENT
DTSTART;TZID=America/New_York:20260821T121500
DTEND;TZID=America/New_York:20260821T131500
DTSTAMP:20260425T191726
CREATED:20250507T154857Z
LAST-MODIFIED:20250507T155521Z
UID:10001522-1787314500-1787318100@yanaclub.com
SUMMARY:No Name
DESCRIPTION:Open / Topic Discussion
URL:https://yanaclub.com/event/no-name/2026-08-21/
CATEGORIES:AA
END:VEVENT
BEGIN:VEVENT
DTSTART;TZID=America/New_York:20260821T180000
DTEND;TZID=America/New_York:20260821T190000
DTSTAMP:20260425T191726
CREATED:20250507T161244Z
LAST-MODIFIED:20250507T161244Z
UID:10011832-1787335200-1787338800@yanaclub.com
SUMMARY:Young Peoples
DESCRIPTION:Open / Discussion
URL:https://yanaclub.com/event/young-peoples/2026-08-21/
CATEGORIES:AA
END:VEVENT
BEGIN:VEVENT
DTSTART;TZID=America/New_York:20260821T180000
DTEND;TZID=America/New_York:20260821T190000
DTSTAMP:20260425T191726
CREATED:20250507T161346Z
LAST-MODIFIED:20250507T161346Z
UID:10012093-1787335200-1787338800@yanaclub.com
SUMMARY:Together We Can
DESCRIPTION:Open / Discussion
URL:https://yanaclub.com/event/together-we-can/2026-08-21/
CATEGORIES:AA
END:VEVENT
END:VCALENDAR