BEGIN:VCALENDAR
VERSION:2.0
PRODID:-//YANA Club of Hilton Head Island - ECPv6.11.2//NONSGML v1.0//EN
CALSCALE:GREGORIAN
METHOD:PUBLISH
X-WR-CALNAME:YANA Club of Hilton Head Island
X-ORIGINAL-URL:https://yanaclub.com
X-WR-CALDESC:Events for YANA Club of Hilton Head Island
REFRESH-INTERVAL;VALUE=DURATION:PT1H
X-Robots-Tag:noindex
X-PUBLISHED-TTL:PT1H
BEGIN:VTIMEZONE
TZID:America/New_York
BEGIN:DAYLIGHT
TZOFFSETFROM:-0500
TZOFFSETTO:-0400
TZNAME:EDT
DTSTART:20260308T070000
END:DAYLIGHT
BEGIN:STANDARD
TZOFFSETFROM:-0400
TZOFFSETTO:-0500
TZNAME:EST
DTSTART:20261101T060000
END:STANDARD
END:VTIMEZONE
BEGIN:VEVENT
DTSTART;TZID=America/New_York:20260723T184500
DTEND;TZID=America/New_York:20260723T194500
DTSTAMP:20260425T081423
CREATED:20250507T161123Z
LAST-MODIFIED:20250507T161123Z
UID:10011306-1784832300-1784835900@yanaclub.com
SUMMARY:645 YANA Womens
DESCRIPTION:Closed / Topic Discussion / Womens
URL:https://yanaclub.com/event/645-yana-womens/2026-07-23/
CATEGORIES:AA
END:VEVENT
BEGIN:VEVENT
DTSTART;TZID=America/New_York:20260724T090000
DTEND;TZID=America/New_York:20260724T100000
DTSTAMP:20260425T081423
CREATED:20250507T155840Z
LAST-MODIFIED:20250507T155840Z
UID:10007641-1784883600-1784887200@yanaclub.com
SUMMARY:SANS (Sober Now Sane)
DESCRIPTION:Open / Discussion
URL:https://yanaclub.com/event/sans-sober-now-sane/2026-07-24/
CATEGORIES:AA
END:VEVENT
BEGIN:VEVENT
DTSTART;TZID=America/New_York:20260724T121500
DTEND;TZID=America/New_York:20260724T131500
DTSTAMP:20260425T081423
CREATED:20250507T154857Z
LAST-MODIFIED:20250507T155521Z
UID:10001494-1784895300-1784898900@yanaclub.com
SUMMARY:No Name
DESCRIPTION:Open / Topic Discussion
URL:https://yanaclub.com/event/no-name/2026-07-24/
CATEGORIES:AA
END:VEVENT
BEGIN:VEVENT
DTSTART;TZID=America/New_York:20260724T180000
DTEND;TZID=America/New_York:20260724T190000
DTSTAMP:20260425T081423
CREATED:20250507T161244Z
LAST-MODIFIED:20250507T161244Z
UID:10011828-1784916000-1784919600@yanaclub.com
SUMMARY:Young Peoples
DESCRIPTION:Open / Discussion
URL:https://yanaclub.com/event/young-peoples/2026-07-24/
CATEGORIES:AA
END:VEVENT
BEGIN:VEVENT
DTSTART;TZID=America/New_York:20260724T180000
DTEND;TZID=America/New_York:20260724T190000
DTSTAMP:20260425T081423
CREATED:20250507T161346Z
LAST-MODIFIED:20250507T161346Z
UID:10012089-1784916000-1784919600@yanaclub.com
SUMMARY:Together We Can
DESCRIPTION:Open / Discussion
URL:https://yanaclub.com/event/together-we-can/2026-07-24/
CATEGORIES:AA
END:VEVENT
BEGIN:VEVENT
DTSTART;TZID=America/New_York:20260724T200000
DTEND;TZID=America/New_York:20260724T210000
DTSTAMP:20260425T081423
CREATED:20250507T160652Z
LAST-MODIFIED:20250507T160652Z
UID:10009669-1784923200-1784926800@yanaclub.com
SUMMARY:Grupo Latino
DESCRIPTION:Open / Discussion / Spanish Language
URL:https://yanaclub.com/event/grupo-latino/2026-07-24/
CATEGORIES:AA
END:VEVENT
BEGIN:VEVENT
DTSTART;TZID=America/New_York:20260725T090000
DTEND;TZID=America/New_York:20260725T100000
DTSTAMP:20260425T081423
CREATED:20250502T104804Z
LAST-MODIFIED:20250502T104804Z
UID:10000066-1784970000-1784973600@yanaclub.com
SUMMARY:Saturday Big Book Study
DESCRIPTION:Type: O/BB
URL:https://yanaclub.com/event/saturday-big-book-study/2026-07-25/
CATEGORIES:AA
END:VEVENT
BEGIN:VEVENT
DTSTART;TZID=America/New_York:20260725T121500
DTEND;TZID=America/New_York:20260725T131500
DTSTAMP:20260425T081423
CREATED:20250507T154857Z
LAST-MODIFIED:20250507T155521Z
UID:10001495-1784981700-1784985300@yanaclub.com
SUMMARY:No Name
DESCRIPTION:Open / Topic Discussion
URL:https://yanaclub.com/event/no-name/2026-07-25/
CATEGORIES:AA
END:VEVENT
BEGIN:VEVENT
DTSTART;TZID=America/New_York:20260725T173000
DTEND;TZID=America/New_York:20260725T183000
DTSTAMP:20260425T081423
CREATED:20250507T155250Z
LAST-MODIFIED:20250507T155250Z
UID:10005295-1785000600-1785004200@yanaclub.com
SUMMARY:Serenity 1st Step
DESCRIPTION:Open / Discussion / Beginners
URL:https://yanaclub.com/event/serenity-1st-step/2026-07-25/
CATEGORIES:AA
END:VEVENT
BEGIN:VEVENT
DTSTART;TZID=America/New_York:20260725T200000
DTEND;TZID=America/New_York:20260725T210000
DTSTAMP:20260425T081423
CREATED:20250507T160652Z
LAST-MODIFIED:20250507T160652Z
UID:10009670-1785009600-1785013200@yanaclub.com
SUMMARY:Grupo Latino
DESCRIPTION:Open / Discussion / Spanish Language
URL:https://yanaclub.com/event/grupo-latino/2026-07-25/
CATEGORIES:AA
END:VEVENT
BEGIN:VEVENT
DTSTART;TZID=America/New_York:20260726T090000
DTEND;TZID=America/New_York:20260726T100000
DTSTAMP:20260425T081423
CREATED:20250507T161539Z
LAST-MODIFIED:20250507T161540Z
UID:10012350-1785056400-1785060000@yanaclub.com
SUMMARY:Breakfast Club
DESCRIPTION:Open /  Speaker Meeting
URL:https://yanaclub.com/event/breakfast-club-2/2026-07-26/
CATEGORIES:AA
END:VEVENT
BEGIN:VEVENT
DTSTART;TZID=America/New_York:20260726T121500
DTEND;TZID=America/New_York:20260726T131500
DTSTAMP:20260425T081423
CREATED:20250507T154857Z
LAST-MODIFIED:20250507T155521Z
UID:10001496-1785068100-1785071700@yanaclub.com
SUMMARY:No Name
DESCRIPTION:Open / Topic Discussion
URL:https://yanaclub.com/event/no-name/2026-07-26/
CATEGORIES:AA
END:VEVENT
BEGIN:VEVENT
DTSTART;TZID=America/New_York:20260727T090000
DTEND;TZID=America/New_York:20260727T100000
DTSTAMP:20260425T081423
CREATED:20250507T155840Z
LAST-MODIFIED:20250507T155840Z
UID:10007642-1785142800-1785146400@yanaclub.com
SUMMARY:SANS (Sober Now Sane)
DESCRIPTION:Open / Discussion
URL:https://yanaclub.com/event/sans-sober-now-sane/2026-07-27/
CATEGORIES:AA
END:VEVENT
BEGIN:VEVENT
DTSTART;TZID=America/New_York:20260727T121500
DTEND;TZID=America/New_York:20260727T131500
DTSTAMP:20260425T081423
CREATED:20250507T154857Z
LAST-MODIFIED:20250507T155521Z
UID:10001497-1785154500-1785158100@yanaclub.com
SUMMARY:No Name
DESCRIPTION:Open / Topic Discussion
URL:https://yanaclub.com/event/no-name/2026-07-27/
CATEGORIES:AA
END:VEVENT
BEGIN:VEVENT
DTSTART;TZID=America/New_York:20260727T173000
DTEND;TZID=America/New_York:20260727T183000
DTSTAMP:20260425T081423
CREATED:20250507T155118Z
LAST-MODIFIED:20250507T155118Z
UID:10003396-1785173400-1785177000@yanaclub.com
SUMMARY:Serenity
DESCRIPTION:Open Discussion
URL:https://yanaclub.com/event/serenity/2026-07-27/
CATEGORIES:AA
END:VEVENT
BEGIN:VEVENT
DTSTART;TZID=America/New_York:20260728T090000
DTEND;TZID=America/New_York:20260728T100000
DTSTAMP:20260425T081423
CREATED:20250507T155840Z
LAST-MODIFIED:20250507T155840Z
UID:10007643-1785229200-1785232800@yanaclub.com
SUMMARY:SANS (Sober Now Sane)
DESCRIPTION:Open / Discussion
URL:https://yanaclub.com/event/sans-sober-now-sane/2026-07-28/
CATEGORIES:AA
END:VEVENT
BEGIN:VEVENT
DTSTART;TZID=America/New_York:20260728T121500
DTEND;TZID=America/New_York:20260728T131500
DTSTAMP:20260425T081423
CREATED:20250507T154857Z
LAST-MODIFIED:20250507T155521Z
UID:10001498-1785240900-1785244500@yanaclub.com
SUMMARY:No Name
DESCRIPTION:Open / Topic Discussion
URL:https://yanaclub.com/event/no-name/2026-07-28/
CATEGORIES:AA
END:VEVENT
BEGIN:VEVENT
DTSTART;TZID=America/New_York:20260728T173000
DTEND;TZID=America/New_York:20260728T183000
DTSTAMP:20260425T081423
CREATED:20250507T155118Z
LAST-MODIFIED:20250507T155118Z
UID:10003397-1785259800-1785263400@yanaclub.com
SUMMARY:Serenity
DESCRIPTION:Open Discussion
URL:https://yanaclub.com/event/serenity/2026-07-28/
CATEGORIES:AA
END:VEVENT
BEGIN:VEVENT
DTSTART;TZID=America/New_York:20260728T190000
DTEND;TZID=America/New_York:20260728T200000
DTSTAMP:20260425T081423
CREATED:20250507T160104Z
LAST-MODIFIED:20250507T160104Z
UID:10008694-1785265200-1785268800@yanaclub.com
SUMMARY:Mens Back to Basics
DESCRIPTION:Closed / Discussion / Mens
URL:https://yanaclub.com/event/mens-back-to-basics/2026-07-28/
CATEGORIES:AA
END:VEVENT
BEGIN:VEVENT
DTSTART;TZID=America/New_York:20260728T200000
DTEND;TZID=America/New_York:20260728T210000
DTSTAMP:20260425T081423
CREATED:20250507T160652Z
LAST-MODIFIED:20250507T160652Z
UID:10009671-1785268800-1785272400@yanaclub.com
SUMMARY:Grupo Latino
DESCRIPTION:Open / Discussion / Spanish Language
URL:https://yanaclub.com/event/grupo-latino/2026-07-28/
CATEGORIES:AA
END:VEVENT
BEGIN:VEVENT
DTSTART;TZID=America/New_York:20260729T070000
DTEND;TZID=America/New_York:20260729T080000
DTSTAMP:20260425T081423
CREATED:20250507T160920Z
LAST-MODIFIED:20250507T160920Z
UID:10010785-1785308400-1785312000@yanaclub.com
SUMMARY:Design for Living
DESCRIPTION:Closed / Discussion
URL:https://yanaclub.com/event/design-for-living/2026-07-29/
CATEGORIES:AA
END:VEVENT
BEGIN:VEVENT
DTSTART;TZID=America/New_York:20260729T090000
DTEND;TZID=America/New_York:20260729T100000
DTSTAMP:20260425T081423
CREATED:20250507T155840Z
LAST-MODIFIED:20250507T155840Z
UID:10007644-1785315600-1785319200@yanaclub.com
SUMMARY:SANS (Sober Now Sane)
DESCRIPTION:Open / Discussion
URL:https://yanaclub.com/event/sans-sober-now-sane/2026-07-29/
CATEGORIES:AA
END:VEVENT
BEGIN:VEVENT
DTSTART;TZID=America/New_York:20260729T121500
DTEND;TZID=America/New_York:20260729T131500
DTSTAMP:20260425T081423
CREATED:20250507T154857Z
LAST-MODIFIED:20250507T155521Z
UID:10001499-1785327300-1785330900@yanaclub.com
SUMMARY:No Name
DESCRIPTION:Open / Topic Discussion
URL:https://yanaclub.com/event/no-name/2026-07-29/
CATEGORIES:AA
END:VEVENT
BEGIN:VEVENT
DTSTART;TZID=America/New_York:20260729T173000
DTEND;TZID=America/New_York:20260729T183000
DTSTAMP:20260425T081423
CREATED:20250507T155118Z
LAST-MODIFIED:20250507T155118Z
UID:10003398-1785346200-1785349800@yanaclub.com
SUMMARY:Serenity
DESCRIPTION:Open Discussion
URL:https://yanaclub.com/event/serenity/2026-07-29/
CATEGORIES:AA
END:VEVENT
BEGIN:VEVENT
DTSTART;TZID=America/New_York:20260729T200000
DTEND;TZID=America/New_York:20260729T210000
DTSTAMP:20260425T081423
CREATED:20250507T160652Z
LAST-MODIFIED:20250507T160652Z
UID:10009672-1785355200-1785358800@yanaclub.com
SUMMARY:Grupo Latino
DESCRIPTION:Open / Discussion / Spanish Language
URL:https://yanaclub.com/event/grupo-latino/2026-07-29/
CATEGORIES:AA
END:VEVENT
BEGIN:VEVENT
DTSTART;TZID=America/New_York:20260730T090000
DTEND;TZID=America/New_York:20260730T100000
DTSTAMP:20260425T081423
CREATED:20250507T155840Z
LAST-MODIFIED:20250507T155840Z
UID:10007645-1785402000-1785405600@yanaclub.com
SUMMARY:SANS (Sober Now Sane)
DESCRIPTION:Open / Discussion
URL:https://yanaclub.com/event/sans-sober-now-sane/2026-07-30/
CATEGORIES:AA
END:VEVENT
BEGIN:VEVENT
DTSTART;TZID=America/New_York:20260730T121500
DTEND;TZID=America/New_York:20260730T131500
DTSTAMP:20260425T081423
CREATED:20250507T154857Z
LAST-MODIFIED:20250507T155521Z
UID:10001500-1785413700-1785417300@yanaclub.com
SUMMARY:No Name
DESCRIPTION:Open / Topic Discussion
URL:https://yanaclub.com/event/no-name/2026-07-30/
CATEGORIES:AA
END:VEVENT
BEGIN:VEVENT
DTSTART;TZID=America/New_York:20260730T173000
DTEND;TZID=America/New_York:20260730T183000
DTSTAMP:20260425T081423
CREATED:20250507T155118Z
LAST-MODIFIED:20250507T155118Z
UID:10003399-1785432600-1785436200@yanaclub.com
SUMMARY:Serenity
DESCRIPTION:Open Discussion
URL:https://yanaclub.com/event/serenity/2026-07-30/
CATEGORIES:AA
END:VEVENT
BEGIN:VEVENT
DTSTART;TZID=America/New_York:20260730T184500
DTEND;TZID=America/New_York:20260730T194500
DTSTAMP:20260425T081423
CREATED:20250507T161123Z
LAST-MODIFIED:20250507T161123Z
UID:10011307-1785437100-1785440700@yanaclub.com
SUMMARY:645 YANA Womens
DESCRIPTION:Closed / Topic Discussion / Womens
URL:https://yanaclub.com/event/645-yana-womens/2026-07-30/
CATEGORIES:AA
END:VEVENT
BEGIN:VEVENT
DTSTART;TZID=America/New_York:20260731T090000
DTEND;TZID=America/New_York:20260731T100000
DTSTAMP:20260425T081423
CREATED:20250507T155840Z
LAST-MODIFIED:20250507T155840Z
UID:10007646-1785488400-1785492000@yanaclub.com
SUMMARY:SANS (Sober Now Sane)
DESCRIPTION:Open / Discussion
URL:https://yanaclub.com/event/sans-sober-now-sane/2026-07-31/
CATEGORIES:AA
END:VEVENT
END:VCALENDAR