BEGIN:VCALENDAR
VERSION:2.0
PRODID:-//YANA Club of Hilton Head Island - ECPv6.11.2//NONSGML v1.0//EN
CALSCALE:GREGORIAN
METHOD:PUBLISH
X-ORIGINAL-URL:https://yanaclub.com
X-WR-CALDESC:Events for YANA Club of Hilton Head Island
REFRESH-INTERVAL;VALUE=DURATION:PT1H
X-Robots-Tag:noindex
X-PUBLISHED-TTL:PT1H
BEGIN:VTIMEZONE
TZID:America/New_York
BEGIN:DAYLIGHT
TZOFFSETFROM:-0500
TZOFFSETTO:-0400
TZNAME:EDT
DTSTART:20260308T070000
END:DAYLIGHT
BEGIN:STANDARD
TZOFFSETFROM:-0400
TZOFFSETTO:-0500
TZNAME:EST
DTSTART:20261101T060000
END:STANDARD
END:VTIMEZONE
BEGIN:VEVENT
DTSTART;TZID=America/New_York:20260617T200000
DTEND;TZID=America/New_York:20260617T210000
DTSTAMP:20260422T095008
CREATED:20250507T160652Z
LAST-MODIFIED:20250507T160652Z
UID:10009648-1781726400-1781730000@yanaclub.com
SUMMARY:Grupo Latino
DESCRIPTION:Open / Discussion / Spanish Language
URL:https://yanaclub.com/event/grupo-latino/2026-06-17/
CATEGORIES:AA
END:VEVENT
BEGIN:VEVENT
DTSTART;TZID=America/New_York:20260618T090000
DTEND;TZID=America/New_York:20260618T100000
DTSTAMP:20260422T095008
CREATED:20250507T155840Z
LAST-MODIFIED:20250507T155840Z
UID:10007615-1781773200-1781776800@yanaclub.com
SUMMARY:SANS (Sober Now Sane)
DESCRIPTION:Open / Discussion
URL:https://yanaclub.com/event/sans-sober-now-sane/2026-06-18/
CATEGORIES:AA
END:VEVENT
BEGIN:VEVENT
DTSTART;TZID=America/New_York:20260618T121500
DTEND;TZID=America/New_York:20260618T131500
DTSTAMP:20260422T095008
CREATED:20250507T154857Z
LAST-MODIFIED:20250507T155521Z
UID:10001458-1781784900-1781788500@yanaclub.com
SUMMARY:No Name
DESCRIPTION:Open / Topic Discussion
URL:https://yanaclub.com/event/no-name/2026-06-18/
CATEGORIES:AA
END:VEVENT
BEGIN:VEVENT
DTSTART;TZID=America/New_York:20260618T173000
DTEND;TZID=America/New_York:20260618T183000
DTSTAMP:20260422T095008
CREATED:20250507T155118Z
LAST-MODIFIED:20250507T155118Z
UID:10003375-1781803800-1781807400@yanaclub.com
SUMMARY:Serenity
DESCRIPTION:Open Discussion
URL:https://yanaclub.com/event/serenity/2026-06-18/
CATEGORIES:AA
END:VEVENT
BEGIN:VEVENT
DTSTART;TZID=America/New_York:20260618T184500
DTEND;TZID=America/New_York:20260618T194500
DTSTAMP:20260422T095008
CREATED:20250507T161123Z
LAST-MODIFIED:20250507T161123Z
UID:10011301-1781808300-1781811900@yanaclub.com
SUMMARY:645 YANA Womens
DESCRIPTION:Closed / Topic Discussion / Womens
URL:https://yanaclub.com/event/645-yana-womens/2026-06-18/
CATEGORIES:AA
END:VEVENT
BEGIN:VEVENT
DTSTART;TZID=America/New_York:20260619T090000
DTEND;TZID=America/New_York:20260619T100000
DTSTAMP:20260422T095008
CREATED:20250507T155840Z
LAST-MODIFIED:20250507T155840Z
UID:10007616-1781859600-1781863200@yanaclub.com
SUMMARY:SANS (Sober Now Sane)
DESCRIPTION:Open / Discussion
URL:https://yanaclub.com/event/sans-sober-now-sane/2026-06-19/
CATEGORIES:AA
END:VEVENT
BEGIN:VEVENT
DTSTART;TZID=America/New_York:20260619T121500
DTEND;TZID=America/New_York:20260619T131500
DTSTAMP:20260422T095008
CREATED:20250507T154857Z
LAST-MODIFIED:20250507T155521Z
UID:10001459-1781871300-1781874900@yanaclub.com
SUMMARY:No Name
DESCRIPTION:Open / Topic Discussion
URL:https://yanaclub.com/event/no-name/2026-06-19/
CATEGORIES:AA
END:VEVENT
BEGIN:VEVENT
DTSTART;TZID=America/New_York:20260619T180000
DTEND;TZID=America/New_York:20260619T190000
DTSTAMP:20260422T095008
CREATED:20250507T161244Z
LAST-MODIFIED:20250507T161244Z
UID:10011823-1781892000-1781895600@yanaclub.com
SUMMARY:Young Peoples
DESCRIPTION:Open / Discussion
URL:https://yanaclub.com/event/young-peoples/2026-06-19/
CATEGORIES:AA
END:VEVENT
BEGIN:VEVENT
DTSTART;TZID=America/New_York:20260619T180000
DTEND;TZID=America/New_York:20260619T190000
DTSTAMP:20260422T095008
CREATED:20250507T161346Z
LAST-MODIFIED:20250507T161346Z
UID:10012084-1781892000-1781895600@yanaclub.com
SUMMARY:Together We Can
DESCRIPTION:Open / Discussion
URL:https://yanaclub.com/event/together-we-can/2026-06-19/
CATEGORIES:AA
END:VEVENT
BEGIN:VEVENT
DTSTART;TZID=America/New_York:20260619T200000
DTEND;TZID=America/New_York:20260619T210000
DTSTAMP:20260422T095008
CREATED:20250507T160652Z
LAST-MODIFIED:20250507T160652Z
UID:10009649-1781899200-1781902800@yanaclub.com
SUMMARY:Grupo Latino
DESCRIPTION:Open / Discussion / Spanish Language
URL:https://yanaclub.com/event/grupo-latino/2026-06-19/
CATEGORIES:AA
END:VEVENT
BEGIN:VEVENT
DTSTART;TZID=America/New_York:20260620T090000
DTEND;TZID=America/New_York:20260620T100000
DTSTAMP:20260422T095008
CREATED:20250502T104804Z
LAST-MODIFIED:20250502T104804Z
UID:10000061-1781946000-1781949600@yanaclub.com
SUMMARY:Saturday Big Book Study
DESCRIPTION:Type: O/BB
URL:https://yanaclub.com/event/saturday-big-book-study/2026-06-20/
CATEGORIES:AA
END:VEVENT
BEGIN:VEVENT
DTSTART;TZID=America/New_York:20260620T121500
DTEND;TZID=America/New_York:20260620T131500
DTSTAMP:20260422T095008
CREATED:20250507T154857Z
LAST-MODIFIED:20250507T155521Z
UID:10001460-1781957700-1781961300@yanaclub.com
SUMMARY:No Name
DESCRIPTION:Open / Topic Discussion
URL:https://yanaclub.com/event/no-name/2026-06-20/
CATEGORIES:AA
END:VEVENT
BEGIN:VEVENT
DTSTART;TZID=America/New_York:20260620T173000
DTEND;TZID=America/New_York:20260620T183000
DTSTAMP:20260422T095008
CREATED:20250507T155250Z
LAST-MODIFIED:20250507T155250Z
UID:10005290-1781976600-1781980200@yanaclub.com
SUMMARY:Serenity 1st Step
DESCRIPTION:Open / Discussion / Beginners
URL:https://yanaclub.com/event/serenity-1st-step/2026-06-20/
CATEGORIES:AA
END:VEVENT
BEGIN:VEVENT
DTSTART;TZID=America/New_York:20260620T200000
DTEND;TZID=America/New_York:20260620T210000
DTSTAMP:20260422T095008
CREATED:20250507T160652Z
LAST-MODIFIED:20250507T160652Z
UID:10009650-1781985600-1781989200@yanaclub.com
SUMMARY:Grupo Latino
DESCRIPTION:Open / Discussion / Spanish Language
URL:https://yanaclub.com/event/grupo-latino/2026-06-20/
CATEGORIES:AA
END:VEVENT
BEGIN:VEVENT
DTSTART;TZID=America/New_York:20260621T090000
DTEND;TZID=America/New_York:20260621T100000
DTSTAMP:20260422T095008
CREATED:20250507T161539Z
LAST-MODIFIED:20250507T161540Z
UID:10012345-1782032400-1782036000@yanaclub.com
SUMMARY:Breakfast Club
DESCRIPTION:Open /  Speaker Meeting
URL:https://yanaclub.com/event/breakfast-club-2/2026-06-21/
CATEGORIES:AA
END:VEVENT
BEGIN:VEVENT
DTSTART;TZID=America/New_York:20260621T121500
DTEND;TZID=America/New_York:20260621T131500
DTSTAMP:20260422T095008
CREATED:20250507T154857Z
LAST-MODIFIED:20250507T155521Z
UID:10001461-1782044100-1782047700@yanaclub.com
SUMMARY:No Name
DESCRIPTION:Open / Topic Discussion
URL:https://yanaclub.com/event/no-name/2026-06-21/
CATEGORIES:AA
END:VEVENT
BEGIN:VEVENT
DTSTART;TZID=America/New_York:20260622T090000
DTEND;TZID=America/New_York:20260622T100000
DTSTAMP:20260422T095008
CREATED:20250507T155840Z
LAST-MODIFIED:20250507T155840Z
UID:10007617-1782118800-1782122400@yanaclub.com
SUMMARY:SANS (Sober Now Sane)
DESCRIPTION:Open / Discussion
URL:https://yanaclub.com/event/sans-sober-now-sane/2026-06-22/
CATEGORIES:AA
END:VEVENT
BEGIN:VEVENT
DTSTART;TZID=America/New_York:20260622T121500
DTEND;TZID=America/New_York:20260622T131500
DTSTAMP:20260422T095008
CREATED:20250507T154857Z
LAST-MODIFIED:20250507T155521Z
UID:10001462-1782130500-1782134100@yanaclub.com
SUMMARY:No Name
DESCRIPTION:Open / Topic Discussion
URL:https://yanaclub.com/event/no-name/2026-06-22/
CATEGORIES:AA
END:VEVENT
BEGIN:VEVENT
DTSTART;TZID=America/New_York:20260622T173000
DTEND;TZID=America/New_York:20260622T183000
DTSTAMP:20260422T095008
CREATED:20250507T155118Z
LAST-MODIFIED:20250507T155118Z
UID:10003376-1782149400-1782153000@yanaclub.com
SUMMARY:Serenity
DESCRIPTION:Open Discussion
URL:https://yanaclub.com/event/serenity/2026-06-22/
CATEGORIES:AA
END:VEVENT
BEGIN:VEVENT
DTSTART;TZID=America/New_York:20260623T090000
DTEND;TZID=America/New_York:20260623T100000
DTSTAMP:20260422T095008
CREATED:20250507T155840Z
LAST-MODIFIED:20250507T155840Z
UID:10007618-1782205200-1782208800@yanaclub.com
SUMMARY:SANS (Sober Now Sane)
DESCRIPTION:Open / Discussion
URL:https://yanaclub.com/event/sans-sober-now-sane/2026-06-23/
CATEGORIES:AA
END:VEVENT
BEGIN:VEVENT
DTSTART;TZID=America/New_York:20260623T121500
DTEND;TZID=America/New_York:20260623T131500
DTSTAMP:20260422T095008
CREATED:20250507T154857Z
LAST-MODIFIED:20250507T155521Z
UID:10001463-1782216900-1782220500@yanaclub.com
SUMMARY:No Name
DESCRIPTION:Open / Topic Discussion
URL:https://yanaclub.com/event/no-name/2026-06-23/
CATEGORIES:AA
END:VEVENT
BEGIN:VEVENT
DTSTART;TZID=America/New_York:20260623T173000
DTEND;TZID=America/New_York:20260623T183000
DTSTAMP:20260422T095008
CREATED:20250507T155118Z
LAST-MODIFIED:20250507T155118Z
UID:10003377-1782235800-1782239400@yanaclub.com
SUMMARY:Serenity
DESCRIPTION:Open Discussion
URL:https://yanaclub.com/event/serenity/2026-06-23/
CATEGORIES:AA
END:VEVENT
BEGIN:VEVENT
DTSTART;TZID=America/New_York:20260623T190000
DTEND;TZID=America/New_York:20260623T200000
DTSTAMP:20260422T095008
CREATED:20250507T160104Z
LAST-MODIFIED:20250507T160104Z
UID:10008689-1782241200-1782244800@yanaclub.com
SUMMARY:Mens Back to Basics
DESCRIPTION:Closed / Discussion / Mens
URL:https://yanaclub.com/event/mens-back-to-basics/2026-06-23/
CATEGORIES:AA
END:VEVENT
BEGIN:VEVENT
DTSTART;TZID=America/New_York:20260623T200000
DTEND;TZID=America/New_York:20260623T210000
DTSTAMP:20260422T095008
CREATED:20250507T160652Z
LAST-MODIFIED:20250507T160652Z
UID:10009651-1782244800-1782248400@yanaclub.com
SUMMARY:Grupo Latino
DESCRIPTION:Open / Discussion / Spanish Language
URL:https://yanaclub.com/event/grupo-latino/2026-06-23/
CATEGORIES:AA
END:VEVENT
BEGIN:VEVENT
DTSTART;TZID=America/New_York:20260624T070000
DTEND;TZID=America/New_York:20260624T080000
DTSTAMP:20260422T095008
CREATED:20250507T160920Z
LAST-MODIFIED:20250507T160920Z
UID:10010780-1782284400-1782288000@yanaclub.com
SUMMARY:Design for Living
DESCRIPTION:Closed / Discussion
URL:https://yanaclub.com/event/design-for-living/2026-06-24/
CATEGORIES:AA
END:VEVENT
BEGIN:VEVENT
DTSTART;TZID=America/New_York:20260624T090000
DTEND;TZID=America/New_York:20260624T100000
DTSTAMP:20260422T095008
CREATED:20250507T155840Z
LAST-MODIFIED:20250507T155840Z
UID:10007619-1782291600-1782295200@yanaclub.com
SUMMARY:SANS (Sober Now Sane)
DESCRIPTION:Open / Discussion
URL:https://yanaclub.com/event/sans-sober-now-sane/2026-06-24/
CATEGORIES:AA
END:VEVENT
BEGIN:VEVENT
DTSTART;TZID=America/New_York:20260624T121500
DTEND;TZID=America/New_York:20260624T131500
DTSTAMP:20260422T095008
CREATED:20250507T154857Z
LAST-MODIFIED:20250507T155521Z
UID:10001464-1782303300-1782306900@yanaclub.com
SUMMARY:No Name
DESCRIPTION:Open / Topic Discussion
URL:https://yanaclub.com/event/no-name/2026-06-24/
CATEGORIES:AA
END:VEVENT
BEGIN:VEVENT
DTSTART;TZID=America/New_York:20260624T173000
DTEND;TZID=America/New_York:20260624T183000
DTSTAMP:20260422T095008
CREATED:20250507T155118Z
LAST-MODIFIED:20250507T155118Z
UID:10003378-1782322200-1782325800@yanaclub.com
SUMMARY:Serenity
DESCRIPTION:Open Discussion
URL:https://yanaclub.com/event/serenity/2026-06-24/
CATEGORIES:AA
END:VEVENT
BEGIN:VEVENT
DTSTART;TZID=America/New_York:20260624T200000
DTEND;TZID=America/New_York:20260624T210000
DTSTAMP:20260422T095008
CREATED:20250507T160652Z
LAST-MODIFIED:20250507T160652Z
UID:10009652-1782331200-1782334800@yanaclub.com
SUMMARY:Grupo Latino
DESCRIPTION:Open / Discussion / Spanish Language
URL:https://yanaclub.com/event/grupo-latino/2026-06-24/
CATEGORIES:AA
END:VEVENT
BEGIN:VEVENT
DTSTART;TZID=America/New_York:20260625T090000
DTEND;TZID=America/New_York:20260625T100000
DTSTAMP:20260422T095008
CREATED:20250507T155840Z
LAST-MODIFIED:20250507T155840Z
UID:10007620-1782378000-1782381600@yanaclub.com
SUMMARY:SANS (Sober Now Sane)
DESCRIPTION:Open / Discussion
URL:https://yanaclub.com/event/sans-sober-now-sane/2026-06-25/
CATEGORIES:AA
END:VEVENT
END:VCALENDAR