BEGIN:VCALENDAR
VERSION:2.0
PRODID:-//YANA Club of Hilton Head Island - ECPv6.11.2//NONSGML v1.0//EN
CALSCALE:GREGORIAN
METHOD:PUBLISH
X-ORIGINAL-URL:https://yanaclub.com
X-WR-CALDESC:Events for YANA Club of Hilton Head Island
REFRESH-INTERVAL;VALUE=DURATION:PT1H
X-Robots-Tag:noindex
X-PUBLISHED-TTL:PT1H
BEGIN:VTIMEZONE
TZID:America/New_York
BEGIN:DAYLIGHT
TZOFFSETFROM:-0500
TZOFFSETTO:-0400
TZNAME:EDT
DTSTART:20260308T070000
END:DAYLIGHT
BEGIN:STANDARD
TZOFFSETFROM:-0400
TZOFFSETTO:-0500
TZNAME:EST
DTSTART:20261101T060000
END:STANDARD
END:VTIMEZONE
BEGIN:VEVENT
DTSTART;TZID=America/New_York:20260214T090000
DTEND;TZID=America/New_York:20260214T100000
DTSTAMP:20260422T195808
CREATED:20250502T104804Z
LAST-MODIFIED:20250502T104804Z
UID:10000043-1771059600-1771063200@yanaclub.com
SUMMARY:Saturday Big Book Study
DESCRIPTION:Type: O/BB
URL:https://yanaclub.com/event/saturday-big-book-study/2026-02-14/
CATEGORIES:AA
END:VEVENT
BEGIN:VEVENT
DTSTART;TZID=America/New_York:20260214T121500
DTEND;TZID=America/New_York:20260214T131500
DTSTAMP:20260422T195808
CREATED:20250507T154857Z
LAST-MODIFIED:20250507T155521Z
UID:10001334-1771071300-1771074900@yanaclub.com
SUMMARY:No Name
DESCRIPTION:Open / Topic Discussion
URL:https://yanaclub.com/event/no-name/2026-02-14/
CATEGORIES:AA
END:VEVENT
BEGIN:VEVENT
DTSTART;TZID=America/New_York:20260214T173000
DTEND;TZID=America/New_York:20260214T183000
DTSTAMP:20260422T195808
CREATED:20250507T155250Z
LAST-MODIFIED:20250507T155250Z
UID:10005272-1771090200-1771093800@yanaclub.com
SUMMARY:Serenity 1st Step
DESCRIPTION:Open / Discussion / Beginners
URL:https://yanaclub.com/event/serenity-1st-step/2026-02-14/
CATEGORIES:AA
END:VEVENT
BEGIN:VEVENT
DTSTART;TZID=America/New_York:20260214T200000
DTEND;TZID=America/New_York:20260214T210000
DTSTAMP:20260422T195808
CREATED:20250507T160652Z
LAST-MODIFIED:20250507T160652Z
UID:10009578-1771099200-1771102800@yanaclub.com
SUMMARY:Grupo Latino
DESCRIPTION:Open / Discussion / Spanish Language
URL:https://yanaclub.com/event/grupo-latino/2026-02-14/
CATEGORIES:AA
END:VEVENT
END:VCALENDAR