BEGIN:VCALENDAR
VERSION:2.0
PRODID:-//YANA Club of Hilton Head Island - ECPv6.11.2//NONSGML v1.0//EN
CALSCALE:GREGORIAN
METHOD:PUBLISH
X-ORIGINAL-URL:https://yanaclub.com
X-WR-CALDESC:Events for YANA Club of Hilton Head Island
REFRESH-INTERVAL;VALUE=DURATION:PT1H
X-Robots-Tag:noindex
X-PUBLISHED-TTL:PT1H
BEGIN:VTIMEZONE
TZID:America/New_York
BEGIN:DAYLIGHT
TZOFFSETFROM:-0500
TZOFFSETTO:-0400
TZNAME:EDT
DTSTART:20260308T070000
END:DAYLIGHT
BEGIN:STANDARD
TZOFFSETFROM:-0400
TZOFFSETTO:-0500
TZNAME:EST
DTSTART:20261101T060000
END:STANDARD
END:VTIMEZONE
BEGIN:VEVENT
DTSTART;TZID=America/New_York:20260112T090000
DTEND;TZID=America/New_York:20260112T100000
DTSTAMP:20260422T225902
CREATED:20250507T155840Z
LAST-MODIFIED:20250507T155840Z
UID:10007502-1768208400-1768212000@yanaclub.com
SUMMARY:SANS (Sober Now Sane)
DESCRIPTION:Open / Discussion
URL:https://yanaclub.com/event/sans-sober-now-sane/2026-01-12/
CATEGORIES:AA
END:VEVENT
BEGIN:VEVENT
DTSTART;TZID=America/New_York:20260112T121500
DTEND;TZID=America/New_York:20260112T131500
DTSTAMP:20260422T225902
CREATED:20250507T154857Z
LAST-MODIFIED:20250507T155521Z
UID:10001301-1768220100-1768223700@yanaclub.com
SUMMARY:No Name
DESCRIPTION:Open / Topic Discussion
URL:https://yanaclub.com/event/no-name/2026-01-12/
CATEGORIES:AA
END:VEVENT
BEGIN:VEVENT
DTSTART;TZID=America/New_York:20260112T173000
DTEND;TZID=America/New_York:20260112T183000
DTSTAMP:20260422T225902
CREATED:20250507T155118Z
LAST-MODIFIED:20250507T155118Z
UID:10003284-1768239000-1768242600@yanaclub.com
SUMMARY:Serenity
DESCRIPTION:Open Discussion
URL:https://yanaclub.com/event/serenity/2026-01-12/
CATEGORIES:AA
END:VEVENT
END:VCALENDAR