BEGIN:VCALENDAR
VERSION:2.0
PRODID:-//YANA Club of Hilton Head Island - ECPv6.11.2//NONSGML v1.0//EN
CALSCALE:GREGORIAN
METHOD:PUBLISH
X-WR-CALNAME:YANA Club of Hilton Head Island
X-ORIGINAL-URL:https://yanaclub.com
X-WR-CALDESC:Events for YANA Club of Hilton Head Island
REFRESH-INTERVAL;VALUE=DURATION:PT1H
X-Robots-Tag:noindex
X-PUBLISHED-TTL:PT1H
BEGIN:VTIMEZONE
TZID:America/New_York
BEGIN:DAYLIGHT
TZOFFSETFROM:-0500
TZOFFSETTO:-0400
TZNAME:EDT
DTSTART:20260308T070000
END:DAYLIGHT
BEGIN:STANDARD
TZOFFSETFROM:-0400
TZOFFSETTO:-0500
TZNAME:EST
DTSTART:20261101T060000
END:STANDARD
END:VTIMEZONE
BEGIN:VEVENT
DTSTART;TZID=America/New_York:20260719T080000
DTEND;TZID=America/New_York:20260719T090000
DTSTAMP:20260421T161515
CREATED:20250507T163100Z
LAST-MODIFIED:20250507T163100Z
UID:10015752-1784448000-1784451600@yanaclub.com
SUMMARY:YANA Sunday Breakfast
DESCRIPTION:
URL:https://yanaclub.com/event/yana-sunday-breakfast/2026-07-19/
CATEGORIES:Recurring YANA Events
END:VEVENT
BEGIN:VEVENT
DTSTART;TZID=America/New_York:20260719T090000
DTEND;TZID=America/New_York:20260719T100000
DTSTAMP:20260421T161515
CREATED:20250507T161539Z
LAST-MODIFIED:20250507T161540Z
UID:10012349-1784451600-1784455200@yanaclub.com
SUMMARY:Breakfast Club
DESCRIPTION:Open /  Speaker Meeting
URL:https://yanaclub.com/event/breakfast-club-2/2026-07-19/
CATEGORIES:AA
END:VEVENT
BEGIN:VEVENT
DTSTART;TZID=America/New_York:20260719T121500
DTEND;TZID=America/New_York:20260719T131500
DTSTAMP:20260421T161515
CREATED:20250507T154857Z
LAST-MODIFIED:20250507T155521Z
UID:10001489-1784463300-1784466900@yanaclub.com
SUMMARY:No Name
DESCRIPTION:Open / Topic Discussion
URL:https://yanaclub.com/event/no-name/2026-07-19/
CATEGORIES:AA
END:VEVENT
BEGIN:VEVENT
DTSTART;TZID=America/New_York:20260719T140000
DTEND;TZID=America/New_York:20260719T140000
DTSTAMP:20260421T161515
CREATED:20250507T161804Z
LAST-MODIFIED:20250507T161804Z
UID:10012873-1784469600-1784469600@yanaclub.com
SUMMARY:Hilton Head ACA
DESCRIPTION:Open / Discussion
URL:https://yanaclub.com/event/hilton-head-aca/2026-07-19/
CATEGORIES:ACA
END:VEVENT
BEGIN:VEVENT
DTSTART;TZID=America/New_York:20260719T153000
DTEND;TZID=America/New_York:20260719T163000
DTSTAMP:20260421T161515
CREATED:20250708T225544Z
LAST-MODIFIED:20251118T002430Z
UID:10017183-1784475000-1784478600@yanaclub.com
SUMMARY:Carolina Recovery MARA
DESCRIPTION:Open Literature Discussion
URL:https://yanaclub.com/event/carolina-mara/2026-07-19/
CATEGORIES:MARA
END:VEVENT
BEGIN:VEVENT
DTSTART;TZID=America/New_York:20260719T183000
DTEND;TZID=America/New_York:20260719T193000
DTSTAMP:20260421T161515
CREATED:20250507T161940Z
LAST-MODIFIED:20250507T161940Z
UID:10013397-1784485800-1784489400@yanaclub.com
SUMMARY:Principles Above Personalities
DESCRIPTION:Closed / Discussion
URL:https://yanaclub.com/event/principles-above-personalities/2026-07-19/
CATEGORIES:AL-ANON
END:VEVENT
BEGIN:VEVENT
DTSTART;TZID=America/New_York:20260719T200000
DTEND;TZID=America/New_York:20260719T210000
DTSTAMP:20260421T161515
CREATED:20250507T162245Z
LAST-MODIFIED:20250513T163108Z
UID:10016659-1784491200-1784494800@yanaclub.com
SUMMARY:Open Arms
DESCRIPTION:
URL:https://yanaclub.com/event/crockpot-meeting-2/2026-07-19/
CATEGORIES:NA
END:VEVENT
END:VCALENDAR