BEGIN:VCALENDAR
VERSION:2.0
PRODID:-//YANA Club of Hilton Head Island - ECPv6.11.2//NONSGML v1.0//EN
CALSCALE:GREGORIAN
METHOD:PUBLISH
X-WR-CALNAME:YANA Club of Hilton Head Island
X-ORIGINAL-URL:https://yanaclub.com
X-WR-CALDESC:Events for YANA Club of Hilton Head Island
REFRESH-INTERVAL;VALUE=DURATION:PT1H
X-Robots-Tag:noindex
X-PUBLISHED-TTL:PT1H
BEGIN:VTIMEZONE
TZID:America/New_York
BEGIN:DAYLIGHT
TZOFFSETFROM:-0500
TZOFFSETTO:-0400
TZNAME:EDT
DTSTART:20260308T070000
END:DAYLIGHT
BEGIN:STANDARD
TZOFFSETFROM:-0400
TZOFFSETTO:-0500
TZNAME:EST
DTSTART:20261101T060000
END:STANDARD
END:VTIMEZONE
BEGIN:VEVENT
DTSTART;TZID=America/New_York:20260501T090000
DTEND;TZID=America/New_York:20260501T100000
DTSTAMP:20260422T003454
CREATED:20250507T155840Z
LAST-MODIFIED:20250507T155840Z
UID:10007581-1777626000-1777629600@yanaclub.com
SUMMARY:SANS (Sober Now Sane)
DESCRIPTION:Open / Discussion
URL:https://yanaclub.com/event/sans-sober-now-sane/2026-05-01/
CATEGORIES:AA
END:VEVENT
BEGIN:VEVENT
DTSTART;TZID=America/New_York:20260501T121500
DTEND;TZID=America/New_York:20260501T131500
DTSTAMP:20260422T003454
CREATED:20250507T154857Z
LAST-MODIFIED:20250507T155521Z
UID:10001410-1777637700-1777641300@yanaclub.com
SUMMARY:No Name
DESCRIPTION:Open / Topic Discussion
URL:https://yanaclub.com/event/no-name/2026-05-01/
CATEGORIES:AA
END:VEVENT
BEGIN:VEVENT
DTSTART;TZID=America/New_York:20260501T121500
DTEND;TZID=America/New_York:20260501T131500
DTSTAMP:20260422T003454
CREATED:20250507T162126Z
LAST-MODIFIED:20250507T162126Z
UID:10014171-1777637700-1777641300@yanaclub.com
SUMMARY:Friday Luncheon AFG
DESCRIPTION:Closed / Discussion
URL:https://yanaclub.com/event/friday-luncheon-afg-2/2026-05-01/
CATEGORIES:AL-ANON
END:VEVENT
BEGIN:VEVENT
DTSTART;TZID=America/New_York:20260501T180000
DTEND;TZID=America/New_York:20260501T190000
DTSTAMP:20260422T003454
CREATED:20250507T161244Z
LAST-MODIFIED:20250507T161244Z
UID:10011816-1777658400-1777662000@yanaclub.com
SUMMARY:Young Peoples
DESCRIPTION:Open / Discussion
URL:https://yanaclub.com/event/young-peoples/2026-05-01/
CATEGORIES:AA
END:VEVENT
BEGIN:VEVENT
DTSTART;TZID=America/New_York:20260501T180000
DTEND;TZID=America/New_York:20260501T190000
DTSTAMP:20260422T003454
CREATED:20250507T161346Z
LAST-MODIFIED:20250507T161346Z
UID:10012077-1777658400-1777662000@yanaclub.com
SUMMARY:Together We Can
DESCRIPTION:Open / Discussion
URL:https://yanaclub.com/event/together-we-can/2026-05-01/
CATEGORIES:AA
END:VEVENT
BEGIN:VEVENT
DTSTART;TZID=America/New_York:20260501T200000
DTEND;TZID=America/New_York:20260501T210000
DTSTAMP:20260422T003454
CREATED:20250507T160652Z
LAST-MODIFIED:20250507T160652Z
UID:10009621-1777665600-1777669200@yanaclub.com
SUMMARY:Grupo Latino
DESCRIPTION:Open / Discussion / Spanish Language
URL:https://yanaclub.com/event/grupo-latino/2026-05-01/
CATEGORIES:AA
END:VEVENT
END:VCALENDAR