BEGIN:VCALENDAR
VERSION:2.0
PRODID:-//YANA Club of Hilton Head Island - ECPv6.11.2//NONSGML v1.0//EN
CALSCALE:GREGORIAN
METHOD:PUBLISH
X-ORIGINAL-URL:https://yanaclub.com
X-WR-CALDESC:Events for YANA Club of Hilton Head Island
REFRESH-INTERVAL;VALUE=DURATION:PT1H
X-Robots-Tag:noindex
X-PUBLISHED-TTL:PT1H
BEGIN:VTIMEZONE
TZID:America/New_York
BEGIN:DAYLIGHT
TZOFFSETFROM:-0500
TZOFFSETTO:-0400
TZNAME:EDT
DTSTART:20250309T070000
END:DAYLIGHT
BEGIN:STANDARD
TZOFFSETFROM:-0400
TZOFFSETTO:-0500
TZNAME:EST
DTSTART:20251102T060000
END:STANDARD
END:VTIMEZONE
BEGIN:VEVENT
DTSTART;TZID=America/New_York:20251026T080000
DTEND;TZID=America/New_York:20251026T090000
DTSTAMP:20260421T181319
CREATED:20250507T163100Z
LAST-MODIFIED:20250507T163100Z
UID:10015714-1761465600-1761469200@yanaclub.com
SUMMARY:YANA Sunday Breakfast
DESCRIPTION:
URL:https://yanaclub.com/event/yana-sunday-breakfast/2025-10-26/
CATEGORIES:Recurring YANA Events
END:VEVENT
BEGIN:VEVENT
DTSTART;TZID=America/New_York:20251026T090000
DTEND;TZID=America/New_York:20251026T100000
DTSTAMP:20260421T181319
CREATED:20250507T161539Z
LAST-MODIFIED:20250507T161540Z
UID:10012311-1761469200-1761472800@yanaclub.com
SUMMARY:Breakfast Club
DESCRIPTION:Open /  Speaker Meeting
URL:https://yanaclub.com/event/breakfast-club-2/2025-10-26/
CATEGORIES:AA
END:VEVENT
BEGIN:VEVENT
DTSTART;TZID=America/New_York:20251026T121500
DTEND;TZID=America/New_York:20251026T131500
DTSTAMP:20260421T181319
CREATED:20250507T154857Z
LAST-MODIFIED:20250507T155521Z
UID:10001223-1761480900-1761484500@yanaclub.com
SUMMARY:No Name
DESCRIPTION:Open / Topic Discussion
URL:https://yanaclub.com/event/no-name/2025-10-26/
CATEGORIES:AA
END:VEVENT
BEGIN:VEVENT
DTSTART;TZID=America/New_York:20251026T140000
DTEND;TZID=America/New_York:20251026T140000
DTSTAMP:20260421T181319
CREATED:20250507T161804Z
LAST-MODIFIED:20250507T161804Z
UID:10012835-1761487200-1761487200@yanaclub.com
SUMMARY:Hilton Head ACA
DESCRIPTION:Open / Discussion
URL:https://yanaclub.com/event/hilton-head-aca/2025-10-26/
CATEGORIES:ACA
END:VEVENT
BEGIN:VEVENT
DTSTART;TZID=America/New_York:20251026T153000
DTEND;TZID=America/New_York:20251026T163000
DTSTAMP:20260421T181319
CREATED:20250708T225544Z
LAST-MODIFIED:20251118T002430Z
UID:10017145-1761492600-1761496200@yanaclub.com
SUMMARY:Carolina Recovery MARA
DESCRIPTION:Open Literature Discussion
URL:https://yanaclub.com/event/carolina-mara/2025-10-26/
CATEGORIES:MARA
END:VEVENT
BEGIN:VEVENT
DTSTART;TZID=America/New_York:20251026T183000
DTEND;TZID=America/New_York:20251026T193000
DTSTAMP:20260421T181319
CREATED:20250507T161940Z
LAST-MODIFIED:20250507T161940Z
UID:10013359-1761503400-1761507000@yanaclub.com
SUMMARY:Principles Above Personalities
DESCRIPTION:Closed / Discussion
URL:https://yanaclub.com/event/principles-above-personalities/2025-10-26/
CATEGORIES:AL-ANON
END:VEVENT
BEGIN:VEVENT
DTSTART;TZID=America/New_York:20251026T200000
DTEND;TZID=America/New_York:20251026T210000
DTSTAMP:20260421T181319
CREATED:20250507T162245Z
LAST-MODIFIED:20250513T163108Z
UID:10016621-1761508800-1761512400@yanaclub.com
SUMMARY:Open Arms
DESCRIPTION:
URL:https://yanaclub.com/event/crockpot-meeting-2/2025-10-26/
CATEGORIES:NA
END:VEVENT
END:VCALENDAR